Workbook
Name _1516_AFS_Location_Excel: #REF!
Name _1516_AFS_Location_Excel: #REF!
Name _1516_AFS_Location_Excel: #REF!
Name _1516_AFS_Location_Excel: #REF!
Name _1516_AFS_Location_Excel: #REF!
Name _1516_AFS_Location_Excel: #REF!
Name activity2014: '[2]2014A Data'!$A$2:$FZ$133
Name activity2014: '2014A'!$A$2:$GH$5
Name activity2015: '[2]2015A Data'!$A$2:$FY$133
Name activity2015: '[3]2015A Data'!$A$2:$FY$133
Name activity2015: '2015A'!$A$2:$GV$5
Name activity2015f: '[4]2015A Data'!$A$2:$FY$133
Name activity2016: '2016A'!$A$2:$FZ$5
Name activity2017: '[5]2017A'!$A$1:$GK$119
Name activity2017a: '2017A'!$A$1:$GK$5
Name All_organisations: '2015A'!#REF!
Name all_organisationse: '2015E'!#REF!
Name alldata2014: '[6]2014 merged'!$A$2:$BN$138
Name alldata2014: '[7]2014 merged'!$A$2:$BN$126
Name alldata2014f: '2014F'!$A$2:$BN$5
Name alldata2015: '[6]2015 merged'!$A$2:$BN$133
Name alldata2015: '[7]2015 merged'!$A$2:$BN$121
Name alldata2015f: '2015F'!$A$2:$BN$5
Name alldata2016: '2016F'!$A$2:$BQ$5
Name employment2014: '2014A'!$B$2:$N$5
Name employment2014_2: '2014A'!#REF!
Name employment2014_2e: '2014E'!#REF!
Name employment2014_3: '[8]2014E Data'!$A$2:$LD$138
Name employment2014_3: '2014A'!$A$2:$N$5
Name employment2014_3e: '2014E'!$A$2:$LD$5
Name employment2014e: '2014E'!$B$2:$LD$5
Name employment2015: '2015A'!$B$2:$KX$5
Name employment2015_2: '[8]2015E Data'!$A$2:$LD$133
Name employment2015_2: '2015A'!$A$2:$KX$5
Name employment2015_2e: '2015E'!$A$2:$LL$5
Name employment2015e: '2015E'!$B$2:$LL$5
Name employment2016_1: '2016E'!$A$1:$LL$5
Name Employment2017: '2017E'!$A$1:$LK$5
Name expenditure1516: '2015F'!$A$6:$AI$21
Name finace3: #REF!
Name finace3: #REF!
Name finace3: #REF!
Name finace3: #REF!
Name finance2: #REF!
Name finance2: #REF!
Name finance2: #REF!
Name finance2: #REF!
Name finance2: #REF!
Name finance2: #REF!
Name finance2: #REF!
Name finance2: #REF!
Name finance2: #REF!
Name finance2014: '2014F'!$A$1:$BP$5
Name finance2e: #REF!
Name finance2e: #REF!
Name finance2e: #REF!
Name finance2e: #REF!
Name finance2e: #REF!
Name finance2e: #REF!
Name finance2f: #REF!

Sheet 2014E
A1: Name | B1: Finance Year | C1: ID | D1: Fund | E1: reference number | F1: Staff Person | G1: Type | H1: Status | I1: Organisation Size | J1: award | K1: Programming | L1: request | M1: cost | N1: artform | O1: Qu1-01_PermanentStaff| Full-time Artist | Male | P1: Qu1-01_PermanentStaff| Full-time Artist | Female | Q1: Qu1-01_PermanentStaff| Part-time Artist | Male | R1: Qu1-01_PermanentStaff| Part-time Artist | Female | S1: Qu1-01_PermanentStaff| Full-time Managers | Male | T1: Qu1-01_PermanentStaff| Full-time Managers | Female | U1: Qu1-01_PermanentStaff| Part-time Managers | Male | V1: Qu1-01_PermanentStaff| Part-time Managers | Female | W1: Qu1-01_PermanentStaff| Full-time Other Staff | Male | X1: Qu1-01_PermanentStaff| Full-time Other Staff | Female | Y1: Qu1-01_PermanentStaff| Part-time Other Staff | Male | Z1: Qu1-01_PermanentStaff| Part-time Other Staff | Female | AA1: Qu1-01_PermanentStaff| Total | Male | AB1: Qu1-01_PermanentStaff| Total Female | AC1: Qu1-01_PermanentStaff| Total | AD1: Qu1-02_ContractStaff| Artistic Staff | Male | AE1: Qu1-02_ContractStaff| Artistic Staff | Female | AF1: Qu1-02_ContractStaff| Managers | Male | AG1: Qu1-02_ContractStaff| Managers | Female | AH1: Qu1-02_ContractStaff| Other Staff | Male | AI1: Qu1-02_ContractStaff| Other Staff | Female | AJ1: Qu1-02_ContractStaff| Total | Male | AK1: Qu1-02_ContractStaff| Total | Female | AL1: Qu1-02_ContractStaff| Total | AM1: Qu1-03_VolNumbers|Number of volunteers| Male | AN1: Qu1-03_VolNumbers|Number of volunteers| Female | AO1: Total volunteers | AP1: Qu1-04_Volhrs|Number of hours worked| Hours worked | AQ1: Qu1-05_Ethnicity| White |Board Members|Male | AR1: Qu1-05_Ethnicity| White |Board Members|Female | AS1: Qu1-05_Ethnicity| Irish Traveller |Board Members|Male | AT1: Qu1-05_Ethnicity| Irish Traveller |Board Members|Female | AU1: Qu1-05_Ethnicity| Chinese |Board Members|Male | AV1: Qu1-05_Ethnicity| Chinese |Board Members|Female | AW1: Qu1-05_Ethnicity| Indian |Board Members|Male | AX1: Qu1-05_Ethnicity| Indian |Board Members|Female | AY1: Qu1-05_Ethnicity| Pakistani |Board Members|Male | AZ1: Qu1-05_Ethnicity| Pakistani |Board Members|Female | BA1: Qu1-05_Ethnicity| Bangladeshi |Board Members|Male | BB1: Qu1-05_Ethnicity| Bangladeshi |Board Members|Female | BC1: Qu1-05_Ethnicity| Other Asian |Board Members|Male | BD1: Qu1-05_Ethnicity| Other Asian |Board Members|Female | BE1: Qu1-05_Ethnicity| Black Caribbean |Board Members|Male | BF1: Qu1-05_Ethnicity| Black Caribbean |Board Members|Female | BG1: Qu1-05_Ethnicity| Black African |Board Members|Male | BH1: Qu1-05_Ethnicity| Black African |Board Members|Female | BI1: Qu1-05_Ethnicity| Black Other |Board Members|Male | BJ1: Qu1-05_Ethnicity| Black Other |Board Members|Female | BK1: Qu1-05_Ethnicity| Mixed ethnic group |Board Members|Male | BL1: Qu1-05_Ethnicity| Mixed ethnic group |Board Members|Female | BM1: Qu1-05_Ethnicity| Other ethnic group |Board Members|Male | BN1: Qu1-05_Ethnicity| Other ethnic group |Board Members|Female | BO1: Qu1-05_Ethnicity| Unspecified or not collected |Board Members|Male | BP1: Qu1-05_Ethnicity| Unspecified or not collected |Board Members|Female | BQ1: Qu1-05_Ethnicity| Total |Board Members|Male | BR1: Qu1-05_Ethnicity| Total |Board Members | BS1: Qu1-05_Ethnicity| Total |Board Members | BT1: Qu1-05_Ethnicity| White |Artistic Staff|Male | BU1: Qu1-05_Ethnicity| White |Artistic Staff|Female | BV1: Qu1-05_Ethnicity| Irish Traveller |Artistic Staff|Male | BW1: Qu1-05_Ethnicity| Irish Traveller |Artistic Staff|Female | BX1: Qu1-05_Ethnicity| Chinese |Artistic Staff|Male | BY1: Qu1-05_Ethnicity| Chinese |Artistic Staff|Female | BZ1: Qu1-05_Ethnicity| Indian |Artistic Staff|Male | CA1: Qu1-05_Ethnicity| Indian |Artistic Staff|Female | CB1: Qu1-05_Ethnicity| Pakistani |Artistic Staff|Male | CC1: Qu1-05_Ethnicity| Pakistani |Artistic Staff|Female | CD1: Qu1-05_Ethnicity| Bangladeshi |Artistic Staff|Male | CE1: Qu1-05_Ethnicity| Bangladeshi |Artistic Staff|Female | CF1: Qu1-05_Ethnicity| Other Asian |Artistic Staff|Male | CG1: Qu1-05_Ethnicity| Other Asian |Artistic Staff|Female | CH1: Qu1-05_Ethnicity| Black Caribbean |Artistic Staff|Male | CI1: Qu1-05_Ethnicity| Black Caribbean |Artistic Staff|Female | CJ1: Qu1-05_Ethnicity| Black African |Artistic Staff|Male | CK1: Qu1-05_Ethnicity| Black African |Artistic Staff|Female | CL1: Qu1-05_Ethnicity| Black Other |Artistic Staff|Male | CM1: Qu1-05_Ethnicity| Black Other |Artistic Staff|Female | CN1: Qu1-05_Ethnicity| Mixed ethnic group |Artistic Staff|Male | CO1: Qu1-05_Ethnicity| Mixed ethnic group |Artistic Staff|Female | CP1: Qu1-05_Ethnicity| Other ethnic group |Artistic Staff|Male | CQ1: Qu1-05_Ethnicity| Other ethnic group |Artistic Staff|Female | CR1: Qu1-05_Ethnicity| Unspecified or not collected |Artistic Staff|Male | CS1: Qu1-05_Ethnicity| Unspecified or not collected |Artistic Staff|Female | CT1: Ethnicity Artistic Staff Total Male | CU1: Ethnicity Artistic Staff Total Female | CV1: Ethnicity Artistic Staff Total | CW1: Qu1-05_Ethnicity| White |Managers|Male | CX1: Qu1-05_Ethnicity| White |Managers|Female | CY1: Qu1-05_Ethnicity| Irish Traveller |Managers|Male | CZ1: Qu1-05_Ethnicity| Irish Traveller |Managers|Female | DA1: Qu1-05_Ethnicity| Chinese |Managers|Male | DB1: Qu1-05_Ethnicity| Chinese |Managers|Female | DC1: Qu1-05_Ethnicity| Indian |Managers|Male | DD1: Qu1-05_Ethnicity| Indian |Managers|Female | DE1: Qu1-05_Ethnicity| Pakistani |Managers|Male | DF1: Qu1-05_Ethnicity| Pakistani |Managers|Female | DG1: Qu1-05_Ethnicity| Bangladeshi |Managers|Male | DH1: Qu1-05_Ethnicity| Bangladeshi |Managers|Female | DI1: Qu1-05_Ethnicity| Other Asian |Managers|Male | DJ1: Qu1-05_Ethnicity| Other Asian |Managers|Female | DK1: Qu1-05_Ethnicity| Black Caribbean |Managers|Male | DL1: Qu1-05_Ethnicity| Black Caribbean |Managers|Female | DM1: Qu1-05_Ethnicity| Black African |Managers|Male | DN1: Qu1-05_Ethnicity| Black African |Managers|Female | DO1: Qu1-05_Ethnicity| Black Other |Managers|Male | DP1: Qu1-05_Ethnicity| Black Other |Managers|Female | DQ1: Qu1-05_Ethnicity| Mixed ethnic group |Managers|Male | DR1: Qu1-05_Ethnicity| Mixed ethnic group |Managers|Female | DS1: Qu1-05_Ethnicity| Other ethnic group |Managers|Male | DT1: Qu1-05_Ethnicity| Other ethnic group |Managers|Female | DU1: Qu1-05_Ethnicity| Unspecified or not collected |Managers|Male | DV1: Qu1-05_Ethnicity| Unspecified or not collected |Managers|Female | DW1: Qu1-05_Ethnicity| Total |Managers|Male | DX1: Qu1-05_Ethnicity| Total |Managers|Female | DY1: Qu1-05_Ethnicity| Total |Managers | DZ1: Qu1-05_Ethnicity| White |Other Staff|Male | EA1: Qu1-05_Ethnicity| White |Other Staff|Female | EB1: Qu1-05_Ethnicity| Irish Traveller |Other Staff|Male | EC1: Qu1-05_Ethnicity| Irish Traveller |Other Staff|Female | ED1: Qu1-05_Ethnicity| Chinese |Other Staff|Male | EE1: Qu1-05_Ethnicity| Chinese |Other Staff|Female | EF1: Qu1-05_Ethnicity| Indian |Other Staff|Male | EG1: Qu1-05_Ethnicity| Indian |Other Staff|Female | EH1: Qu1-05_Ethnicity| Pakistani |Other Staff|Male | EI1: Qu1-05_Ethnicity| Pakistani |Other Staff|Female | EJ1: Qu1-05_Ethnicity| Bangladeshi |Other Staff|Male | EK1: Qu1-05_Ethnicity| Bangladeshi |Other Staff|Female | EL1: Qu1-05_Ethnicity| Other Asian |Other Staff|Male | EM1: Qu1-05_Ethnicity| Other Asian |Other Staff|Female | EN1: Qu1-05_Ethnicity| Black Caribbean |Other Staff|Male | EO1: Qu1-05_Ethnicity| Black Caribbean |Other Staff|Female | EP1: Qu1-05_Ethnicity| Black African |Other Staff|Male | EQ1: Qu1-05_Ethnicity| Black African |Other Staff|Female | ER1: Qu1-05_Ethnicity| Black Other |Other Staff|Male | ES1: Qu1-05_Ethnicity| Black Other |Other Staff|Female | ET1: Qu1-05_Ethnicity| Mixed ethnic group |Other Staff|Male | EU1: Qu1-05_Ethnicity| Mixed ethnic group |Other Staff|Female | EV1: Qu1-05_Ethnicity| Other ethnic group |Other Staff|Male | EW1: Qu1-05_Ethnicity| Other ethnic group |Other Staff|Female | EX1: Qu1-05_Ethnicity| Unspecified or not collected |Other Staff|Male | EY1: Qu1-05_Ethnicity| Unspecified or not collected |Other Staff|Female | EZ1: Qu1-05_Ethnicity| Total |Other Staff|Male | FA1: Qu1-05_Ethnicity| Total |Other Staff | FB1: Qu1-05_Ethnicity| Total |Other Staff|Female | FC1: Qu1-06_Disability| Board Members |Male | FD1: Qu1-06_Disability| Board Members |Female | FE1: Qu1-06_Disability| Artistic Staff |Male | FF1: Qu1-06_Disability| Artistic Staff |Female | FG1: Qu1-06_Disability| Managers |Male | FH1: Qu1-06_Disability| Managers |Female | FI1: Qu1-06_Disability| Other Staff |Male | FJ1: Qu1-06_Disability| Other Staff |Female | FK1: Qu1-06_Disability| Volunteers |Male | FL1: Qu1-06_Disability| Volunteers |Female | FM1: Qu1-06_Disability| Totals |Male | FN1: Qu1-06_Disability| Totals | FO1: Qu1-06_Disability| Totals |Female | FP1: Qu1-07_Age| Board Members |16 to 24 years|Male | FQ1: Qu1-07_Age| Board Members |16 to 24 years|Female | FR1: Qu1-07_Age| Board Members |25 to 34 years|Male | FS1: Qu1-07_Age| Board Members |25 to 34 years|Female | FT1: Qu1-07_Age| Board Members |35 to 44 years|Male | FU1: Qu1-07_Age| Board Members |35 to 44 years|Female | FV1: Qu1-07_Age| Board Members |45 to 54 years|Male | FW1: Qu1-07_Age| Board Members |45 to 54 years|Female | FX1: Qu1-07_Age| Board Members |55 to 64 years|Male | FY1: Qu1-07_Age| Board Members |55 to 64 years|Female | FZ1: Qu1-07_Age| Board Members |65+ years|Male | GA1: Qu1-07_Age| Board Members |65+ years|Female | GB1: Qu1-07_Age| Board Members |Female | GC1: Qu1-07_Age| Board Members |Male | GD1: Qu1-07_Age| Board Members | GE1: Qu1-07_Age| Artistic Staff |16 to 24 years|Male | GF1: Qu1-07_Age| Artistic Staff |16 to 24 years|Female | GG1: Qu1-07_Age| Artistic Staff |25 to 34 years|Male | GH1: Qu1-07_Age| Artistic Staff |25 to 34 years|Female | GI1: Qu1-07_Age| Artistic Staff |35 to 44 years|Male | GJ1: Qu1-07_Age| Artistic Staff |35 to 44 years|Female | GK1: Qu1-07_Age| Artistic Staff |45 to 54 years|Male | GL1: Qu1-07_Age| Artistic Staff |45 to 54 years|Female | GM1: Qu1-07_Age| Artistic Staff |55 to 64 years|Male | GN1: Qu1-07_Age| Artistic Staff |55 to 64 years|Female | GO1: Qu1-07_Age| Artistic Staff |65+ years|Male | GP1: Qu1-07_Age| Artistic Staff |65+ years|Female | GQ1: Qu1-07_Age| Artistic Staff |Female | GR1: Qu1-07_Age| Artistic Staff |Male | GS1: Qu1-07_Age| Artistic Staff | GT1: Qu1-07_Age| Managers |16 to 24 years|Male | GU1: Qu1-07_Age| Managers |16 to 24 years|Female | GV1: Qu1-07_Age| Managers |25 to 34 years|Male | GW1: Qu1-07_Age| Managers |25 to 34 years|Female | GX1: Qu1-07_Age| Managers |35 to 44 years|Male | GY1: Qu1-07_Age| Managers |35 to 44 years|Female | GZ1: Qu1-07_Age| Managers |45 to 54 years|Male | HA1: Qu1-07_Age| Managers |45 to 54 years|Female | HB1: Qu1-07_Age| Managers |55 to 64 years|Male | HC1: Qu1-07_Age| Managers |55 to 64 years|Female | HD1: Qu1-07_Age| Managers |65+ years|Male | HE1: Qu1-07_Age| Managers |65+ years|Female | HF1: Qu1-07_Age| Managers |Female | HG1: Qu1-07_Age| Managers |Male | HH1: Qu1-07_Age| Managers | HI1: Qu1-07_Age| Other Staff |16 to 24 years|Male | HJ1: Qu1-07_Age| Other Staff |16 to 24 years|Female | HK1: Qu1-07_Age| Other Staff |25 to 34 years|Male | HL1: Qu1-07_Age| Other Staff |25 to 34 years|Female | HM1: Qu1-07_Age| Other Staff |35 to 44 years|Male | HN1: Qu1-07_Age| Other Staff |35 to 44 years|Female | HO1: Qu1-07_Age| Other Staff |45 to 54 years|Male | HP1: Qu1-07_Age| Other Staff |45 to 54 years|Female | HQ1: Qu1-07_Age| Other Staff |55 to 64 years|Male | HR1: Qu1-07_Age| Other Staff |55 to 64 years|Female | HS1: Qu1-07_Age| Other Staff |65+ years|Male | HT1: Qu1-07_Age| Other Staff |65+ years|Female | HU1: Qu1-07_Age| Other Staff |Female | HV1: Qu1-07_Age| Other Staff |Male | HW1: Qu1-07_Age| Other Staff | HX1: Qu1-07_Age| Volunteers |16 to 24 years|Male | HY1: Qu1-07_Age| Volunteers |16 to 24 years|Female | HZ1: Qu1-07_Age| Volunteers |25 to 34 years|Male | IA1: Qu1-07_Age| Volunteers |25 to 34 years|Female | IB1: Qu1-07_Age| Volunteers |35 to 44 years|Male | IC1: Qu1-07_Age| Volunteers |35 to 44 years|Female | ID1: Qu1-07_Age| Volunteers |45 to 54 years|Male | IE1: Qu1-07_Age| Volunteers |45 to 54 years|Female | IF1: Qu1-07_Age| Volunteers |55 to 64 years|Male | IG1: Qu1-07_Age| Volunteers |55 to 64 years|Female | IH1: Qu1-07_Age| Volunteers |65+ years|Male | II1: Qu1-07_Age| Volunteers |65+ years|Female | IJ1: Qu1-07_Age| Volunteers |Female | IK1: Qu1-07_Age| Volunteers |Male | IL1: Qu1-07_Age| Volunteers | IM1: Qu1-08_Religion| Roman Catholic |Board Members|Male | IN1: Qu1-08_Religion| Roman Catholic |Board Members|Female | IO1: Qu1-08_Religion| Protestant |Board Members|Male | IP1: Qu1-08_Religion| Protestant |Board Members|Female | IQ1: Qu1-08_Religion| Other Religious Faith |Board Members|Male | IR1: Qu1-08_Religion| Other Religious Faith |Board Members|Female | IS1: Qu1-08_Religion| None |Board Members|Male | IT1: Qu1-08_Religion| None |Board Members|Female | IU1: Qu1-08_Religion| Unspecified or Not Collected |Board Members|Male | IV1: Qu1-08_Religion| Unspecified or Not Collected |Board Members|Female | IW1: Qu1-08_Religion| Totals |Board Members|Male | IX1: Qu1-08_Religion| Totals |Board Members|Female | IY1: Qu1-08_Religion| Totals |Board Members| | IZ1: Qu1-08_Religion| Roman Catholic |Artistic Staff|Male | JA1: Qu1-08_Religion| Roman Catholic |Artistic Staff|Female | JB1: Qu1-08_Religion| Protestant |Artistic Staff|Male | JC1: Qu1-08_Religion| Protestant |Artistic Staff|Female | JD1: Qu1-08_Religion| Other Religious Faith |Artistic Staff|Male | JE1: Qu1-08_Religion| Other Religious Faith |Artistic Staff|Female | JF1: Qu1-08_Religion| None |Artistic Staff|Male | JG1: Qu1-08_Religion| None |Artistic Staff|Female | JH1: Qu1-08_Religion| Unspecified or Not Collected |Artistic Staff|Male | JI1: Qu1-08_Religion| Unspecified or Not Collected |Artistic Staff|Female | JJ1: Qu1-08_Religion| Totals |Artistic Staff|Male | JK1: Qu1-08_Religion| Totals |Artistic Staff | JL1: Qu1-08_Religion| Totals |Artistic Staff | JM1: Qu1-08_Religion| Roman Catholic |Managers|Male | JN1: Qu1-08_Religion| Roman Catholic |Managers|Female | JO1: Qu1-08_Religion| Protestant |Managers|Male | JP1: Qu1-08_Religion| Protestant |Managers|Female | JQ1: Qu1-08_Religion| Other Religious Faith |Managers|Male | JR1: Qu1-08_Religion| Other Religious Faith |Managers|Female | JS1: Qu1-08_Religion| None |Managers|Male | JT1: Qu1-08_Religion| None |Managers|Female | JU1: Qu1-08_Religion| Unspecified or Not Collected |Managers|Male | JV1: Qu1-08_Religion| Unspecified or Not Collected |Managers|Female | JW1: Qu1-08_Religion| Totals |Managers|Male | JX1: Qu1-08_Religion| Totals |Managers|Female | JY1: Qu1-08_Religion| Totals |Managers | JZ1: Qu1-08_Religion| Roman Catholic |Other Staff|Male | KA1: Qu1-08_Religion| Roman Catholic |Other Staff|Female | KB1: Qu1-08_Religion| Protestant |Other Staff|Male | KC1: Qu1-08_Religion| Protestant |Other Staff|Female | KD1: Qu1-08_Religion| Other Religious Faith |Other Staff|Male | KE1: Qu1-08_Religion| Other Religious Faith |Other Staff|Female | KF1: Qu1-08_Religion| None |Other Staff|Male | KG1: Qu1-08_Religion| None |Other Staff|Female | KH1: Qu1-08_Religion| Unspecified or Not Collected |Other Staff|Male | KI1: Qu1-08_Religion| Unspecified or Not Collected |Other Staff|Female | KJ1: Qu1-08_Religion| Totals |Other Staff|Male | KK1: Qu1-08_Religion| Totals |Other Staff|Female | KL1: Qu1-08_Religion| Totals |Other Staff | KM1: xxxQu1-09_CDPExists| Yes | KN1: xxxQu1-09_CDPExists| No | KO1: Qu1-09_CDPOffered| Yes | KP1: Qu1-09_CDPOffered| No | KQ1: Qu1-10_CDPCourses| Leadership, management &amp; business skills |Number | KR1: Qu1-10_CDPCourses| Personal, effectiveness &amp; behavioural skills |Number | KS1: Qu1-10_CDPCourses| Performance &amp; reward skills |Number | KT1: Qu1-10_CDPCourses| Human resources |Number | KU1: Qu1-10_CDPCourses| Learning &amp; development |Number | KV1: Qu1-10_CDPCourses| Organisation, development &amp; design |Number | KW1: Qu1-10_CDPCourses| Artistic practice |Number | KX1: Qu1-10_CDPCourses| Other types of continuous professional development |Number | KY1: Courses total | KZ1: Qu1-11_Apprenticeships| Paid internships |Total Number | LA1: Qu1-11_Apprenticeships| Formal apprenticeships |Total Number | LB1: Qu1-11_Apprenticeships| Unaccredited apprenticeships |Total Number | LC1: Qu1-11_Apprenticeships| Work experience for students at school or in further/higher education |Total Number | LD1: Apprenticeship total | LE1: Homebase | LF1: Homebase 2
A2: All organisations | B2: 114 | C2: 0 | D2: 0 | E2: 0 | F2: 0 | G2: 0 | H2: 0 | I2: 0 | J2: 14149573 | K2: 0 | L2: 13146012 | M2: 37320681 | N2: 0 | O2: 63 | P2: 48 | Q2: 7 | R2: 15 | S2: 69 | T2: 100 | U2: 9 | V2: 36 | W2: 104 | X2: 106 | Y2: 136 | Z2: 225 | AA2: 388 | AB2: 530 | AC2: 918 | AD2: 2005 | AE2: 2116 | AF2: 32 | AG2: 79 | AH2: 269 | AI2: 259 | AJ2: 2306 | AK2: 2454 | AL2: 4760 | AM2: 1206 | AN2: 2011 | AO2: 3217 | AP2: 81831 | AQ2: 449 | AR2: 358 | AS2: 0 | AT2: 0 | AU2: 0 | AV2: 0 | AW2: 3 | AX2: 4 | AY2: 0 | AZ2: 0 | BA2: 0 | BB2: 1 | BC2: 0 | BD2: 0 | BE2: 0 | BF2: 0 | BG2: 1 | BH2: 1 | BI2: 0 | BJ2: 0 | BK2: 0 | BL2: 0 | BM2: 1 | BN2: 0 | BO2: 21 | BP2: 10 | BQ2: 475 | BR2: 374 | BS2: 849 | BT2: 1122.5 | BU2: 1114 | BV2: 0 | BW2: 1 | BX2: 1 | BY2: 1 | BZ2: 1 | CA2: 4 | CB2: 1 | CC2: 0 | CD2: 0 | CE2: 0 | CF2: 0 | CG2: 0 | CH2: 0 | CI2: 1 | CJ2: 4 | CK2: 3 | CL2: 2 | CM2: 1 | CN2: 4 | CO2: 11 | CP2: 15 | CQ2: 18 | CR2: 472 | CS2: 572 | CT2: 1622.5 | CU2: 1726 | CV2: 3348.5 | CW2: 94.5 | CX2: 186 | CY2: 0 | CZ2: 0 | DA2: 0 | DB2: 0 | DC2: 1 | DD2: 2 | DE2: 0 | DF2: 0 | DG2: 0 | DH2: 0 | DI2: 0 | DJ2: 0 | DK2: 0 | DL2: 0 | DM2: 0 | DN2: 0 | DO2: 0 | DP2: 0 | DQ2: 0 | DR2: 0 | DS2: 0 | DT2: 2 | DU2: 4 | DV2: 6 | DW2: 99.5 | DX2: 196 | DY2: 295.5 | DZ2: 347 | EA2: 467 | EB2: 0 | EC2: 0 | ED2: 0 | EE2: 0 | EF2: 0 | EG2: 2 | EH2: 0 | EI2: 0 | EJ2: 0 | EK2: 0 | EL2: 0 | EM2: 0 | EN2: 3 | EO2: 1 | EP2: 1 | EQ2: 1 | ER2: 0 | ES2: 0 | ET2: 2 | EU2: 2 | EV2: 1 | EW2: 2 | EX2: 72 | EY2: 101 | EZ2: 426 | FA2: 576 | FB2: 1002 | FC2: 63 | FD2: 38 | FE2: 27 | FF2: 18 | FG2: 5 | FH2: 6 | FI2: 14 | FJ2: 18 | FK2: 68 | FL2: 74 | FM2: 177 | FN2: 154 | FO2: 331 | FP2: 8 | FQ2: 5 | FR2: 28 | FS2: 40 | FT2: 81 | FU2: 119 | FV2: 148 | FW2: 112 | FX2: 117 | FY2: 60 | FZ2: 74 | GA2: 22 | GB2: 456 | GC2: 358 | GD2: 814 | GE2: 153 | GF2: 158 | GG2: 347 | GH2: 438 | GI2: 365 | GJ2: 385 | GK2: 221 | GL2: 217 | GM2: 92 | GN2: 88 | GO2: 32.5 | GP2: 30 | GQ2: 1210.5 | GR2: 1316 | GS2: 2526.5 | GT2: 0 | GU2: 7 | GV2: 21 | GW2: 64 | GX2: 31 | GY2: 68 | GZ2: 34 | HA2: 38 | HB2: 10 | HC2: 9 | HD2: 3.5 | HE2: 1 | HF2: 99.5 | HG2: 187 | HH2: 286.5 | HI2: 41 | HJ2: 70 | HK2: 136 | HL2: 173 | HM2: 86 | HN2: 143 | HO2: 60 | HP2: 84 | HQ2: 22 | HR2: 25 | HS2: 2 | HT2: 10 | HU2: 347 | HV2: 505 | HW2: 852 | HX2: 251 | HY2: 397 | HZ2: 192 | IA2: 294 | IB2: 149 | IC2: 269 | ID2: 105 | IE2: 251 | IF2: 79 | IG2: 90 | IH2: 35 | II2: 41 | IJ2: 811 | IK2: 1342 | IL2: 2153 | IM2: 77 | IN2: 65 | IO2: 54 | IP2: 45 | IQ2: 3 | IR2: 4 | IS2: 8 | IT2: 14 | IU2: 307 | IV2: 228 | IW2: 449 | IX2: 356 | IY2: 805 | IZ2: 115 | JA2: 128 | JB2: 49 | JC2: 66 | JD2: 6 | JE2: 8 | JF2: 13 | JG2: 13 | JH2: 1348 | JI2: 1410 | JJ2: 1531 | JK2: 1625 | JL2: 3156 | JM2: 26 | JN2: 43 | JO2: 15 | JP2: 18 | JQ2: 2 | JR2: 1 | JS2: 5 | JT2: 13 | JU2: 51 | JV2: 108 | JW2: 99 | JX2: 183 | JY2: 282 | JZ2: 101 | KA2: 146 | KB2: 41 | KC2: 78 | KD2: 1 | KE2: 5 | KF2: 3 | KG2: 6 | KH2: 325 | KI2: 530 | KJ2: 471 | KK2: 765 | KL2: 1236 | KM2: 65 | KN2: 40 | KO2: 62 | KP2: 1 | KQ2: 191 | KR2: 189 | KS2: 99 | KT2: 57 | KU2: 268 | KV2: 113 | KW2: 291 | KX2: 215 | KY2: 1423 | KZ2: 54 | LA2: 19 | LB2: 310 | LC2: 394 | LD2: 777
A3: Small | B3: 53 | C3: 0 | D3: 0 | E3: 0 | F3: 0 | G3: 0 | H3: 0 | I3: 0 | J3: 2956777 | K3: 0 | L3: 0 | M3: 0 | N3: 0 | O3: 8 | P3: 7 | Q3: 4 | R3: 4 | S3: 14 | T3: 21 | U3: 4 | V3: 11 | W3: 3 | X3: 11 | Y3: 11 | Z3: 22 | AA3: 44 | AB3: 76 | AC3: 120 | AD3: 757 | AE3: 759 | AF3: 9 | AG3: 16 | AH3: 94 | AI3: 86 | AJ3: 860 | AK3: 861 | AL3: 1721 | AM3: 281 | AN3: 432 | AO3: 713 | AP3: 20453 | AQ3: 211 | AR3: 177 | AS3: 0 | AT3: 0 | AU3: 0 | AV3: 0 | AW3: 0 | AX3: 3 | AY3: 0 | AZ3: 0 | BA3: 0 | BB3: 0 | BC3: 0 | BD3: 0 | BE3: 0 | BF3: 0 | BG3: 1 | BH3: 1 | BI3: 0 | BJ3: 0 | BK3: 0 | BL3: 0 | BM3: 1 | BN3: 0 | BO3: 5 | BP3: 2 | BQ3: 218 | BR3: 183 | BS3: 401 | BT3: 378 | BU3: 355 | BV3: 0 | BW3: 0 | BX3: 1 | BY3: 1 | BZ3: 1 | CA3: 3 | CB3: 0 | CC3: 0 | CD3: 0 | CE3: 0 | CF3: 0 | CG3: 0 | CH3: 0 | CI3: 0 | CJ3: 0 | CK3: 0 | CL3: 1 | CM3: 1 | CN3: 2 | CO3: 2 | CP3: 7 | CQ3: 10 | CR3: 296 | CS3: 285 | CT3: 686 | CU3: 657 | CV3: 1343 | CW3: 20 | CX3: 38 | CY3: 0 | CZ3: 0 | DA3: 0 | DB3: 0 | DC3: 0 | DD3: 0 | DE3: 0 | DF3: 0 | DG3: 0 | DH3: 0 | DI3: 0 | DJ3: 0 | DK3: 0 | DL3: 0 | DM3: 0 | DN3: 0 | DO3: 0 | DP3: 0 | DQ3: 0 | DR3: 0 | DS3: 0 | DT3: 0 | DU3: 0 | DV3: 1 | DW3: 20 | DX3: 39 | DY3: 59 | DZ3: 53 | EA3: 88 | EB3: 0 | EC3: 0 | ED3: 0 | EE3: 0 | EF3: 0 | EG3: 0 | EH3: 0 | EI3: 0 | EJ3: 0 | EK3: 0 | EL3: 0 | EM3: 0 | EN3: 3 | EO3: 0 | EP3: 0 | EQ3: 0 | ER3: 0 | ES3: 0 | ET3: 0 | EU3: 1 | EV3: 0 | EW3: 1 | EX3: 15 | EY3: 11 | EZ3: 71 | FA3: 101 | FB3: 172 | FC3: 49 | FD3: 30 | FE3: 21 | FF3: 15 | FG3: 4 | FH3: 3 | FI3: 5 | FJ3: 8 | FK3: 31 | FL3: 35 | FM3: 110 | FN3: 91 | FO3: 201 | FP3: 6 | FQ3: 5 | FR3: 16 | FS3: 14 | FT3: 41 | FU3: 61 | FV3: 54 | FW3: 54 | FX3: 56 | FY3: 29 | FZ3: 42 | GA3: 12 | GB3: 215 | GC3: 175 | GD3: 390 | GE3: 45 | GF3: 40 | GG3: 137 | GH3: 178 | GI3: 121 | GJ3: 102 | GK3: 71 | GL3: 61 | GM3: 27 | GN3: 12 | GO3: 9 | GP3: 5 | GQ3: 410 | GR3: 398 | GS3: 808 | GT3: 0 | GU3: 0 | GV3: 4 | GW3: 9 | GX3: 6 | GY3: 15 | GZ3: 9 | HA3: 11 | HB3: 3 | HC3: 1 | HD3: 1 | HE3: 0 | HF3: 23 | HG3: 36 | HH3: 59 | HI3: 7 | HJ3: 5 | HK3: 14 | HL3: 25 | HM3: 18 | HN3: 28 | HO3: 14 | HP3: 25 | HQ3: 0 | HR3: 6 | HS3: 0 | HT3: 1 | HU3: 53 | HV3: 90 | HW3: 143 | HX3: 45 | HY3: 82 | HZ3: 42 | IA3: 61 | IB3: 26 | IC3: 90 | ID3: 20 | IE3: 50 | IF3: 12 | IG3: 12 | IH3: 5 | II3: 7 | IJ3: 150 | IK3: 302 | IL3: 452 | IM3: 34 | IN3: 25 | IO3: 26 | IP3: 29 | IQ3: 0 | IR3: 1 | IS3: 2 | IT3: 7 | IU3: 146 | IV3: 117 | IW3: 208 | IX3: 179 | IY3: 387 | IZ3: 87 | JA3: 85 | JB3: 32 | JC3: 41 | JD3: 2 | JE3: 4 | JF3: 8 | JG3: 6 | JH3: 494 | JI3: 469 | JJ3: 623 | JK3: 605 | JL3: 1228 | JM3: 5 | JN3: 4 | JO3: 3 | JP3: 4 | JQ3: 0 | JR3: 0 | JS3: 1 | JT3: 3 | JU3: 12 | JV3: 24 | JW3: 21 | JX3: 35 | JY3: 56 | JZ3: 3 | KA3: 7 | KB3: 0 | KC3: 3 | KD3: 0 | KE3: 1 | KF3: 2 | KG3: 2 | KH3: 48 | KI3: 77 | KJ3: 53 | KK3: 90 | KL3: 143 | KM3: 28 | KN3: 23 | KO3: 27 | KP3: 1 | KQ3: 64 | KR3: 29 | KS3: 8 | KT3: 23 | KU3: 85 | KV3: 45 | KW3: 73 | KX3: 82 | KY3: 409 | KZ3: 9 | LA3: 2 | LB3: 10 | LC3: 77 | LD3: 98
A4: Medium | B4: 47 | C4: 0 | D4: 0 | E4: 0 | F4: 0 | G4: 0 | H4: 0 | I4: 0 | J4: 6134734 | K4: 0 | L4: 0 | M4: 0 | N4: 0 | O4: 21 | P4: 22 | Q4: 3 | R4: 11 | S4: 26 | T4: 52 | U4: 5 | V4: 22 | W4: 26 | X4: 39 | Y4: 37 | Z4: 63 | AA4: 118 | AB4: 209 | AC4: 327 | AD4: 970 | AE4: 1142 | AF4: 18 | AG4: 61 | AH4: 129 | AI4: 115 | AJ4: 1117 | AK4: 1318 | AL4: 2435 | AM4: 771 | AN4: 1333 | AO4: 2104 | AP4: 53095 | AQ4: 192 | AR4: 161 | AS4: 0 | AT4: 0 | AU4: 0 | AV4: 0 | AW4: 3 | AX4: 1 | AY4: 0 | AZ4: 0 | BA4: 0 | BB4: 1 | BC4: 0 | BD4: 0 | BE4: 0 | BF4: 0 | BG4: 0 | BH4: 0 | BI4: 0 | BJ4: 0 | BK4: 0 | BL4: 0 | BM4: 0 | BN4: 0 | BO4: 6 | BP4: 5 | BQ4: 201 | BR4: 168 | BS4: 369 | BT4: 648.5 | BU4: 672 | BV4: 0 | BW4: 1 | BX4: 0 | BY4: 0 | BZ4: 0 | CA4: 1 | CB4: 1 | CC4: 0 | CD4: 0 | CE4: 0 | CF4: 0 | CG4: 0 | CH4: 0 | CI4: 1 | CJ4: 4 | CK4: 3 | CL4: 1 | CM4: 0 | CN4: 2 | CO4: 9 | CP4: 7 | CQ4: 8 | CR4: 132 | CS4: 245 | CT4: 795.5 | CU4: 940 | CV4: 1735.5 | CW4: 42.5 | CX4: 120 | CY4: 0 | CZ4: 0 | DA4: 0 | DB4: 0 | DC4: 1 | DD4: 2 | DE4: 0 | DF4: 0 | DG4: 0 | DH4: 0 | DI4: 0 | DJ4: 0 | DK4: 0 | DL4: 0 | DM4: 0 | DN4: 0 | DO4: 0 | DP4: 0 | DQ4: 0 | DR4: 0 | DS4: 0 | DT4: 2 | DU4: 0 | DV4: 1 | DW4: 43.5 | DX4: 125 | DY4: 168.5 | DZ4: 116 | EA4: 179 | EB4: 0 | EC4: 0 | ED4: 0 | EE4: 0 | EF4: 0 | EG4: 1 | EH4: 0 | EI4: 0 | EJ4: 0 | EK4: 0 | EL4: 0 | EM4: 0 | EN4: 0 | EO4: 0 | EP4: 0 | EQ4: 0 | ER4: 0 | ES4: 0 | ET4: 0 | EU4: 1 | EV4: 0 | EW4: 0 | EX4: 42 | EY4: 66 | EZ4: 158 | FA4: 247 | FB4: 405 | FC4: 6 | FD4: 5 | FE4: 6 | FF4: 3 | FG4: 0 | FH4: 1 | FI4: 6 | FJ4: 6 | FK4: 15 | FL4: 21 | FM4: 33 | FN4: 36 | FO4: 69 | FP4: 1 | FQ4: 0 | FR4: 10 | FS4: 25 | FT4: 33 | FU4: 56 | FV4: 78 | FW4: 50 | FX4: 47 | FY4: 23 | FZ4: 25 | GA4: 9 | GB4: 194 | GC4: 163 | GD4: 357 | GE4: 92 | GF4: 94 | GG4: 196 | GH4: 240 | GI4: 229 | GJ4: 274 | GK4: 139 | GL4: 149 | GM4: 51 | GN4: 70 | GO4: 22.5 | GP4: 25 | GQ4: 729.5 | GR4: 852 | GS4: 1581.5 | GT4: 0 | GU4: 7 | GV4: 14 | GW4: 45 | GX4: 9 | GY4: 38 | GZ4: 13 | HA4: 22 | HB4: 4 | HC4: 7 | HD4: 1.5 | HE4: 0 | HF4: 41.5 | HG4: 119 | HH4: 160.5 | HI4: 7 | HJ4: 19 | HK4: 51 | HL4: 74 | HM4: 34 | HN4: 69 | HO4: 27 | HP4: 29 | HQ4: 9 | HR4: 8 | HS4: 0 | HT4: 2 | HU4: 128 | HV4: 201 | HW4: 329 | HX4: 160 | HY4: 248 | HZ4: 95 | IA4: 162 | IB4: 96 | IC4: 158 | ID4: 76 | IE4: 192 | IF4: 61 | IG4: 72 | IH4: 28 | II4: 32 | IJ4: 516 | IK4: 864 | IL4: 1380 | IM4: 22 | IN4: 29 | IO4: 24 | IP4: 14 | IQ4: 3 | IR4: 3 | IS4: 6 | IT4: 7 | IU4: 130 | IV4: 101 | IW4: 185 | IX4: 154 | IY4: 339 | IZ4: 23 | JA4: 39 | JB4: 9 | JC4: 20 | JD4: 4 | JE4: 4 | JF4: 5 | JG4: 7 | JH4: 722 | JI4: 817 | JJ4: 763 | JK4: 887 | JL4: 1650 | JM4: 5 | JN4: 20 | JO4: 6 | JP4: 8 | JQ4: 1 | JR4: 1 | JS4: 4 | JT4: 10 | JU4: 26 | JV4: 78 | JW4: 42 | JX4: 117 | JY4: 159 | JZ4: 24 | KA4: 46 | KB4: 13 | KC4: 20 | KD4: 0 | KE4: 0 | KF4: 1 | KG4: 4 | KH4: 185 | KI4: 363 | KJ4: 223 | KK4: 433 | KL4: 656 | KM4: 32 | KN4: 14 | KO4: 30 | KP4: 0 | KQ4: 90 | KR4: 108 | KS4: 19 | KT4: 13 | KU4: 143 | KV4: 53 | KW4: 192 | KX4: 120 | KY4: 738 | KZ4: 27 | LA4: 17 | LB4: 298 | LC4: 248 | LD4: 590
A5: Large | B5: 8 | C5: 0 | D5: 0 | E5: 0 | F5: 0 | G5: 0 | H5: 0 | I5: 0 | J5: 5058062 | K5: 0 | L5: 0 | M5: 0 | N5: 0 | O5: 34 | P5: 19 | Q5: 0 | R5: 0 | S5: 29 | T5: 27 | U5: 0 | V5: 3 | W5: 75 | X5: 56 | Y5: 88 | Z5: 140 | AA5: 226 | AB5: 245 | AC5: 471 | AD5: 278 | AE5: 215 | AF5: 5 | AG5: 2 | AH5: 46 | AI5: 58 | AJ5: 329 | AK5: 275 | AL5: 604 | AM5: 154 | AN5: 246 | AO5: 400 | AP5: 8283 | AQ5: 46 | AR5: 20 | AS5: 0 | AT5: 0 | AU5: 0 | AV5: 0 | AW5: 0 | AX5: 0 | AY5: 0 | AZ5: 0 | BA5: 0 | BB5: 0 | BC5: 0 | BD5: 0 | BE5: 0 | BF5: 0 | BG5: 0 | BH5: 0 | BI5: 0 | BJ5: 0 | BK5: 0 | BL5: 0 | BM5: 0 | BN5: 0 | BO5: 10 | BP5: 3 | BQ5: 56 | BR5: 23 | BS5: 79 | BT5: 96 | BU5: 87 | BV5: 0 | BW5: 0 | BX5: 0 | BY5: 0 | BZ5: 0 | CA5: 0 | CB5: 0 | CC5: 0 | CD5: 0 | CE5: 0 | CF5: 0 | CG5: 0 | CH5: 0 | CI5: 0 | CJ5: 0 | CK5: 0 | CL5: 0 | CM5: 0 | CN5: 0 | CO5: 0 | CP5: 1 | CQ5: 0 | CR5: 44 | CS5: 42 | CT5: 141 | CU5: 129 | CV5: 270 | CW5: 32 | CX5: 28 | CY5: 0 | CZ5: 0 | DA5: 0 | DB5: 0 | DC5: 0 | DD5: 0 | DE5: 0 | DF5: 0 | DG5: 0 | DH5: 0 | DI5: 0 | DJ5: 0 | DK5: 0 | DL5: 0 | DM5: 0 | DN5: 0 | DO5: 0 | DP5: 0 | DQ5: 0 | DR5: 0 | DS5: 0 | DT5: 0 | DU5: 4 | DV5: 4 | DW5: 36 | DX5: 32 | DY5: 68 | DZ5: 178 | EA5: 200 | EB5: 0 | EC5: 0 | ED5: 0 | EE5: 0 | EF5: 0 | EG5: 1 | EH5: 0 | EI5: 0 | EJ5: 0 | EK5: 0 | EL5: 0 | EM5: 0 | EN5: 0 | EO5: 1 | EP5: 1 | EQ5: 1 | ER5: 0 | ES5: 0 | ET5: 2 | EU5: 0 | EV5: 1 | EW5: 1 | EX5: 15 | EY5: 24 | EZ5: 197 | FA5: 228 | FB5: 425 | FC5: 8 | FD5: 3 | FE5: 0 | FF5: 0 | FG5: 1 | FH5: 2 | FI5: 3 | FJ5: 4 | FK5: 22 | FL5: 18 | FM5: 34 | FN5: 27 | FO5: 61 | FP5: 1 | FQ5: 0 | FR5: 2 | FS5: 1 | FT5: 7 | FU5: 2 | FV5: 16 | FW5: 8 | FX5: 14 | FY5: 8 | FZ5: 7 | GA5: 1 | GB5: 47 | GC5: 20 | GD5: 67 | GE5: 16 | GF5: 24 | GG5: 14 | GH5: 20 | GI5: 15 | GJ5: 9 | GK5: 11 | GL5: 7 | GM5: 14 | GN5: 6 | GO5: 1 | GP5: 0 | GQ5: 71 | GR5: 66 | GS5: 137 | GT5: 0 | GU5: 0 | GV5: 3 | GW5: 10 | GX5: 16 | GY5: 15 | GZ5: 12 | HA5: 5 | HB5: 3 | HC5: 1 | HD5: 1 | HE5: 1 | HF5: 35 | HG5: 32 | HH5: 67 | HI5: 27 | HJ5: 46 | HK5: 71 | HL5: 74 | HM5: 34 | HN5: 46 | HO5: 19 | HP5: 30 | HQ5: 13 | HR5: 11 | HS5: 2 | HT5: 7 | HU5: 166 | HV5: 214 | HW5: 380 | HX5: 46 | HY5: 67 | HZ5: 55 | IA5: 71 | IB5: 27 | IC5: 21 | ID5: 9 | IE5: 9 | IF5: 6 | IG5: 6 | IH5: 2 | II5: 2 | IJ5: 145 | IK5: 176 | IL5: 321 | IM5: 21 | IN5: 11 | IO5: 4 | IP5: 2 | IQ5: 0 | IR5: 0 | IS5: 0 | IT5: 0 | IU5: 31 | IV5: 10 | IW5: 56 | IX5: 23 | IY5: 79 | IZ5: 5 | JA5: 4 | JB5: 8 | JC5: 5 | JD5: 0 | JE5: 0 | JF5: 0 | JG5: 0 | JH5: 132 | JI5: 124 | JJ5: 145 | JK5: 133 | JL5: 278 | JM5: 16 | JN5: 19 | JO5: 6 | JP5: 6 | JQ5: 1 | JR5: 0 | JS5: 0 | JT5: 0 | JU5: 13 | JV5: 6 | JW5: 36 | JX5: 31 | JY5: 67 | JZ5: 74 | KA5: 93 | KB5: 28 | KC5: 55 | KD5: 1 | KE5: 4 | KF5: 0 | KG5: 0 | KH5: 92 | KI5: 90 | KJ5: 195 | KK5: 242 | KL5: 437 | KM5: 5 | KN5: 3 | KO5: 5 | KP5: 0 | KQ5: 37 | KR5: 52 | KS5: 72 | KT5: 21 | KU5: 40 | KV5: 15 | KW5: 26 | KX5: 13 | KY5: 276 | KZ5: 18 | LA5: 0 | LB5: 2 | LC5: 69 | LD5: 89

Sheet 2015E
A1: Name | B1: Number of Organisations | C1: ID | D1: Fund | E1: reference number | F1: Staff Person | G1: Type | H1: Status | I1: Organisation Size | J1: award | K1: Programming | L1: request | M1: cost | N1: artform | O1: Qu1-01_PermanentStaff| Full-time Artist | Male | P1: Qu1-01_PermanentStaff| Full-time Artist | Female | Q1: Qu1-01_PermanentStaff| Part-time Artist | Male | R1: Qu1-01_PermanentStaff| Part-time Artist | Female | S1: Qu1-01_PermanentStaff| Full-time Managers | Male | T1: Qu1-01_PermanentStaff| Full-time Managers | Female | U1: Qu1-01_PermanentStaff| Part-time Managers | Male | V1: Qu1-01_PermanentStaff| Part-time Managers | Female | W1: Qu1-01_PermanentStaff| Full-time Other Staff | Male | X1: Qu1-01_PermanentStaff| Full-time Other Staff | Female | Y1: Qu1-01_PermanentStaff| Part-time Other Staff | Male | Z1: Qu1-01_PermanentStaff| Part-time Other Staff | Female | AA1: Qu1-01_PermanentStaff| Total | Male | AB1: Qu1-01_PermanentStaff| Total Female | AC1: Qu1-01_PermanentStaff| Total | AD1: Qu1-02_ContractStaff| Artistic Staff | Male | AE1: Qu1-02_ContractStaff| Artistic Staff | Female | AF1: Qu1-02_ContractStaff| Managers | Male | AG1: Qu1-02_ContractStaff| Managers | Female | AH1: Qu1-02_ContractStaff| Other Staff | Male | AI1: Qu1-02_ContractStaff| Other Staff | Female | AJ1: Qu1-02_ContractStaff| Total | Male | AK1: Qu1-02_ContractStaff| Total | Female | AL1: Qu1-02_ContractStaff| Total | AM1: Qu1-03_VolNumbers|Number of volunteers| Male | AN1: Qu1-03_VolNumbers|Number of volunteers| Female | AO1: Total volunteers | AP1: Qu1-04_Volhrs|Number of hours worked| Hours worked | AQ1: Qu1-05_Ethnicity| White |Board Members|Male | AR1: Qu1-05_Ethnicity| White |Board Members|Female | AS1: Qu1-05_Ethnicity| Irish Traveller |Board Members|Male | AT1: Qu1-05_Ethnicity| Irish Traveller |Board Members|Female | AU1: Qu1-05_Ethnicity| Chinese |Board Members|Male | AV1: Qu1-05_Ethnicity| Chinese |Board Members|Female | AW1: Qu1-05_Ethnicity| Indian |Board Members|Male | AX1: Qu1-05_Ethnicity| Indian |Board Members|Female | AY1: Qu1-05_Ethnicity| Pakistani |Board Members|Male | AZ1: Qu1-05_Ethnicity| Pakistani |Board Members|Female | BA1: Qu1-05_Ethnicity| Bangladeshi |Board Members|Male | BB1: Qu1-05_Ethnicity| Bangladeshi |Board Members|Female | BC1: Qu1-05_Ethnicity| Other Asian |Board Members|Male | BD1: Qu1-05_Ethnicity| Other Asian |Board Members|Female | BE1: Qu1-05_Ethnicity| Black Caribbean |Board Members|Male | BF1: Qu1-05_Ethnicity| Black Caribbean |Board Members|Female | BG1: Qu1-05_Ethnicity| Black African |Board Members|Male | BH1: Qu1-05_Ethnicity| Black African |Board Members|Female | BI1: Qu1-05_Ethnicity| Black Other |Board Members|Male | BJ1: Qu1-05_Ethnicity| Black Other |Board Members|Female | BK1: Qu1-05_Ethnicity| Mixed ethnic group |Board Members|Male | BL1: Qu1-05_Ethnicity| Mixed ethnic group |Board Members|Female | BM1: Qu1-05_Ethnicity| Other ethnic group |Board Members|Male | BN1: Qu1-05_Ethnicity| Other ethnic group |Board Members|Female | BO1: Qu1-05_Ethnicity| Unspecified or not collected |Board Members|Male | BP1: Qu1-05_Ethnicity| Unspecified or not collected |Board Members|Female | BQ1: Qu1-05_Ethnicity| Total |Board Members|Male | BR1: Qu1-05_Ethnicity| Total |Board Members | BS1: Qu1-05_Ethnicity| Total |Board Members | BT1: Qu1-05_Ethnicity| White |Artistic Staff|Male | BU1: Qu1-05_Ethnicity| White |Artistic Staff|Female | BV1: Qu1-05_Ethnicity| Irish Traveller |Artistic Staff|Male | BW1: Qu1-05_Ethnicity| Irish Traveller |Artistic Staff|Female | BX1: Qu1-05_Ethnicity| Chinese |Artistic Staff|Male | BY1: Qu1-05_Ethnicity| Chinese |Artistic Staff|Female | BZ1: Qu1-05_Ethnicity| Indian |Artistic Staff|Male | CA1: Qu1-05_Ethnicity| Indian |Artistic Staff|Female | CB1: Qu1-05_Ethnicity| Pakistani |Artistic Staff|Male | CC1: Qu1-05_Ethnicity| Pakistani |Artistic Staff|Female | CD1: Qu1-05_Ethnicity| Bangladeshi |Artistic Staff|Male | CE1: Qu1-05_Ethnicity| Bangladeshi |Artistic Staff|Female | CF1: Qu1-05_Ethnicity| Other Asian |Artistic Staff|Male | CG1: Qu1-05_Ethnicity| Other Asian |Artistic Staff|Female | CH1: Qu1-05_Ethnicity| Black Caribbean |Artistic Staff|Male | CI1: Qu1-05_Ethnicity| Black Caribbean |Artistic Staff|Female | CJ1: Qu1-05_Ethnicity| Black African |Artistic Staff|Male | CK1: Qu1-05_Ethnicity| Black African |Artistic Staff|Female | CL1: Qu1-05_Ethnicity| Black Other |Artistic Staff|Male | CM1: Qu1-05_Ethnicity| Black Other |Artistic Staff|Female | CN1: Qu1-05_Ethnicity| Mixed ethnic group |Artistic Staff|Male | CO1: Qu1-05_Ethnicity| Mixed ethnic group |Artistic Staff|Female | CP1: Qu1-05_Ethnicity| Other ethnic group |Artistic Staff|Male | CQ1: Qu1-05_Ethnicity| Other ethnic group |Artistic Staff|Female | CR1: Qu1-05_Ethnicity| Unspecified or not collected |Artistic Staff|Male | CS1: Qu1-05_Ethnicity| Unspecified or not collected |Artistic Staff|Female | CT1: Ethnicity Artistic Staff Total Male | CU1: Ethnicity Artistic Staff Total Female | CV1: Ethnicity Artistic Staff Total | CW1: Qu1-05_Ethnicity| White |Managers|Male | CX1: Qu1-05_Ethnicity| White |Managers|Female | CY1: Qu1-05_Ethnicity| Irish Traveller |Managers|Male | CZ1: Qu1-05_Ethnicity| Irish Traveller |Managers|Female | DA1: Qu1-05_Ethnicity| Chinese |Managers|Male | DB1: Qu1-05_Ethnicity| Chinese |Managers|Female | DC1: Qu1-05_Ethnicity| Indian |Managers|Male | DD1: Qu1-05_Ethnicity| Indian |Managers|Female | DE1: Qu1-05_Ethnicity| Pakistani |Managers|Male | DF1: Qu1-05_Ethnicity| Pakistani |Managers|Female | DG1: Qu1-05_Ethnicity| Bangladeshi |Managers|Male | DH1: Qu1-05_Ethnicity| Bangladeshi |Managers|Female | DI1: Qu1-05_Ethnicity| Other Asian |Managers|Male | DJ1: Qu1-05_Ethnicity| Other Asian |Managers|Female | DK1: Qu1-05_Ethnicity| Black Caribbean |Managers|Male | DL1: Qu1-05_Ethnicity| Black Caribbean |Managers|Female | DM1: Qu1-05_Ethnicity| Black African |Managers|Male | DN1: Qu1-05_Ethnicity| Black African |Managers|Female | DO1: Qu1-05_Ethnicity| Black Other |Managers|Male | DP1: Qu1-05_Ethnicity| Black Other |Managers|Female | DQ1: Qu1-05_Ethnicity| Mixed ethnic group |Managers|Male | DR1: Qu1-05_Ethnicity| Mixed ethnic group |Managers|Female | DS1: Qu1-05_Ethnicity| Other ethnic group |Managers|Male | DT1: Qu1-05_Ethnicity| Other ethnic group |Managers|Female | DU1: Qu1-05_Ethnicity| Unspecified or not collected |Managers|Male | DV1: Qu1-05_Ethnicity| Unspecified or not collected |Managers|Female | DW1: Qu1-05_Ethnicity| Total |Managers|Male | DX1: Qu1-05_Ethnicity| Total |Managers|Female | DY1: Qu1-05_Ethnicity| Total |Managers | DZ1: Qu1-05_Ethnicity| White |Other Staff|Male | EA1: Qu1-05_Ethnicity| White |Other Staff|Female | EB1: Qu1-05_Ethnicity| Irish Traveller |Other Staff|Male | EC1: Qu1-05_Ethnicity| Irish Traveller |Other Staff|Female | ED1: Qu1-05_Ethnicity| Chinese |Other Staff|Male | EE1: Qu1-05_Ethnicity| Chinese |Other Staff|Female | EF1: Qu1-05_Ethnicity| Indian |Other Staff|Male | EG1: Qu1-05_Ethnicity| Indian |Other Staff|Female | EH1: Qu1-05_Ethnicity| Pakistani |Other Staff|Male | EI1: Qu1-05_Ethnicity| Pakistani |Other Staff|Female | EJ1: Qu1-05_Ethnicity| Bangladeshi |Other Staff|Male | EK1: Qu1-05_Ethnicity| Bangladeshi |Other Staff|Female | EL1: Qu1-05_Ethnicity| Other Asian |Other Staff|Male | EM1: Qu1-05_Ethnicity| Other Asian |Other Staff|Female | EN1: Qu1-05_Ethnicity| Black Caribbean |Other Staff|Male | EO1: Qu1-05_Ethnicity| Black Caribbean |Other Staff|Female | EP1: Qu1-05_Ethnicity| Black African |Other Staff|Male | EQ1: Qu1-05_Ethnicity| Black African |Other Staff|Female | ER1: Qu1-05_Ethnicity| Black Other |Other Staff|Male | ES1: Qu1-05_Ethnicity| Black Other |Other Staff|Female | ET1: Qu1-05_Ethnicity| Mixed ethnic group |Other Staff|Male | EU1: Qu1-05_Ethnicity| Mixed ethnic group |Other Staff|Female | EV1: Qu1-05_Ethnicity| Other ethnic group |Other Staff|Male | EW1: Qu1-05_Ethnicity| Other ethnic group |Other Staff|Female | EX1: Qu1-05_Ethnicity| Unspecified or not collected |Other Staff|Male | EY1: Qu1-05_Ethnicity| Unspecified or not collected |Other Staff|Female | EZ1: Qu1-05_Ethnicity| Total |Other Staff|Male | FA1: Qu1-05_Ethnicity| Total |Other Staff | FB1: Qu1-05_Ethnicity| Total |Other Staff|Female | FC1: Qu1-06_Disability| Board Members |Male | FD1: Qu1-06_Disability| Board Members |Female | FE1: Qu1-06_Disability| Artistic Staff |Male | FF1: Qu1-06_Disability| Artistic Staff |Female | FG1: Qu1-06_Disability| Managers |Male | FH1: Qu1-06_Disability| Managers |Female | FI1: Qu1-06_Disability| Other Staff |Male | FJ1: Qu1-06_Disability| Other Staff |Female | FK1: Qu1-06_Disability| Volunteers |Male | FL1: Qu1-06_Disability| Volunteers |Female | FM1: Qu1-06_Disability| Totals |Male | FN1: Qu1-06_Disability| Totals | FO1: Qu1-06_Disability| Totals |Female | FP1: Qu1-07_Age| Board Members |16 to 24 years|Male | FQ1: Qu1-07_Age| Board Members |16 to 24 years|Female | FR1: Qu1-07_Age| Board Members |25 to 34 years|Male | FS1: Qu1-07_Age| Board Members |25 to 34 years|Female | FT1: Qu1-07_Age| Board Members |35 to 44 years|Male | FU1: Qu1-07_Age| Board Members |35 to 44 years|Female | FV1: Qu1-07_Age| Board Members |45 to 54 years|Male | FW1: Qu1-07_Age| Board Members |45 to 54 years|Female | FX1: Qu1-07_Age| Board Members |55 to 64 years|Male | FY1: Qu1-07_Age| Board Members |55 to 64 years|Female | FZ1: Qu1-07_Age| Board Members |65+ years|Male | GA1: Qu1-07_Age| Board Members |65+ years|Female | GB1: Qu1-07_Age| Board Members |Female | GC1: Qu1-07_Age| Board Members |Male | GD1: Qu1-07_Age| Board Members | GE1: Qu1-07_Age| Artistic Staff |16 to 24 years|Male | GF1: Qu1-07_Age| Artistic Staff |16 to 24 years|Female | GG1: Qu1-07_Age| Artistic Staff |25 to 34 years|Male | GH1: Qu1-07_Age| Artistic Staff |25 to 34 years|Female | GI1: Qu1-07_Age| Artistic Staff |35 to 44 years|Male | GJ1: Qu1-07_Age| Artistic Staff |35 to 44 years|Female | GK1: Qu1-07_Age| Artistic Staff |45 to 54 years|Male | GL1: Qu1-07_Age| Artistic Staff |45 to 54 years|Female | GM1: Qu1-07_Age| Artistic Staff |55 to 64 years|Male | GN1: Qu1-07_Age| Artistic Staff |55 to 64 years|Female | GO1: Qu1-07_Age| Artistic Staff |65+ years|Male | GP1: Qu1-07_Age| Artistic Staff |65+ years|Female | GQ1: Qu1-07_Age| Artistic Staff |Female | GR1: Qu1-07_Age| Artistic Staff |Male | GS1: Qu1-07_Age| Artistic Staff | GT1: Qu1-07_Age| Managers |16 to 24 years|Male | GU1: Qu1-07_Age| Managers |16 to 24 years|Female | GV1: Qu1-07_Age| Managers |25 to 34 years|Male | GW1: Qu1-07_Age| Managers |25 to 34 years|Female | GX1: Qu1-07_Age| Managers |35 to 44 years|Male | GY1: Qu1-07_Age| Managers |35 to 44 years|Female | GZ1: Qu1-07_Age| Managers |45 to 54 years|Male | HA1: Qu1-07_Age| Managers |45 to 54 years|Female | HB1: Qu1-07_Age| Managers |55 to 64 years|Male | HC1: Qu1-07_Age| Managers |55 to 64 years|Female | HD1: Qu1-07_Age| Managers |65+ years|Male | HE1: Qu1-07_Age| Managers |65+ years|Female | HF1: Qu1-07_Age| Managers |Female | HG1: Qu1-07_Age| Managers |Male | HH1: Qu1-07_Age| Managers | HI1: Qu1-07_Age| Other Staff |16 to 24 years|Male | HJ1: Qu1-07_Age| Other Staff |16 to 24 years|Female | HK1: Qu1-07_Age| Other Staff |25 to 34 years|Male | HL1: Qu1-07_Age| Other Staff |25 to 34 years|Female | HM1: Qu1-07_Age| Other Staff |35 to 44 years|Male | HN1: Qu1-07_Age| Other Staff |35 to 44 years|Female | HO1: Qu1-07_Age| Other Staff |45 to 54 years|Male | HP1: Qu1-07_Age| Other Staff |45 to 54 years|Female | HQ1: Qu1-07_Age| Other Staff |55 to 64 years|Male | HR1: Qu1-07_Age| Other Staff |55 to 64 years|Female | HS1: Qu1-07_Age| Other Staff |65+ years|Male | HT1: Qu1-07_Age| Other Staff |65+ years|Female | HU1: Qu1-07_Age| Other Staff |Female | HV1: Qu1-07_Age| Other Staff |Male | HW1: Qu1-07_Age| Other Staff | HX1: Qu1-07_Age| Volunteers |16 to 24 years|Male | HY1: Qu1-07_Age| Volunteers |16 to 24 years|Female | HZ1: Qu1-07_Age| Volunteers |25 to 34 years|Male | IA1: Qu1-07_Age| Volunteers |25 to 34 years|Female | IB1: Qu1-07_Age| Volunteers |35 to 44 years|Male | IC1: Qu1-07_Age| Volunteers |35 to 44 years|Female | ID1: Qu1-07_Age| Volunteers |45 to 54 years|Male | IE1: Qu1-07_Age| Volunteers |45 to 54 years|Female | IF1: Qu1-07_Age| Volunteers |55 to 64 years|Male | IG1: Qu1-07_Age| Volunteers |55 to 64 years|Female | IH1: Qu1-07_Age| Volunteers |65+ years|Male | II1: Qu1-07_Age| Volunteers |65+ years|Female | IJ1: Qu1-07_Age| Volunteers |Female | IK1: Qu1-07_Age| Volunteers |Male | IL1: Qu1-07_Age| Volunteers | IM1: 16-24 | IN1: 25-34 | IO1: 35-44 | IP1: 45-54 | IQ1: 55-64 | IR1: 65+ | IU1: Qu1-08_Religion| Roman Catholic |Board Members|Male | IV1: Qu1-08_Religion| Roman Catholic |Board Members|Female | IW1: Qu1-08_Religion| Protestant |Board Members|Male | IX1: Qu1-08_Religion| Protestant |Board Members|Female | IY1: Qu1-08_Religion| Other Religious Faith |Board Members|Male | IZ1: Qu1-08_Religion| Other Religious Faith |Board Members|Female | JA1: Qu1-08_Religion| None |Board Members|Male | JB1: Qu1-08_Religion| None |Board Members|Female | JC1: Qu1-08_Religion| Unspecified or Not Collected |Board Members|Male | JD1: Qu1-08_Religion| Unspecified or Not Collected |Board Members|Female | JE1: Qu1-08_Religion| Totals |Board Members|Male | JF1: Qu1-08_Religion| Totals |Board Members|Female | JG1: Qu1-08_Religion| Totals |Board Members| | JH1: Qu1-08_Religion| Roman Catholic |Artistic Staff|Male | JI1: Qu1-08_Religion| Roman Catholic |Artistic Staff|Female | JJ1: Qu1-08_Religion| Protestant |Artistic Staff|Male | JK1: Qu1-08_Religion| Protestant |Artistic Staff|Female | JL1: Qu1-08_Religion| Other Religious Faith |Artistic Staff|Male | JM1: Qu1-08_Religion| Other Religious Faith |Artistic Staff|Female | JN1: Qu1-08_Religion| None |Artistic Staff|Male | JO1: Qu1-08_Religion| None |Artistic Staff|Female | JP1: Qu1-08_Religion| Unspecified or Not Collected |Artistic Staff|Male | JQ1: Qu1-08_Religion| Unspecified or Not Collected |Artistic Staff|Female | JR1: Qu1-08_Religion| Totals |Artistic Staff|Male | JS1: Qu1-08_Religion| Totals |Artistic Staff | JT1: Qu1-08_Religion| Totals |Artistic Staff | JU1: Qu1-08_Religion| Roman Catholic |Managers|Male | JV1: Qu1-08_Religion| Roman Catholic |Managers|Female | JW1: Qu1-08_Religion| Protestant |Managers|Male | JX1: Qu1-08_Religion| Protestant |Managers|Female | JY1: Qu1-08_Religion| Other Religious Faith |Managers|Male | JZ1: Qu1-08_Religion| Other Religious Faith |Managers|Female | KA1: Qu1-08_Religion| None |Managers|Male | KB1: Qu1-08_Religion| None |Managers|Female | KC1: Qu1-08_Religion| Unspecified or Not Collected |Managers|Male | KD1: Qu1-08_Religion| Unspecified or Not Collected |Managers|Female | KE1: Qu1-08_Religion| Totals |Managers|Male | KF1: Qu1-08_Religion| Totals |Managers|Female | KG1: Qu1-08_Religion| Totals |Managers | KH1: Qu1-08_Religion| Roman Catholic |Other Staff|Male | KI1: Qu1-08_Religion| Roman Catholic |Other Staff|Female | KJ1: Qu1-08_Religion| Protestant |Other Staff|Male | KK1: Qu1-08_Religion| Protestant |Other Staff|Female | KL1: Qu1-08_Religion| Other Religious Faith |Other Staff|Male | KM1: Qu1-08_Religion| Other Religious Faith |Other Staff|Female | KN1: Qu1-08_Religion| None |Other Staff|Male | KO1: Qu1-08_Religion| None |Other Staff|Female | KP1: Qu1-08_Religion| Unspecified or Not Collected |Other Staff|Male | KQ1: Qu1-08_Religion| Unspecified or Not Collected |Other Staff|Female | KR1: Qu1-08_Religion| Totals |Other Staff|Male | KS1: Qu1-08_Religion| Totals |Other Staff|Female | KT1: Qu1-08_Religion| Totals |Other Staff | KU1: xxxQu1-09_CDPExists| Yes | KV1: xxxQu1-09_CDPExists| No | KW1: Qu1-09_CDPOffered| Yes | KX1: Qu1-09_CDPOffered| No | KY1: Qu1-10_CDPCourses| Leadership, management &amp; business skills |Number | KZ1: Qu1-10_CDPCourses| Personal, effectiveness &amp; behavioural skills |Number | LA1: Qu1-10_CDPCourses| Performance &amp; reward skills |Number | LB1: Qu1-10_CDPCourses| Human resources |Number | LC1: Qu1-10_CDPCourses| Learning &amp; development |Number | LD1: Qu1-10_CDPCourses| Organisation, development &amp; design |Number | LE1: Qu1-10_CDPCourses| Artistic practice |Number | LF1: Qu1-10_CDPCourses| Other types of continuous professional development |Number | LG1: Courses total | LH1: Qu1-11_Apprenticeships| Paid internships |Total Number | LI1: Qu1-11_Apprenticeships| Formal apprenticeships |Total Number | LJ1: Qu1-11_Apprenticeships| Unaccredited apprenticeships |Total Number | LK1: Qu1-11_Apprenticeships| Work experience for students at school or in further/higher education |Total Number | LL1: Apprenticeship total | LM1: Homebase | LN1: Homebase_all other
A2: All organisations | B2: 109 | C2: 0 | D2: 0 | E2: 0 | F2: 0 | G2: 0 | H2: 0 | I2: 0 | J2: 13541192 | K2: 0 | L2: 0 | M2: 0 | N2: 0 | O2: 73 | P2: 48.5 | Q2: 13 | R2: 23 | S2: 79 | T2: 106.5 | U2: 14 | V2: 33 | W2: 89.5 | X2: 97.5 | Y2: 134 | Z2: 240 | AA2: 402.5 | AB2: 548.5 | AC2: 951 | AD2: 2537 | AE2: 2411 | AF2: 44 | AG2: 80.5 | AH2: 362 | AI2: 348 | AJ2: 2943 | AK2: 2839.5 | AL2: 5782.5 | AM2: 2649 | AN2: 3177 | AO2: 5826 | AP2: 82470.5 | AQ2: 399 | AR2: 347 | AS2: 0 | AT2: 1 | AU2: 0 | AV2: 0 | AW2: 3 | AX2: 3 | AY2: 0 | AZ2: 0 | BA2: 0 | BB2: 0 | BC2: 0 | BD2: 0 | BE2: 0 | BF2: 0 | BG2: 1 | BH2: 0 | BI2: 0 | BJ2: 0 | BK2: 1 | BL2: 2 | BM2: 1 | BN2: 4 | BO2: 22 | BP2: 20 | BQ2: 427 | BR2: 377 | BS2: 804 | BT2: 1336 | BU2: 1221.5 | BV2: 0 | BW2: 1 | BX2: 2 | BY2: 7 | BZ2: 2 | CA2: 7 | CB2: 0 | CC2: 1 | CD2: 0 | CE2: 0 | CF2: 2 | CG2: 1 | CH2: 1 | CI2: 0 | CJ2: 5 | CK2: 0 | CL2: 2 | CM2: 1 | CN2: 1 | CO2: 4 | CP2: 10 | CQ2: 27 | CR2: 619 | CS2: 389 | CT2: 1980 | CU2: 1659.5 | CV2: 3639.5 | CW2: 105.5 | CX2: 191.5 | CY2: 0 | CZ2: 0 | DA2: 0 | DB2: 0 | DC2: 1 | DD2: 1 | DE2: 0 | DF2: 0 | DG2: 0 | DH2: 1 | DI2: 0 | DJ2: 0 | DK2: 0 | DL2: 0 | DM2: 0 | DN2: 0 | DO2: 0 | DP2: 0 | DQ2: 0 | DR2: 0 | DS2: 0 | DT2: 0 | DU2: 1.5 | DV2: 3.5 | DW2: 108 | DX2: 197 | DY2: 305 | DZ2: 417 | EA2: 472 | EB2: 0 | EC2: 0 | ED2: 1 | EE2: 0 | EF2: 2 | EG2: 0 | EH2: 0 | EI2: 0 | EJ2: 0 | EK2: 0 | EL2: 0 | EM2: 0 | EN2: 0 | EO2: 2 | EP2: 0 | EQ2: 1 | ER2: 0 | ES2: 0 | ET2: 1 | EU2: 1 | EV2: 1 | EW2: 2 | EX2: 214 | EY2: 103 | EZ2: 636 | FA2: 581 | FB2: 1217 | FC2: 31 | FD2: 32 | FE2: 9 | FF2: 14 | FG2: 5 | FH2: 4 | FI2: 67 | FJ2: 55 | FK2: 37 | FL2: 49 | FM2: 149 | FN2: 154 | FO2: 303 | FP2: 5 | FQ2: 1 | FR2: 29 | FS2: 49 | FT2: 82 | FU2: 103 | FV2: 130 | FW2: 138 | FX2: 122 | FY2: 58 | FZ2: 71 | GA2: 19 | GB2: 439 | GC2: 368 | GD2: 807 | GE2: 301 | GF2: 294 | GG2: 684 | GH2: 694 | GI2: 449 | GJ2: 340 | GK2: 253 | GL2: 164.5 | GM2: 175 | GN2: 59 | GO2: 37 | GP2: 23 | GQ2: 1899 | GR2: 1574.5 | GS2: 3473.5 | GT2: 6 | GU2: 11 | GV2: 16.5 | GW2: 47.5 | GX2: 37 | GY2: 68 | GZ2: 27 | HA2: 37 | HB2: 16 | HC2: 14 | HD2: 0 | HE2: 1 | HF2: 102.5 | HG2: 178.5 | HH2: 281 | HI2: 50 | HJ2: 71 | HK2: 237 | HL2: 241 | HM2: 176 | HN2: 144 | HO2: 80 | HP2: 70 | HQ2: 41 | HR2: 29 | HS2: 5 | HT2: 10 | HU2: 589 | HV2: 565 | HW2: 1154 | HX2: 235 | HY2: 280 | HZ2: 230 | IA2: 346 | IB2: 206 | IC2: 311 | ID2: 252 | IE2: 336 | IF2: 267 | IG2: 212 | IH2: 184 | II2: 108 | IJ2: 1374 | IK2: 1593 | IL2: 2967 | IM2: 739 | IN2: 1998 | IO2: 1399 | IP2: 899.5 | IQ2: 514 | IR2: 166 | IS2: 5715.5 | IT2: 5715.5 | IU2: 64 | IV2: 81 | IW2: 48 | IX2: 50 | IY2: 3 | IZ2: 3 | JA2: 16 | JB2: 17 | JC2: 260 | JD2: 205 | JE2: 391 | JF2: 356 | JG2: 747 | JH2: 115 | JI2: 107 | JJ2: 43 | JK2: 40 | JL2: 6 | JM2: 5 | JN2: 23 | JO2: 24 | JP2: 1959 | JQ2: 1602 | JR2: 2146 | JS2: 1778 | JT2: 3924 | JU2: 29 | JV2: 50 | JW2: 22 | JX2: 20 | JY2: 0 | JZ2: 0 | KA2: 6 | KB2: 12 | KC2: 49.5 | KD2: 104 | KE2: 106.5 | KF2: 186 | KG2: 292.5 | KH2: 132 | KI2: 183 | KJ2: 79 | KK2: 74 | KL2: 0 | KM2: 0 | KN2: 8 | KO2: 15 | KP2: 384 | KQ2: 314 | KR2: 603 | KS2: 586 | KT2: 1189 | KU2: 0 | KV2: 0 | KW2: 98 | KX2: 10 | KY2: 229 | KZ2: 139 | LA2: 138 | LB2: 105 | LC2: 367 | LD2: 188 | LE2: 478 | LF2: 318 | LG2: 1962 | LH2: 51 | LI2: 11 | LJ2: 35 | LK2: 356 | LL2: 402
A3: Small | B3: 54 | C3: 0 | D3: 0 | E3: 0 | F3: 0 | G3: 0 | H3: 0 | I3: 0 | J3: 2996364 | K3: 0 | L3: 0 | M3: 0 | N3: 0 | O3: 8 | P3: 4 | Q3: 5 | R3: 5 | S3: 14 | T3: 19 | U3: 5 | V3: 15 | W3: 1.5 | X3: 8.5 | Y3: 9 | Z3: 25 | AA3: 42.5 | AB3: 76.5 | AC3: 119 | AD3: 925 | AE3: 754 | AF3: 12 | AG3: 13.5 | AH3: 141 | AI3: 127 | AJ3: 1078 | AK3: 894.5 | AL3: 1972.5 | AM3: 1129 | AN3: 875 | AO3: 2004 | AP3: 22809 | AQ3: 160 | AR3: 161 | AS3: 0 | AT3: 1 | AU3: 0 | AV3: 0 | AW3: 0 | AX3: 2 | AY3: 0 | AZ3: 0 | BA3: 0 | BB3: 0 | BC3: 0 | BD3: 0 | BE3: 0 | BF3: 0 | BG3: 1 | BH3: 0 | BI3: 0 | BJ3: 0 | BK3: 0 | BL3: 0 | BM3: 0 | BN3: 3 | BO3: 22 | BP3: 20 | BQ3: 183 | BR3: 187 | BS3: 370 | BT3: 661 | BU3: 502 | BV3: 0 | BW3: 0 | BX3: 0 | BY3: 1 | BZ3: 0 | CA3: 0 | CB3: 0 | CC3: 0 | CD3: 0 | CE3: 0 | CF3: 2 | CG3: 0 | CH3: 1 | CI3: 0 | CJ3: 0 | CK3: 0 | CL3: 1 | CM3: 1 | CN3: 0 | CO3: 1 | CP3: 2 | CQ3: 5 | CR3: 79 | CS3: 55 | CT3: 746 | CU3: 565 | CV3: 1311 | CW3: 16.5 | CX3: 36 | CY3: 0 | CZ3: 0 | DA3: 0 | DB3: 0 | DC3: 0 | DD3: 0 | DE3: 0 | DF3: 0 | DG3: 0 | DH3: 1 | DI3: 0 | DJ3: 0 | DK3: 0 | DL3: 0 | DM3: 0 | DN3: 0 | DO3: 0 | DP3: 0 | DQ3: 0 | DR3: 0 | DS3: 0 | DT3: 0 | DU3: 1.5 | DV3: 3.5 | DW3: 18 | DX3: 40.5 | DY3: 58.5 | DZ3: 167 | EA3: 138 | EB3: 0 | EC3: 0 | ED3: 1 | EE3: 0 | EF3: 0 | EG3: 0 | EH3: 0 | EI3: 0 | EJ3: 0 | EK3: 0 | EL3: 0 | EM3: 0 | EN3: 0 | EO3: 2 | EP3: 0 | EQ3: 0 | ER3: 0 | ES3: 0 | ET3: 0 | EU3: 0 | EV3: 1 | EW3: 2 | EX3: 35 | EY3: 26 | EZ3: 204 | FA3: 168 | FB3: 372 | FC3: 25 | FD3: 26 | FE3: 9 | FF3: 11 | FG3: 3 | FH3: 4 | FI3: 58 | FJ3: 50 | FK3: 22 | FL3: 38 | FM3: 117 | FN3: 129 | FO3: 246 | FP3: 4 | FQ3: 1 | FR3: 14 | FS3: 24 | FT3: 40 | FU3: 48 | FV3: 42 | FW3: 68 | FX3: 45 | FY3: 28 | FZ3: 40 | GA3: 9 | GB3: 185 | GC3: 178 | GD3: 363 | GE3: 54 | GF3: 107 | GG3: 287 | GH3: 292 | GI3: 130 | GJ3: 122 | GK3: 120 | GL3: 64 | GM3: 99 | GN3: 27 | GO3: 27 | GP3: 8 | GQ3: 717 | GR3: 620 | GS3: 1337 | GT3: 1 | GU3: 0 | GV3: 2.5 | GW3: 7.5 | GX3: 9 | GY3: 13 | GZ3: 5 | HA3: 13.5 | HB3: 6 | HC3: 6 | HD3: 0 | HE3: 0 | HF3: 23.5 | HG3: 40 | HH3: 63.5 | HI3: 11 | HJ3: 9 | HK3: 28 | HL3: 33 | HM3: 25 | HN3: 23 | HO3: 23 | HP3: 17 | HQ3: 1 | HR3: 4 | HS3: 4 | HT3: 1 | HU3: 92 | HV3: 87 | HW3: 179 | HX3: 130 | HY3: 130 | HZ3: 83 | IA3: 105 | IB3: 103 | IC3: 162 | ID3: 179 | IE3: 218 | IF3: 220 | IG3: 146 | IH3: 162 | II3: 75 | IJ3: 877 | IK3: 836 | IL3: 1713 | IM3: 187 | IN3: 688 | IO3: 410 | IP3: 352.5 | IQ3: 216 | IR3: 89 | IS3: 1942.5 | IT3: 1942.5 | IU3: 21 | IV3: 33 | IW3: 19 | IX3: 23 | IY3: 1 | IZ3: 1 | JA3: 5 | JB3: 10 | JC3: 127 | JD3: 107 | JE3: 173 | JF3: 174 | JG3: 347 | JH3: 50 | JI3: 48 | JJ3: 7 | JK3: 7 | JL3: 1 | JM3: 1 | JN3: 11 | JO3: 2 | JP3: 750 | JQ3: 574 | JR3: 819 | JS3: 632 | JT3: 1451 | JU3: 3 | JV3: 5 | JW3: 4 | JX3: 5 | JY3: 0 | JZ3: 0 | KA3: 2 | KB3: 6 | KC3: 14.5 | KD3: 25 | KE3: 23.5 | KF3: 41 | KG3: 64.5 | KH3: 9 | KI3: 14 | KJ3: 25 | KK3: 6 | KL3: 0 | KM3: 0 | KN3: 2 | KO3: 4 | KP3: 114 | KQ3: 106 | KR3: 150 | KS3: 130 | KT3: 280 | KU3: 0 | KV3: 0 | KW3: 48 | KX3: 5 | KY3: 79 | KZ3: 46 | LA3: 14 | LB3: 30 | LC3: 168 | LD3: 88 | LE3: 216 | LF3: 133 | LG3: 774 | LH3: 12 | LI3: 1 | LJ3: 6 | LK3: 76 | LL3: 83
A4: Medium | B4: 47 | C4: 0 | D4: 0 | E4: 0 | F4: 0 | G4: 0 | H4: 0 | I4: 0 | J4: 5919770 | K4: 0 | L4: 0 | M4: 0 | N4: 0 | O4: 18 | P4: 18.5 | Q4: 1 | R4: 15 | S4: 30 | T4: 55.5 | U4: 3 | V4: 18 | W4: 28 | X4: 36 | Y4: 38 | Z4: 55 | AA4: 118 | AB4: 198 | AC4: 316 | AD4: 1308 | AE4: 1359 | AF4: 22 | AG4: 65 | AH4: 183 | AI4: 181 | AJ4: 1513 | AK4: 1605 | AL4: 3118 | AM4: 1363 | AN4: 2055 | AO4: 3418 | AP4: 52511.5 | AQ4: 194 | AR4: 164 | AS4: 0 | AT4: 0 | AU4: 0 | AV4: 0 | AW4: 3 | AX4: 1 | AY4: 0 | AZ4: 0 | BA4: 0 | BB4: 0 | BC4: 0 | BD4: 0 | BE4: 0 | BF4: 0 | BG4: 0 | BH4: 0 | BI4: 0 | BJ4: 0 | BK4: 1 | BL4: 2 | BM4: 0 | BN4: 1 | BO4: 0 | BP4: 0 | BQ4: 198 | BR4: 168 | BS4: 366 | BT4: 621 | BU4: 693.5 | BV4: 0 | BW4: 1 | BX4: 2 | BY4: 6 | BZ4: 2 | CA4: 7 | CB4: 0 | CC4: 1 | CD4: 0 | CE4: 0 | CF4: 0 | CG4: 1 | CH4: 0 | CI4: 0 | CJ4: 5 | CK4: 0 | CL4: 1 | CM4: 0 | CN4: 1 | CO4: 3 | CP4: 8 | CQ4: 22 | CR4: 540 | CS4: 334 | CT4: 1180 | CU4: 1068.5 | CV4: 2248.5 | CW4: 50 | CX4: 125.5 | CY4: 0 | CZ4: 0 | DA4: 0 | DB4: 0 | DC4: 1 | DD4: 1 | DE4: 0 | DF4: 0 | DG4: 0 | DH4: 0 | DI4: 0 | DJ4: 0 | DK4: 0 | DL4: 0 | DM4: 0 | DN4: 0 | DO4: 0 | DP4: 0 | DQ4: 0 | DR4: 0 | DS4: 0 | DT4: 0 | DU4: 0 | DV4: 0 | DW4: 51 | DX4: 126.5 | DY4: 177.5 | DZ4: 99 | EA4: 145 | EB4: 0 | EC4: 0 | ED4: 0 | EE4: 0 | EF4: 2 | EG4: 0 | EH4: 0 | EI4: 0 | EJ4: 0 | EK4: 0 | EL4: 0 | EM4: 0 | EN4: 0 | EO4: 0 | EP4: 0 | EQ4: 0 | ER4: 0 | ES4: 0 | ET4: 0 | EU4: 1 | EV4: 0 | EW4: 0 | EX4: 179 | EY4: 77 | EZ4: 280 | FA4: 223 | FB4: 503 | FC4: 6 | FD4: 6 | FE4: 0 | FF4: 3 | FG4: 1 | FH4: 0 | FI4: 5 | FJ4: 3 | FK4: 8 | FL4: 8 | FM4: 20 | FN4: 20 | FO4: 40 | FP4: 1 | FQ4: 0 | FR4: 12 | FS4: 25 | FT4: 37 | FU4: 52 | FV4: 77 | FW4: 57 | FX4: 55 | FY4: 24 | FZ4: 24 | GA4: 10 | GB4: 206 | GC4: 168 | GD4: 374 | GE4: 247 | GF4: 187 | GG4: 386 | GH4: 392 | GI4: 300 | GJ4: 209 | GK4: 116 | GL4: 91.5 | GM4: 62 | GN4: 31 | GO4: 10 | GP4: 15 | GQ4: 1121 | GR4: 925.5 | GS4: 2046.5 | GT4: 4 | GU4: 11 | GV4: 9 | GW4: 34 | GX4: 11 | GY4: 40 | GZ4: 12 | HA4: 15.5 | HB4: 8 | HC4: 7 | HD4: 0 | HE4: 0 | HF4: 44 | HG4: 107.5 | HH4: 151.5 | HI4: 15 | HJ4: 12 | HK4: 131 | HL4: 111 | HM4: 103 | HN4: 71 | HO4: 36 | HP4: 29 | HQ4: 25 | HR4: 12 | HS4: 0 | HT4: 3 | HU4: 310 | HV4: 238 | HW4: 548 | HX4: 68 | HY4: 100 | HZ4: 103 | IA4: 185 | IB4: 83 | IC4: 128 | ID4: 52 | IE4: 98 | IF4: 32 | IG4: 57 | IH4: 22 | II4: 31 | IJ4: 360 | IK4: 599 | IL4: 959 | IM4: 477 | IN4: 1100 | IO4: 823 | IP4: 434 | IQ4: 224 | IR4: 62 | IS4: 3120 | IT4: 3120 | IU4: 23 | IV4: 33 | IW4: 24 | IX4: 24 | IY4: 2 | IZ4: 2 | JA4: 10 | JB4: 7 | JC4: 112 | JD4: 94 | JE4: 171 | JF4: 160 | JG4: 331 | JH4: 49 | JI4: 51 | JJ4: 24 | JK4: 25 | JL4: 5 | JM4: 4 | JN4: 12 | JO4: 22 | JP4: 1183 | JQ4: 1018 | JR4: 1273 | JS4: 1120 | JT4: 2393 | JU4: 4 | JV4: 23 | JW4: 8 | JX4: 10 | JY4: 0 | JZ4: 0 | KA4: 1 | KB4: 6 | KC4: 31 | KD4: 72 | KE4: 44 | KF4: 111 | KG4: 155 | KH4: 14 | KI4: 29 | KJ4: 13 | KK4: 23 | KL4: 0 | KM4: 0 | KN4: 3 | KO4: 6 | KP4: 232 | KQ4: 162 | KR4: 262 | KS4: 220 | KT4: 482 | KU4: 0 | KV4: 0 | KW4: 43 | KX4: 4 | KY4: 95 | KZ4: 63 | LA4: 24 | LB4: 39 | LC4: 125 | LD4: 99 | LE4: 246 | LF4: 158 | LG4: 849 | LH4: 26 | LI4: 9 | LJ4: 29 | LK4: 206 | LL4: 244
