Workbook
Name _1516_AFS_Location_Excel: #REF!
Name _1516_AFS_Location_Excel: #REF!
Name _1516_AFS_Location_Excel: #REF!
Name _1516_AFS_Location_Excel: #REF!
Name _Hlk30070486: CONTENTS!#REF!
Name activity2014: '[2]2014A'!$A$2:$GH$129
Name activity2014: '[2]2014A'!$A$2:$GH$129
Name activity2014: '[3]2014A'!$A$2:$GH$129
Name activity2015: '[4]2015A Data'!$A$2:$FY$133
Name activity2015: '[2]2015A'!$A$2:$GV$134
Name activity2015: '[2]2015A'!$A$2:$GV$134
Name activity2015: '[3]2015A'!$A$2:$GV$134
Name activity2015f: '[5]2015A Data'!$A$2:$FY$133
Name activity2015f: '[6]2015A Data'!$A$2:$FY$133
Name activity2016: '[2]2016A'!$A$2:$FZ$132
Name activity2016: '[7]2016A'!$A$2:$FZ$5
Name activity2016: '[3]2016A'!$A$2:$FZ$132
Name activity2017: '[8]2017A'!$A$1:$GK$119
Name activity2017: '[9]2017A'!$A$1:$GK$119
Name activity2017a: '[2]2017A'!$A$1:$GM$132
Name activity2017a: '[2]2017A'!$A$1:$GM$132
Name activity2017a: '[3]2017A'!$A$1:$GM$132
Name All_organisations: '[7]2015A'!#REF!
Name All_organisations: #REF!
Name all_organisationse: '[7]2015E'!#REF!
Name all_organisationse: #REF!
Name alldata2014: '[10]2014 merged'!$A$2:$BN$138
Name alldata2014: '[11]2014 merged'!$A$2:$BN$126
Name alldata2014: '[12]2014 merged'!$A$2:$BN$126
Name alldata2014f: '[3]2014F'!$A$2:$BN$117
Name alldata2014f: '[2]2014F'!$A$2:$BN$133
Name alldata2014f: '[2]2014F'!$A$2:$BN$133
Name alldata2014f: #REF!
Name alldata2015: '[10]2015 merged'!$A$2:$BN$133
Name alldata2015: '[11]2015 merged'!$A$2:$BN$121
Name alldata2015: '[12]2015 merged'!$A$2:$BN$121
Name alldata2015f: '[3]2015F'!$A$2:$BN$118
Name alldata2015f: '[2]2015F'!$A$2:$BN$134
Name alldata2015f: '[2]2015F'!$A$2:$BN$134
Name alldata2015f: #REF!
Name alldata2016: '2016F'!$A$2:$BN$121
Name employment2014: #REF!
Name employment2014: #REF!
Name employment2014_2: '[7]2014A'!#REF!
Name employment2014_2: #REF!
Name employment2014_2e: '[7]2014E'!#REF!
Name employment2014_2e: #REF!
Name employment2014_3: '[13]2014E Data'!$A$2:$LD$138
Name employment2014_3: #REF!
Name employment2014_3: #REF!
Name employment2014_3e: #REF!
Name employment2014_3e: '[3]2014E'!$A$2:$LD$133
Name employment2014e: #REF!
Name employment2014e: #REF!
Name employment2015: #REF!
Name employment2015: #REF!
Name employment2015_2: '[13]2015E Data'!$A$2:$LD$133
Name employment2015_2: #REF!
Name employment2015_2: #REF!
Name employment2015_2e: #REF!

Sheet 2016F
A109: All organisations | B109: 107 | J109: 8785584 | K109: 4674376 | L109: 10175555 | M109: 26387630 | O109: 14879926 | P109: 1390271.6 | Q109: 768479.14 | R109: 1256568 | S109: 309696.74 | T109: 366445.42 | U109: 641932.38 | X109: 528256.06 | Y109: 5261649.4 | Z109: 2605754 | AA109: 17236636 | AB109: 58607.18 | AC109: 1690609 | AD109: 43672.54 | AE109: 590262.7 | AF109: 575292.73 | AG109: 238741.36 | AH109: 1259459.5 | AI109: 1880020.7 | AJ109: 3700898.2 | AK109: 13112621 | AL109: 833063.74 | AN109: 13915585 | AO109: 2013377.8 | AP109: 3918942.9 | AQ109: 3153326.1 | AR109: 168333.56 | AS109: 1520680.2 | AT109: 422319.86 | AV109: 4124711.5 | AW109: 10564839 | AX109: 412121.79 | AY109: 360964.79 | AZ109: 461998.8 | BA109: 95888.07 | BB109: 60667.52 | BC109: 2557578.9 | BD109: 780842.76 | BE109: 3006615 | BF109: 98007.17 | BG109: 2020576.8 | BH109: 20420100 | BI109: 1220742.3 | BJ109: 415228.46 | BK109: 1767454.5 | BL109: 3403425.3 | BM109: 262947.32 | BN109: 584217.6 | BO109: 8497395.5
A110: Drama | B110: 16 | J110: 1371331 | K110: 840644 | L110: 1607924.3 | M110: 2918594.1 | O110: 2100463.9 | P110: 123790.65 | Q110: 81064.51 | R110: 135519.61 | S110: 26174.75 | T110: 36704.89 | U110: 60057.53 | X110: 69239.92 | Y110: 532551.86 | Z110: 112097.68 | AA110: 1730677.3 | AB110: 8937.33 | AC110: 195368.3 | AD110: 14861.74 | AE110: 191454.09 | AF110: 26418.32 | AG110: 29088.46 | AH110: 271981.92 | AI110: 349785.95 | AJ110: 489638.26 | AK110: 2205883 | AL110: 202605.72 | AN110: 2408488.7 | AO110: 61062.07 | AP110: 94654.22 | AQ110: 313904.04 | AR110: 28879.56 | AS110: 75339.68 | AT110: 63230.13 | AV110: 228511.44 | AW110: 1084747.8 | AX110: 265110.16 | AY110: 225212.37 | AZ110: 36278.4 | BA110: 0 | BB110: 0 | BC110: 470000 | BD110: 6000 | BE110: 79061 | BF110: 496 | BG110: 90307.03 | BH110: 2257212.7 | BI110: 80490 | BJ110: 13058.55 | BK110: 493275.64 | BL110: 586824.19 | BM110: 77227 | BN110: 70354 | BO110: 1118059.5
A111: Traditional Arts | B111: 13 | J111: 396980 | K111: 227948 | L111: 455945 | M111: 2001270.5 | O111: 1354088.5 | P111: 114512.86 | Q111: 70141.45 | R111: 70754.91 | S111: 33797 | T111: 41622.85 | U111: 97447.8 | X111: 64733.82 | Y111: 493010.69 | Z111: 347662.82 | AA111: 978400.63 | AB111: 16517.12 | AC111: 117586.46 | AD111: 2908 | AE111: 79239.26 | AF111: 30104.5 | AG111: 4594.55 | AH111: 95583.91 | AI111: 93558.65 | AJ111: 124618 | AK111: 624928 | AL111: 39312 | AN111: 664240 | AO111: 658716 | AP111: 581617.08 | AQ111: 231983.9 | AR111: 11624 | AS111: 270193.14 | AT111: 54364 | AV111: 994897.14 | AW111: 448331.42 | AX111: 45998.13 | AY111: 7618.42 | AZ111: 75843.44 | BA111: 14776 | BB111: 0 | BC111: 163346 | BD111: 32131.88 | BE111: 99354 | BF111: 0 | BG111: 598350.31 | BH111: 1485749.6 | BI111: 24524 | BJ111: 26387.69 | BK111: 20941 | BL111: 71852.69 | BM111: 96198 | BN111: 107794.08 | BO111: 671123.66
A112: Visual Arts | B112: 21 | J112: 1139571 | K112: 383560 | L112: 1170103.7 | M112: 2554624.9 | O112: 1458726.3 | P112: 396273.14 | Q112: 69790.14 | R112: 61204.45 | S112: 41167.97 | T112: 50564.81 | U112: 58627.32 | X112: 46978.13 | Y112: 724605.96 | Z112: 101366.26 | AA112: 301472 | AB112: 2438.34 | AC112: 63532.67 | AD112: 0 | AE112: 7308.56 | AF112: 3280 | AG112: 46430.75 | AH112: 59400.17 | AI112: 125488.84 | AJ112: 192942.35 | AK112: 1418969.8 | AL112: 103941.1 | AN112: 1522910.9 | AO112: 242131.52 | AP112: 182142.65 | AQ112: 351804.4 | AR112: 0 | AS112: 174713 | AT112: 8964.63 | AV112: 425809.15 | AW112: 17250 | AX112: 0 | AY112: 0 | AZ112: 169197.29 | BA112: 5059.56 | BB112: 58287.07 | BC112: 0 | BD112: 55931.26 | BE112: 300397.13 | BF112: 48743.17 | BG112: 188174.22 | BH112: 843039.7 | BI112: 26404.09 | BJ112: 6641.95 | BK112: 91720.26 | BL112: 124766.3 | BM112: 89522.32 | BN112: 44085.52 | BO112: 409886.43
A113: Combined | B113: 29 | J113: 2959257 | K113: 1913025 | L113: 3701580.5 | M113: 10971854 | O113: 6284241.8 | P113: 454307.1 | Q113: 457716.51 | R113: 747154.34 | S113: 141881 | T113: 147919.81 | U113: 336340.62 | X113: 246690.69 | Y113: 2532010.1 | Z113: 1484537.1 | AA113: 9732109.1 | AB113: 17078.25 | AC113: 927883.65 | AD113: 21697.8 | AE113: 253815.37 | AF113: 229275.92 | AG113: 128132.86 | AH113: 316394.18 | AI113: 346337.39 | AJ113: 1873456.1 | AK113: 4713526 | AL113: 288592.92 | AN113: 5001019.3 | AO113: 293775.39 | AP113: 1401090.9 | AQ113: 1570767.9 | AR113: 15245 | AS113: 776400.35 | AT113: 167169 | AV113: 1252589.7 | AW113: 8390556.9 | AX113: 6747 | AY113: 0 | AZ113: 50500 | BA113: 48389.43 | BB113: 2380.45 | BC113: 1873518.9 | BD113: 590592.62 | BE113: 771082.11 | BF113: 1390 | BG113: 830253.61 | BH113: 12565411 | BI113: 683034.97 | BJ113: 98742.1 | BK113: 554780.6 | BL113: 1336557.7 | BM113: 0 | BN113: 20000 | BO113: 4095111.7
A114: Music | B114: 15 | J114: 2241533 | K114: 904787 | L114: 2482772 | M114: 6370623.5 | O114: 2663313.5 | P114: 205506 | Q114: 51432.4 | R114: 196349 | S114: 41257.85 | T114: 37572.14 | U114: 42166.53 | X114: 68406.9 | Y114: 642690.82 | Z114: 354130.89 | AA114: 3293372.5 | AB114: 9805.19 | AC114: 329514.29 | AD114: 3235 | AE114: 48739.82 | AF114: 254933.77 | AG114: 25474.74 | AH114: 392462.95 | AI114: 884089.27 | AJ114: 881814.66 | AK114: 3061486 | AL114: 95226 | AN114: 3156712 | AO114: 476720.93 | AP114: 1584715 | AQ114: 463410.36 | AR114: 112585 | AS114: 85210.06 | AT114: 41518.47 | AV114: 716034.46 | AW114: 593724.48 | AX114: 50511 | AY114: 123123 | AZ114: 121032.67 | BA114: 2054.87 | BB114: 0 | BC114: 46508 | BD114: 76109 | BE114: 1219744.6 | BF114: 5537 | BG114: 236879.35 | BH114: 2475223.9 | BI114: 320646.7 | BJ114: 136428.64 | BK114: 495190 | BL114: 952265.34 | BM114: 0 | BN114: 319984 | BO114: 1715663.2
A115: Dance | B115: 5 | J115: 216599 | K115: 124454 | L115: 240603 | M115: 401563.46 | O115: 224144.98 | P115: 34377.8 | Q115: 8113.33 | R115: 2745.69 | S115: 5742.64 | T115: 3803.13 | U115: 14350.71 | X115: 7442.8 | Y115: 76576.1 | Z115: 37447.14 | AA115: 171351.35 | AB115: 110 | AC115: 14825.54 | AD115: 970 | AE115: 2485.7 | AF115: 14111.02 | AG115: 1931 | AH115: 32970.62 | AI115: 16500.65 | AJ115: 44405.1 | AK115: 341050 | AL115: 43331 | AN115: 384381 | AO115: 21212.6 | AP115: 5353 | AQ115: 58105 | AR115: 0 | AS115: 4512 | AT115: 3821.53 | AV115: 29546.13 | AW115: 8952.42 | AX115: 1912 | AY115: 5011 | AZ115: 3100 | BA115: 0 | BB115: 0 | BC115: 0 | BD115: 12348 | BE115: 65377.42 | BF115: 0 | BG115: 15103.76 | BH115: 111804.6 | BI115: 0 | BJ115: 5321.38 | BK115: 17736 | BL115: 23057.38 | BM115: 0 | BN115: 0 | BO115: 120319.56
A116: Literature | B116: 4 | J116: 199899 | K116: 126850 | L116: 216646 | M116: 613209.65 | O116: 436911.7 | P116: 41259.02 | Q116: 15909.8 | R116: 12648 | S116: 12108.95 | T116: 39946.79 | U116: 14773.87 | X116: 6877.71 | Y116: 143524.14 | Z116: 50898.97 | AA116: 339798.72 | AB116: 3163.95 | AC116: 18874.08 | AD116: 0 | AE116: 6735.9 | AF116: 9617.2 | AG116: 190 | AH116: 65506.25 | AI116: 40215 | AJ116: 15162.7 | AK116: 326746 | AL116: 4800 | AN116: 302546 | AO116: 259759.33 | AP116: 37230 | AQ116: 33053 | AR116: 0 | AS116: 95771 | AT116: 83252.1 | AV116: 438782.43 | AW116: 17633.65 | AX116: 0 | AY116: 0 | AZ116: 0 | BA116: 25608.21 | BB116: 0 | BC116: 4206 | BD116: 3870 | BE116: 72881.8 | BF116: 39419 | BG116: 60877.54 | BH116: 224496.2 | BI116: 40609.57 | BJ116: 11834.15 | BK116: 2500 | BL116: 54943.72 | BM116: 0 | BN116: 0 | BO116: 141657.77
A117: Circus/Street Theatre/Carnival | B117: 4 | J117: 260414 | K117: 153108 | L117: 299980 | M117: 555890 | O117: 358035 | P117: 20245.05 | Q117: 14311 | R117: 30192 | S117: 7566.58 | T117: 8311 | U117: 18168 | X117: 17886.09 | Y117: 116679.72 | Z117: 117613.17 | AA117: 689454 | AB117: 557 | AC117: 23024 | AD117: 0 | AE117: 484 | AF117: 7552 | AG117: 2899 | AH117: 25159.53 | AI117: 24045 | AJ117: 78861 | AK117: 420032 | AL117: 55255 | AN117: 475287 | AO117: 0 | AP117: 32140 | AQ117: 130297.5 | AR117: 0 | AS117: 38541 | AT117: 0 | AV117: 38541 | AW117: 3642 | AX117: 41843.5 | AY117: 0 | AZ117: 6047 | BA117: 0 | BB117: 0 | BC117: 0 | BD117: 3860 | BE117: 398717 | BF117: 2422 | BG117: 631 | BH117: 457162.5 | BI117: 45033 | BJ117: 116814 | BK117: 91311 | BL117: 253158 | BM117: 0 | BN117: 22000 | BO117: 225573.7
A118: Small | B118: 48 | J118: 1626693 | K118: 806420 | L118: 1834296.7 | M118: 3261896.8 | O118: 1549548.9 | P118: 385395.02 | Q118: 43399.23 | R118: 23544.9 | S118: 45360.97 | T118: 67795.59 | U118: 82866.07 | X118: 95734.68 | Y118: 744096.46 | Z118: 214225.8 | AA118: 1405685.6 | AB118: 26604.1 | AC118: 109606.81 | AD118: 15819 | AE118: 37213.44 | AF118: 134765.77 | AG118: 36607.19 | AH118: 287470.67 | AI118: 231060.09 | AJ118: 336534.82 | AK118: 2251987.2 | AL118: 213704.32 | AN118: 2436691.6 | AO118: 197533.89 | AP118: 206149.32 | AQ118: 473665 | AR118: 3879.56 | AS118: 139624 | AT118: 52451.81 | AV118: 393489.26 | AW118: 335589.22 | AX118: 87578.96 | AY118: 22672.87 | AZ118: 243704.13 | BA118: 24789.81 | BB118: 57042.07 | BC118: 369 | BD118: 68502.26 | BE118: 311740.68 | BF118: 13316 | BG118: 122138.04 | BH118: 1287443 | BI118: 80863.27 | BJ118: 50522.95 | BK118: 342108.7 | BL118: 473494.92 | BM118: 258315.5 | BN118: 234027.91 | BO118: 954475.02
A119: Medium | B119: 49 | J119: 3831429 | K119: 2139440 | L119: 4090747.9 | M119: 10133245 | O119: 6756775.9 | P119: 828076.59 | Q119: 277604.56 | R119: 308497.66 | S119: 135485.33 | T119: 168016.08 | U119: 304306.53 | X119: 176706.88 | Y119: 2198693.6 | Z119: 867440.61 | AA119: 5534907 | AB119: 28362.18 | AC119: 542161.44 | AD119: 10563.54 | AE119: 68240.91 | AF119: 206208.28 | AG119: 95601.88 | AH119: 719386.71 | AI119: 796361.41 | AJ119: 1713823.5 | AK119: 5922653.5 | AL119: 432114.92 | AN119: 6353668.9 | AO119: 1746365.6 | AP119: 1797284.6 | AQ119: 1442200.1 | AR119: 51869 | AS119: 1041349.2 | AT119: 353493.05 | AV119: 3193076.8 | AW119: 1038778 | AX119: 291678.83 | AY119: 294291.92 | AZ119: 213464.67 | BA119: 22800.83 | BB119: 2306 | BC119: 476440 | BD119: 415064.88 | BE119: 1191969.3 | BF119: 84374.17 | BG119: 851381.47 | BH119: 4882550 | BI119: 363781.09 | BJ119: 230341.77 | BK119: 969758.8 | BL119: 1563881.7 | BM119: 4631.82 | BN119: 75205.69 | BO119: 3503419.3
A120: Large | B120: 10 | J120: 3327462 | K120: 1728516 | L120: 4250510 | M120: 12992489 | O120: 6573600.8 | P120: 176800.01 | Q120: 447475.35 | R120: 924525.44 | S120: 128850.44 | T120: 130633.75 | U120: 254759.78 | X120: 255814.5 | Y120: 2318859.3 | Z120: 1524087.6 | AA120: 10296043 | AB120: 3640.9 | AC120: 1038840.7 | AD120: 17290 | AE120: 484808.35 | AF120: 234318.68 | AG120: 106532.29 | AH120: 252602.15 | AI120: 852599.25 | AJ120: 1650539.9 | AK120: 4937980 | AL120: 187244.5 | AN120: 5125224.5 | AO120: 69478.39 | AP120: 1915509 | AQ120: 1237461 | AR120: 112585 | AS120: 339707 | AT120: 16375 | AV120: 538145.39 | AW120: 9190471.5 | AX120: 32864 | AY120: 44000 | AZ120: 4830 | BA120: 48297.43 | BB120: 1319.45 | BC120: 2080769.9 | BD120: 297275.62 | BE120: 1502905.1 | BF120: 317 | BG120: 1047057.3 | BH120: 14250107 | BI120: 776097.97 | BJ120: 134363.74 | BK120: 455587 | BL120: 1366048.7 | BM120: 0 | BN120: 274984 | BO120: 4039501.1
A123: Constant Sample
A124: All organisations | B124: 93 | J124: 7948350 | K124: 4152210 | L124: 9240849.4 | M124: 24371663 | O124: 13647207 | P124: 1280262.1 | Q124: 735386 | R124: 1217583.6 | S124: 286766.61 | T124: 343103.29 | U124: 581699.13 | V124: 0 | W124: 0 | X124: 512861.64 | Y124: 4957662.3 | Z124: 2345498.4 | AA124: 15863693 | AB124: 52462.85 | AC124: 1624186.4 | AD124: 35810.8 | AE124: 578791.53 | AF124: 544197.49 | AG124: 223911.17 | AH124: 1218575.5 | AI124: 1811371.7 | AJ124: 3058343.2 | AK124: 11784090 | AL124: 731191.24 | AM124: 0 | AN124: 12485181 | AO124: 1761136.8 | AP124: 3792304.7 | AQ124: 2781191.7 | AR124: 164454 | AS124: 1461403.6 | AT124: 395746.86 | AU124: 0 | AV124: 3782741.2 | AW124: 10439321 | AX124: 407335.46 | AY124: 354286.46 | AZ124: 379700.4 | BA124: 95888.07 | BB124: 60457.52 | BC124: 2557578.9 | BD124: 779417.76 | BE124: 2706762.5 | BF124: 96121.17 | BG124: 1940013.4 | BH124: 19816883 | BI124: 1137663.3 | BJ124: 408061.37 | BK124: 1556745.4 | BL124: 3102470.1 | BM124: 242577.32 | BN124: 578883.6 | BO124: 7513393.5
A125: Drama | B125: 12 | J125: 1233648 | K125: 725235 | L125: 1422751.2 | M125: 2485909.4 | O125: 1806290.5 | P125: 114317.86 | Q125: 61461.07 | R125: 117991.56 | S125: 23859.64 | T125: 27449.37 | U125: 49876.95 | V125: 0 | W125: 0 | X125: 66485.66 | Y125: 461442.11 | Z125: 90640.5 | AA125: 1554438.2 | AB125: 5152 | AC125: 184073.07 | AD125: 7000 | AE125: 189640 | AF125: 18806.32 | AG125: 24001.88 | AH125: 252444.18 | AI125: 320477.69 | AJ125: 398887.85 | AK125: 1952791 | AL125: 165814.22 | AM125: 0 | AN125: 2118605.2 | AO125: 61062.07 | AP125: 93843 | AQ125: 223929.51 | AR125: 25000 | AS125: 30428 | AT125: 63230.13 | AU125: 0 | AV125: 179720.2 | AW125: 999525.23 | AX125: 260323.83 | AY125: 218534.04 | AZ125: 0 | BA125: 0 | BB125: 0 | BC125: 470000 | BD125: 6000 | BE125: 64189 | BF125: 0 | BG125: 32107.57 | BH125: 2050679.7 | BI125: 70490 | BJ125: 9331.46 | BK125: 392957.11 | BL125: 472778.57 | BM125: 77227 | BN125: 70354 | BO125: 967766.41
A126: Traditional Arts | B126: 13 | J126: 396980 | K126: 227948 | L126: 455945 | M126: 2001270.5 | O126: 1354088.5 | P126: 114512.86 | Q126: 70141.45 | R126: 70754.91 | S126: 33797 | T126: 41622.85 | U126: 97447.8 | V126: 0 | W126: 0 | X126: 64733.82 | Y126: 493010.69 | Z126: 347662.82 | AA126: 978400.63 | AB126: 16517.12 | AC126: 117586.46 | AD126: 2908 | AE126: 79239.26 | AF126: 30104.5 | AG126: 4594.55 | AH126: 95583.91 | AI126: 93558.65 | AJ126: 124618 | AK126: 624928 | AL126: 39312 | AM126: 0 | AN126: 664240 | AO126: 658716 | AP126: 581617.08 | AQ126: 231983.9 | AR126: 11624 | AS126: 270193.14 | AT126: 54364 | AU126: 0 | AV126: 994897.14 | AW126: 448331.42 | AX126: 45998.13 | AY126: 7618.42 | AZ126: 75843.44 | BA126: 14776 | BB126: 0 | BC126: 163346 | BD126: 32131.88 | BE126: 99354 | BF126: 0 | BG126: 598350.31 | BH126: 1485749.6 | BI126: 24524 | BJ126: 26387.69 | BK126: 20941 | BL126: 71852.69 | BM126: 96198 | BN126: 107794.08 | BO126: 671123.66
A127: Visual Arts | B127: 18 | J127: 945843 | K127: 338491 | L127: 975512.72 | M127: 2252309.9 | O127: 1248965.6 | P127: 374099.84 | Q127: 65336.18 | R127: 53727.06 | S127: 35778.01 | T127: 48652.02 | U127: 48675.32 | V127: 0 | W127: 0 | X127: 45118.86 | Y127: 671387.29 | Z127: 87413.67 | AA127: 250759.5 | AB127: 2438.34 | AC127: 38571.82 | AD127: 0 | AE127: 7020.18 | AF127: 654 | AG127: 43818.6 | AH127: 54333.17 | AI127: 121678.96 | AJ127: 127922.28 | AK127: 1211041.8 | AL127: 73073.1 | AM127: 0 | AN127: 1284114.9 | AO127: 242131.52 | AP127: 99997.65 | AQ127: 344350.4 | AR127: 0 | AS127: 172349 | AT127: 8964.63 | AU127: 0 | AV127: 423445.15 | AW127: 17250 | AX127: 0 | AY127: 0 | AZ127: 168577.29 | BA127: 5059.56 | BB127: 58287.07 | BC127: 0 | BD127: 55931.26 | BE127: 200744.61 | BF127: 48743.17 | BG127: 186907.22 | BH127: 741500.18 | BI127: 19804.09 | BJ127: 6201.95 | BK127: 91720.26 | BL127: 117726.3 | BM127: 69152.32 | BN127: 38751.52 | BO127: 322946.24
A128: Combined | B128: 23 | J128: 2469286 | K128: 1559042 | L128: 3173418.5 | M128: 9978738.2 | O128: 5750042.4 | P128: 388974.69 | Q128: 452996.77 | R128: 739486.34 | S128: 129428.94 | T128: 138270.99 | U128: 298985.95 | V128: 0 | W128: 0 | X128: 238227.8 | Y128: 2386371.5 | Z128: 1299320.3 | AA128: 8623881.5 | AB128: 15340.25 | AC128: 904798.15 | AD128: 21697.8 | AE128: 244446.67 | AF128: 208418.68 | AG128: 121001.4 | AH128: 302007.88 | AI128: 310806.51 | AJ128: 1389505.6 | AK128: 3869572 | AL128: 254379.92 | AM128: 0 | AN128: 4122852.3 | AO128: 293775.39 | AP128: 1357408.9 | AQ128: 1296062 | AR128: 15245 | AS128: 764399.35 | AT128: 167169 | AU128: 0 | AV128: 1240588.7 | AW128: 8350261.7 | AX128: 6747 | AY128: 0 | AZ128: 5100 | BA128: 48389.43 | BB128: 2170.45 | BC128: 1873518.9 | BD128: 589167.62 | BE128: 585754.11 | BF128: 0 | BG128: 820936.61 | BH128: 12282046 | BI128: 616555.97 | BJ128: 95742.1 | BK128: 444390 | BL128: 1156688.1 | BM128: 0 | BN128: 20000 | BO128: 3393319.9
A129: Music | B129: 14 | J129: 2225681 | K129: 897082 | L129: 2455993 | M129: 6082771.5 | O129: 2468728.5 | P129: 192475 | Q129: 47116.4 | R129: 190038 | S129: 38484.85 | T129: 35047.14 | U129: 39420.53 | V129: 0 | W129: 0 | X129: 66088.9 | Y129: 608670.82 | Z129: 314501.89 | AA129: 3255609.5 | AB129: 9184.19 | AC129: 322433.29 | AD129: 3235 | AE129: 48739.82 | AF129: 254933.77 | AG129: 25474.74 | AH129: 390569.95 | AI129: 884089.27 | AJ129: 878980.66 | AK129: 3037929 | AL129: 95226 | AM129: 0 | AN129: 3133155 | AO129: 224479.93 | AP129: 1584715 | AQ129: 463410.36 | AR129: 112585 | AS129: 85210.06 | AT129: 14945.47 | AU129: 0 | AV129: 437220.46 | AW129: 593724.48 | AX129: 50511 | AY129: 123123 | AZ129: 121032.67 | BA129: 2054.87 | BB129: 0 | BC129: 46508 | BD129: 76109 | BE129: 1219744.6 | BF129: 5537 | BG129: 225099.35 | BH129: 2463443.9 | BI129: 320646.7 | BJ129: 136428.64 | BK129: 495190 | BL129: 952265.34 | BM129: 0 | BN129: 319984 | BO129: 1670686.2
A130: Dance | B130: 5 | J130: 216599 | K130: 124454 | L130: 240603 | M130: 401563.46 | O130: 224144.98 | P130: 34377.8 | Q130: 8113.33 | R130: 2745.69 | S130: 5742.64 | T130: 3803.13 | U130: 14350.71 | V130: 0 | W130: 0 | X130: 7442.8 | Y130: 76576.1 | Z130: 37447.14 | AA130: 171351.35 | AB130: 110 | AC130: 14825.54 | AD130: 970 | AE130: 2485.7 | AF130: 14111.02 | AG130: 1931 | AH130: 32970.62 | AI130: 16500.65 | AJ130: 44405.1 | AK130: 341050 | AL130: 43331 | AM130: 0 | AN130: 384381 | AO130: 21212.6 | AP130: 5353 | AQ130: 58105 | AR130: 0 | AS130: 4512 | AT130: 3821.53 | AU130: 0 | AV130: 29546.13 | AW130: 8952.42 | AX130: 1912 | AY130: 5011 | AZ130: 3100 | BA130: 0 | BB130: 0 | BC130: 0 | BD130: 12348 | BE130: 65377.42 | BF130: 0 | BG130: 15103.76 | BH130: 111804.6 | BI130: 0 | BJ130: 5321.38 | BK130: 17736 | BL130: 23057.38 | BM130: 0 | BN130: 0 | BO130: 120319.56
A131: Literature | B131: 4 | J131: 199899 | K131: 126850 | L131: 216646 | M131: 613209.65 | O131: 436911.7 | P131: 41259.02 | Q131: 15909.8 | R131: 12648 | S131: 12108.95 | T131: 39946.79 | U131: 14773.87 | V131: 0 | W131: 0 | X131: 6877.71 | Y131: 143524.14 | Z131: 50898.97 | AA131: 339798.72 | AB131: 3163.95 | AC131: 18874.08 | AD131: 0 | AE131: 6735.9 | AF131: 9617.2 | AG131: 190 | AH131: 65506.25 | AI131: 40215 | AJ131: 15162.7 | AK131: 326746 | AL131: 4800 | AM131: 0 | AN131: 302546 | AO131: 259759.33 | AP131: 37230 | AQ131: 33053 | AR131: 0 | AS131: 95771 | AT131: 83252.1 | AU131: 0 | AV131: 438782.43 | AW131: 17633.65 | AX131: 0 | AY131: 0 | AZ131: 0 | BA131: 25608.21 | BB131: 0 | BC131: 4206 | BD131: 3870 | BE131: 72881.8 | BF131: 39419 | BG131: 60877.54 | BH131: 224496.2 | BI131: 40609.57 | BJ131: 11834.15 | BK131: 2500 | BL131: 54943.72 | BM131: 0 | BN131: 0 | BO131: 141657.77
A132: Circus/Street Theatre/Carnival | B132: 4 | J132: 260414 | K132: 153108 | L132: 299980 | M132: 555890 | O132: 358035 | P132: 20245.05 | Q132: 14311 | R132: 30192 | S132: 7566.58 | T132: 8311 | U132: 18168 | V132: 0 | W132: 0 | X132: 17886.09 | Y132: 116679.72 | Z132: 117613.17 | AA132: 689454 | AB132: 557 | AC132: 23024 | AD132: 0 | AE132: 484 | AF132: 7552 | AG132: 2899 | AH132: 25159.53 | AI132: 24045 | AJ132: 78861 | AK132: 420032 | AL132: 55255 | AM132: 0 | AN132: 475287 | AO132: 0 | AP132: 32140 | AQ132: 130297.5 | AR132: 0 | AS132: 38541 | AT132: 0 | AU132: 0 | AV132: 38541 | AW132: 3642 | AX132: 41843.5 | AY132: 0 | AZ132: 6047 | BA132: 0 | BB132: 0 | BC132: 0 | BD132: 3860 | BE132: 398717 | BF132: 2422 | BG132: 631 | BH132: 457162.5 | BI132: 45033 | BJ132: 116814 | BK132: 91311 | BL132: 253158 | BM132: 0 | BN132: 22000 | BO132: 225573.7
A133: Small | B133: 42 | J133: 1403882 | K133: 691631 | L133: 1554154.5 | M133: 2773914.1 | O133: 1319578.9 | P133: 370194.02 | Q133: 37389.23 | R133: 18526.9 | S133: 41129.86 | T133: 63539.43 | U133: 72610.55 | V133: 0 | W133: 0 | X133: 90644.42 | Y133: 694034.41 | Z133: 189584.18 | AA133: 1209224.5 | AB133: 23893.6 | AC133: 95725.93 | AD133: 15072 | AE133: 34327.35 | AF133: 127153.77 | AG133: 32547.63 | AH133: 264415.93 | AI133: 197697.83 | AJ133: 269411.9 | AK133: 1914387.2 | AL133: 189530.32 | AM133: 0 | AN133: 2074917.6 | AO133: 197533.89 | AP133: 185506.1 | AQ133: 338628.47 | AR133: 0 | AS133: 105529.5 | AT133: 52451.81 | AU133: 0 | AV133: 355515.2 | AW133: 263978.3 | AX133: 82792.63 | AY133: 15994.54 | AZ133: 240659.13 | BA133: 24789.81 | BB133: 56832.07 | BC133: 369 | BD133: 67077.26 | BE133: 296868.68 | BF133: 12820 | BG133: 121731.04 | BH133: 1183912.5 | BI133: 75863.27 | BJ133: 49767.95 | BK133: 337446.7 | BL133: 463077.92 | BM133: 237945.5 | BN133: 228693.91 | BO133: 829252.59
A134: Medium | B134: 41 | J134: 3217006 | K134: 1732063 | L134: 3436184.9 | M134: 8605259.6 | O134: 5754027.5 | P134: 733268.09 | Q134: 250521.42 | R134: 274531.22 | S134: 116786.31 | T134: 148930.11 | U134: 254328.8 | V134: 0 | W134: 0 | X134: 166402.72 | Y134: 1944768.7 | Z134: 631826.65 | AA134: 4358425.9 | AB134: 24928.35 | AC134: 489619.74 | AD134: 3448.8 | AE134: 59655.83 | AF134: 182725.04 | AG134: 84831.25 | AH134: 701557.41 | AI134: 761074.65 | AJ134: 1138391.5 | AK134: 4931722.5 | AL134: 354416.42 | AM134: 0 | AN134: 5285039.4 | AO134: 1494124.6 | AP134: 1691289.6 | AQ134: 1205102.2 | AR134: 51869 | AS134: 1016167.1 | AT134: 326920.05 | AU134: 0 | AV134: 2889080.7 | AW134: 984871.1 | AX134: 291678.83 | AY134: 294291.92 | AZ134: 134211.27 | BA134: 22800.83 | BB134: 2306 | BC134: 476440 | BD134: 415064.88 | BE134: 906988.75 | BF134: 82984.17 | BG134: 771225.01 | BH134: 4382862.8 | BI134: 285702.09 | BJ134: 223929.68 | BK134: 763711.67 | BL134: 1273343.4 | BM134: 4631.82 | BN134: 75205.69 | BO134: 2644639.8
A135: Large | B135: 10 | J135: 3327462 | K135: 1728516 | L135: 4250510 | M135: 12992489 | O135: 6573600.8 | P135: 176800.01 | Q135: 447475.35 | R135: 924525.44 | S135: 128850.44 | T135: 130633.75 | U135: 254759.78 | V135: 0 | W135: 0 | X135: 255814.5 | Y135: 2318859.3 | Z135: 1524087.6 | AA135: 10296043 | AB135: 3640.9 | AC135: 1038840.7 | AD135: 17290 | AE135: 484808.35 | AF135: 234318.68 | AG135: 106532.29 | AH135: 252602.15 | AI135: 852599.25 | AJ135: 1650539.9 | AK135: 4937980 | AL135: 187244.5 | AM135: 0 | AN135: 5125224.5 | AO135: 69478.39 | AP135: 1915509 | AQ135: 1237461 | AR135: 112585 | AS135: 339707 | AT135: 16375 | AU135: 0 | AV135: 538145.39 | AW135: 9190471.5 | AX135: 32864 | AY135: 44000 | AZ135: 4830 | BA135: 48297.43 | BB135: 1319.45 | BC135: 2080769.9 | BD135: 297275.62 | BE135: 1502905.1 | BF135: 317 | BG135: 1047057.3 | BH135: 14250107 | BI135: 776097.97 | BJ135: 134363.74 | BK135: 455587 | BL135: 1366048.7 | BM135: 0 | BN135: 274984 | BO135: 4039501.1

Sheet 2017F
A109: All Organisations | B109: 107 | O109: 15542635 | P109: 1381856 | Q109: 807006.83 | R109: 1137741.4 | S109: 292771.26 | T109: 371670.78 | U109: 1086646.1 | V109: 0 | W109: 0 | X109: 528311.51 | Y109: 5606003.8 | Z109: 2239788.8 | AA109: 16577327 | AB109: 221624.31 | AC109: 1728293.4 | AD109: 49802.99 | AE109: 596056.9 | AF109: 559399.44 | AG109: 297989.1 | AH109: 1214909.4 | AI109: 1888332.2 | AJ109: 3781140.9 | AK109: 12821550 | AL109: 0 | AM109: 1334179.3 | AN109: 14155729 | AO109: 1783254.8 | AP109: 3549870.9 | AQ109: 3463262.4 | AR109: 96293.37 | AS109: 820436.69 | AT109: 923579.8 | AU109: 357695.39 | AV109: 3623564.7 | AW109: 10768887 | AX109: 243551.1 | AY109: 216836.72 | AZ109: 467448.56 | BA109: 97932.49 | BB109: 65182.54 | BC109: 2429349.8 | BD109: 783629.23 | BE109: 2654937 | BF109: 127028.65 | BG109: 2804213.8 | BH109: 20607091 | BI109: 1251139 | BJ109: 548538.04 | BK109: 1985172.9 | BL109: 3748005.9 | BM109: 142563.3 | BN109: 1643028.4 | BO109: 8401312.4
A110: Drama | B110: 16 | O110: 2182072.7 | P110: 132292.5 | Q110: 91528.33 | R110: 169009.49 | S110: 30239.15 | T110: 37058.84 | U110: 512140.62 | V110: 0 | W110: 0 | X110: 91611.75 | Y110: 1063880.7 | Z110: 152426.22 | AA110: 1426511.3 | AB110: 134099.46 | AC110: 171348.71 | AD110: 17898.99 | AE110: 136731.82 | AF110: 19452.21 | AG110: 24669.41 | AH110: 332187.56 | AI110: 346339.93 | AJ110: 458698.34 | AK110: 2117500 | AL110: 0 | AM110: 207356.8 | AN110: 2324856.8 | AO110: 18409.18 | AP110: 171148 | AQ110: 444875 | AR110: 0 | AS110: 37437 | AT110: 255309.3 | AU110: 9096 | AV110: 311155.48 | AW110: 1046470.9 | AX110: 107334.9 | AY110: 159442.5 | AZ110: 30241.8 | BA110: 5031.37 | BB110: 0 | BC110: 336500 | BD110: 45907.4 | BE110: 83047.7 | BF110: 8435 | BG110: 542664.48 | BH110: 2365076.3 | BI110: 140814.6 | BJ110: 36075.96 | BK110: 311002.3 | BL110: 481701.5 | BM110: 0 | BN110: 0 | BO110: 1256711.8
A111: Traditional Arts | B111: 13 | O111: 1536224.8 | P111: 100645.79 | Q111: 67490 | R111: 78262.53 | S111: 29574.17 | T111: 43785.05 | U111: 104428.68 | V111: 0 | W111: 0 | X111: 65569.09 | Y111: 489755.31 | Z111: 156715.6 | AA111: 853203.3 | AB111: 30709.35 | AC111: 129786.7 | AD111: 2921 | AE111: 86920.14 | AF111: 39580.8 | AG111: 3629 | AH111: 82602.77 | AI111: 80332.58 | AJ111: 241302.39 | AK111: 581395.8 | AL111: 0 | AM111: 55719 | AN111: 637114.8 | AO111: 577150 | AP111: 499369.9 | AQ111: 284875.5 | AR111: 87500 | AS111: 404151.39 | AT111: 47364 | AU111: 38215.9 | AV111: 1116165.4 | AW111: 356862.82 | AX111: 34723 | AY111: 0 | AZ111: 62802.8 | BA111: 19630 | BB111: 56 | BC111: 126925.1 | BD111: 24623.9 | BE111: 110030.4 | BF111: 0 | BG111: 449587.69 | BH111: 1146195.9 | BI111: 41923.6 | BJ111: 25414.72 | BK111: 87981.4 | BL111: 150819.72 | BM111: 32252.3 | BN111: 1200 | BO111: 604800.25
A112: Visual Arts | B112: 21 | O112: 1406622.1 | P112: 383441.8 | Q112: 69783.11 | R112: 57753.28 | S112: 41348.85 | T112: 58279.01 | U112: 63830.98 | V112: 0 | W112: 0 | X112: 44406.12 | Y112: 718843.15 | Z112: 94195.1 | AA112: 315333.24 | AB112: 2062.4 | AC112: 70367.87 | AD112: 500 | AE112: 7897.48 | AF112: 1131 | AG112: 39697.9 | AH112: 47902.08 | AI112: 173033.69 | AJ112: 121404.7 | AK112: 1380062.7 | AL112: 0 | AM112: 61286.59 | AN112: 1441349.3 | AO112: 200469 | AP112: 57790 | AQ112: 314757.29 | AR112: 7749.37 | AS112: 13109.5 | AT112: 56651 | AU112: 10203.5 | AV112: 277978.87 | AW112: 341.3 | AX112: 0 | AY112: 0 | AZ112: 184206.96 | BA112: 20321.96 | BB112: 57620.35 | BC112: 0 | BD112: 67303.24 | BE112: 225806.29 | BF112: 26953.05 | BG112: 148909.15 | BH112: 717914.23 | BI112: 16113.87 | BJ112: 7198.51 | BK112: 56390.23 | BL112: 79702.6 | BM112: 38567 | BN112: 53642.41 | BO112: 313659.66
A113: Combined | B113: 29 | O113: 6447294.9 | P113: 452967.66 | Q113: 487297.64 | R113: 709110.17 | S113: 127311.62 | T113: 141784.3 | U113: 310282.25 | V113: 0 | W113: 0 | X113: 226597.8 | Y113: 2455351.4 | Z113: 1402566.6 | AA113: 9191868.6 | AB113: 11680.18 | AC113: 935788.58 | AD113: 26363 | AE113: 301061.57 | AF113: 181898.58 | AG113: 124028.18 | AH113: 270521.1 | AI113: 384282.88 | AJ113: 1619079.2 | AK113: 4768876 | AL113: 0 | AM113: 428053 | AN113: 5196929 | AO113: 311184 | AP113: 1567063.1 | AQ113: 1749951.1 | AR113: 0 | AS113: 114260.8 | AT113: 211638 | AU113: 187596.29 | AV113: 637082.8 | AW113: 8613287.2 | AX113: 6001 | AY113: 0 | AZ113: 56707 | BA113: 26596 | BB113: 6679.5 | BC113: 1835194.9 | BD113: 549413.1 | BE113: 701616.25 | BF113: 47653.8 | BG113: 757956.59 | BH113: 12573510 | BI113: 643757.55 | BJ113: 154276.58 | BK113: 726810.5 | BL113: 1493438.9 | BM113: 16624 | BN113: 732065 | BO113: 3755299.8
A114: Music | B114: 15 | O114: 2871943.4 | P114: 213899.4 | Q114: 53338.97 | R114: 71208.52 | S114: 43332.49 | T114: 54369.62 | U114: 62171.51 | V114: 0 | W114: 0 | X114: 66906.59 | Y114: 565227.1 | Z114: 311028.51 | AA114: 3515466.6 | AB114: 17262.72 | AC114: 360329.36 | AD114: 1280 | AE114: 52000.59 | AF114: 272044.32 | AG114: 81488.13 | AH114: 340299.75 | AI114: 852227.84 | AJ114: 1166062.6 | AK114: 2923469 | AL114: 0 | AM114: 543605 | AN114: 3467074 | AO114: 385017.6 | AP114: 1146749.9 | AQ114: 429919.1 | AR114: 0 | AS114: 50260 | AT114: 161532.7 | AU114: 91000.7 | AV114: 596810.3 | AW114: 720890.4 | AX114: 49954.7 | AY114: 55833.62 | AZ114: 122423 | BA114: 4684.77 | BB114: 0 | BC114: 126584 | BD114: 75737 | BE114: 1219194.5 | BF114: 2369 | BG114: 688545.67 | BH114: 3094499.7 | BI114: 373480.38 | BJ114: 132908.09 | BK114: 562969.8 | BL114: 1069358.3 | BM114: 55120 | BN114: 675121 | BO114: 1969422.3
A115: Dance | B115: 5 | O115: 244537.7 | P115: 37954.43 | Q115: 7914.05 | R115: 2388.34 | S115: 5122.3 | T115: 3286.5 | U115: 11889.24 | V115: 0 | W115: 0 | X115: 7126.52 | Y115: 75681.38 | Z115: 26178.99 | AA115: 173329.11 | AB115: 1341 | AC115: 12974.53 | AD115: 840 | AE115: 637.07 | AF115: 26334.53 | AG115: 525.8 | AH115: 37465.94 | AI115: 8073.03 | AJ115: 58535.85 | AK115: 332617.2 | AL115: 0 | AM115: 24823 | AN115: 357440.2 | AO115: 2440.24 | AP115: 1015 | AQ115: 51555.78 | AR115: 0 | AS115: 0 | AT115: 19039 | AU115: 3960 | AV115: 21479.24 | AW115: 7217.62 | AX115: 6800 | AY115: 1560.6 | AZ115: 3522 | BA115: 0 | BB115: 0 | BC115: 0 | BD115: 11232.59 | BE115: 29344.7 | BF115: 481 | BG115: 13181.64 | BH115: 73340 | BI115: 0 | BJ115: 7881.18 | BK115: 83149 | BL115: 96283.2 | BM115: 0 | BN115: 0 | BO115: 125524.65
A116: Literature | B116: 4 | O116: 418376 | P116: 30518.73 | Q116: 15207.86 | R116: 13033.3 | S116: 9321.18 | T116: 26291.13 | U116: 8505.73 | V116: 0 | W116: 0 | X116: 6737.12 | Y116: 109615.05 | Z116: 53248.74 | AA116: 370111 | AB116: 24281.2 | AC116: 27728.1 | AD116: 0 | AE116: 10422.23 | AF116: 12621 | AG116: 5514 | AH116: 90860.36 | AI116: 32324.2 | AJ116: 36860.7 | AK116: 309495 | AL116: 0 | AM116: 400 | AN116: 309895 | AO116: 288584.8 | AP116: 5000 | AQ116: 30535 | AR116: 0 | AS116: 201218 | AT116: 172045.8 | AU116: 17623 | AV116: 661848.6 | AW116: 16954 | AX116: 0 | AY116: 0 | AZ116: 0 | BA116: 21668.39 | BB116: 826.69 | BC116: 4145.75 | BD116: 4800 | BE116: 63901.5 | BF116: 31650.8 | BG116: 33745.63 | BH116: 177693 | BI116: 14549 | BJ116: 14765 | BK116: 4000 | BL116: 33314 | BM116: 0 | BN116: 181000 | BO116: 221187.23
A117: Circus/Street Theatre/Carnival | B117: 4 | O117: 435563 | P117: 30135.67 | Q117: 14446.87 | R117: 36975.8 | S117: 6521.5 | T117: 6816.33 | U117: 13397.04 | V117: 0 | W117: 0 | X117: 19356.52 | Y117: 127649.73 | Z117: 43429.1 | AA117: 731504 | AB117: 188 | AC117: 19969.54 | AD117: 0 | AE117: 386 | AF117: 6337 | AG117: 18436.68 | AH117: 13069.79 | AI117: 11718.08 | AJ117: 79197.1 | AK117: 408134.3 | AL117: 0 | AM117: 12935.95 | AN117: 421070.25 | AO117: 0 | AP117: 101735 | AQ117: 156793.6 | AR117: 1044 | AS117: 0 | AT117: 0 | AU117: 0 | AV117: 1044 | AW117: 6863 | AX117: 38737.5 | AY117: 0 | AZ117: 7545 | BA117: 0 | BB117: 0 | BC117: 0 | BD117: 4612 | BE117: 221995.7 | BF117: 9486 | BG117: 169623 | BH117: 458862.5 | BI117: 20500 | BJ117: 170018 | BK117: 152869.7 | BL117: 343387.7 | BM117: 0 | BN117: 0 | BO117: 154706.67
A118: Small | B118: 50 | O118: 1900890.8 | P118: 393415.02 | Q118: 54826.59 | R118: 41460.55 | S118: 56500.56 | T118: 77177.11 | U118: 107630.6 | V118: 0 | W118: 0 | X118: 101285.82 | Y118: 832296.25 | Z118: 203200.65 | AA118: 1299212.5 | AB118: 38327.65 | AC118: 144276.14 | AD118: 19056.43 | AE118: 46369.45 | AF118: 156059.57 | AG118: 62626.41 | AH118: 231825.68 | AI118: 214237.57 | AJ118: 352368.98 | AK118: 2514514.8 | AL118: 0 | AM118: 230130.29 | AN118: 2744645.1 | AO118: 39399.8 | AP118: 167143.29 | AQ118: 517737.67 | AR118: 7749.37 | AS118: 29544.5 | AT118: 136951.6 | AU118: 121355.7 | AV118: 213645.27 | AW118: 248961.72 | AX118: 85178.5 | AY118: 3482.6 | AZ118: 231831.06 | BA118: 44265.55 | BB118: 56461.85 | BC118: 11193.38 | BD118: 75057.08 | BE118: 229935.94 | BF118: 23359 | BG118: 125225.22 | BH118: 1084500.4 | BI118: 150801.98 | BJ118: 81999.95 | BK118: 327800.33 | BL118: 531257.8 | BM118: 125939.3 | BN118: 51734 | BO118: 953775.25
A119: Medium | B119: 46 | O119: 6614990.8 | P119: 807710.76 | Q119: 288828.08 | R119: 327168.84 | S119: 131393.3 | T119: 147778.55 | U119: 258614.99 | V119: 0 | W119: 0 | X119: 163278.48 | Y119: 2124773 | Z119: 710531 | AA119: 4636183.6 | AB119: 178703.54 | AC119: 468797.95 | AD119: 9382.16 | AE119: 205612.15 | AF119: 133762.72 | AG119: 90073.18 | AH119: 676708.22 | AI119: 619508.71 | AJ119: 1525003.2 | AK119: 4825964.2 | AL119: 0 | AM119: 380286.25 | AN119: 5206250.5 | AO119: 1601824.4 | AP119: 1993087.7 | AQ119: 1402191.7 | AR119: 1044 | AS119: 478729.19 | AT119: 601437.5 | AU119: 219585.69 | AV119: 2683035.1 | AW119: 935002.14 | AX119: 120929.9 | AY119: 204817.5 | AZ119: 230695.5 | BA119: 18549.8 | BB119: 4972.69 | BC119: 514234.47 | BD119: 429082.65 | BE119: 915761.18 | BF119: 103164.65 | BG119: 1116558.8 | BH119: 4561845.9 | BI119: 383626.72 | BJ119: 333221.62 | BK119: 1328301.4 | BL119: 2037649.9 | BM119: 2610 | BN119: 917673.41 | BO119: 3396013.5
A120: Large | B120: 11 | O120: 7026753 | P120: 180730.2 | Q120: 463352.16 | R120: 769112.04 | S120: 104877.4 | T120: 146715.12 | U120: 720400.46 | V120: 0 | W120: 0 | X120: 263747.21 | Y120: 2648934.6 | Z120: 1326057.2 | AA120: 10641931 | AB120: 4593.12 | AC120: 1115219.3 | AD120: 21364.4 | AE120: 344075.3 | AF120: 269577.15 | AG120: 145289.51 | AH120: 306375.45 | AI120: 1054585.9 | AJ120: 1903768.7 | AK120: 5481071 | AL120: 0 | AM120: 723762.8 | AN120: 6204833.8 | AO120: 142030.6 | AP120: 1389639.9 | AQ120: 1543333 | AR120: 87500 | AS120: 312163 | AT120: 185190.7 | AU120: 16754 | AV120: 726884.3 | AW120: 9584923.4 | AX120: 37442.7 | AY120: 8536.62 | AZ120: 4922 | BA120: 35117.14 | BB120: 3748 | BC120: 1903921.9 | BD120: 279489.5 | BE120: 1509239.9 | BF120: 505 | BG120: 1562429.9 | BH120: 14960745 | BI120: 716710.3 | BJ120: 133316.47 | BK120: 329071.2 | BL120: 1179098.1 | BM120: 14014 | BN120: 673621 | BO120: 4051523.7
A123: Constant Sample
A124: All Organisations | B124: 93 | O124: 14341632 | P124: 1287766.7 | Q124: 778829.23 | R124: 1084840.6 | S124: 273543.42 | T124: 344783.99 | U124: 1047681.9 | V124: 0 | W124: 0 | X124: 515363.2 | Y124: 5332809 | Z124: 1990391.8 | AA124: 16133370 | AB124: 219573.13 | AC124: 1687770.8 | AD124: 40144.4 | AE124: 585961.05 | AF124: 529693.94 | AG124: 287121.14 | AH124: 1188672.2 | AI124: 1751573.4 | AJ124: 3156514 | AK124: 11631243 | AL124: 0 | AM124: 1276382.3 | AN124: 12907625 | AO124: 1506276.8 | AP124: 3460555.2 | AQ124: 3120945.2 | AR124: 96293.37 | AS124: 819195.69 | AT124: 772932 | AU124: 300612.1 | AV124: 3194697.9 | AW124: 10650814 | AX124: 238770.1 | AY124: 216836.72 | AZ124: 386106.76 | BA124: 97932.49 | BB124: 64182.54 | BC124: 2429349.8 | BD124: 782829.23 | BE124: 2448333 | BF124: 123843.65 | BG124: 2785338.8 | BH124: 20172431 | BI124: 1072733.1 | BJ124: 534880.04 | BK124: 1782730.8 | BL124: 3359690.9 | BM124: 124179.3 | BN124: 1634414.4 | BO124: 7468377.7
A125: Drama | B125: 12 | O125: 1863675.5 | P125: 121842.5 | Q125: 74427.93 | R125: 140992.69 | S125: 27384.07 | T125: 27187.73 | U125: 506232.66 | V125: 0 | W125: 0 | X125: 88338.44 | Y125: 986406.02 | Z125: 125282.89 | AA125: 1301138.9 | AB125: 133662.28 | AC125: 166029.01 | AD125: 8240.4 | AE125: 135342 | AF125: 17539.01 | AG125: 22209.88 | AH125: 317541.65 | AI125: 316284.59 | AJ125: 353502.04 | AK125: 1877558 | AL125: 0 | AM125: 188474.8 | AN125: 2066032.8 | AO125: 18409.18 | AP125: 171148 | AQ125: 346988 | AR125: 0 | AS125: 36196 | AT125: 151356.5 | AU125: 9096 | AV125: 205961.68 | AW125: 972802.07 | AX125: 102553.9 | AY125: 159442.5 | AZ125: 0 | BA125: 5031.37 | BB125: 0 | BC125: 336500 | BD125: 45907.4 | BE125: 82807.7 | BF125: 5250 | BG125: 540317.47 | BH125: 2250612.7 | BI125: 53628.3 | BJ125: 31075.96 | BK125: 276421.2 | BL125: 361125.5 | BM125: 0 | BN125: 0 | BO125: 1095781.1
A126: Traditional Arts | B126: 13 | O126: 1536224.8 | P126: 100645.79 | Q126: 67490 | R126: 78262.53 | S126: 29574.17 | T126: 43785.05 | U126: 104428.68 | V126: 0 | W126: 0 | X126: 65569.09 | Y126: 489755.31 | Z126: 156715.6 | AA126: 853203.3 | AB126: 30709.35 | AC126: 129786.7 | AD126: 2921 | AE126: 86920.14 | AF126: 39580.8 | AG126: 3629 | AH126: 82602.77 | AI126: 80332.58 | AJ126: 241302.39 | AK126: 581395.8 | AL126: 0 | AM126: 55719 | AN126: 637114.8 | AO126: 577150 | AP126: 499369.9 | AQ126: 284875.5 | AR126: 87500 | AS126: 404151.39 | AT126: 47364 | AU126: 38215.9 | AV126: 1116165.4 | AW126: 356862.82 | AX126: 34723 | AY126: 0 | AZ126: 62802.8 | BA126: 19630 | BB126: 56 | BC126: 126925.1 | BD126: 24623.9 | BE126: 110030.4 | BF126: 0 | BG126: 449587.69 | BH126: 1146195.9 | BI126: 41923.6 | BJ126: 25414.72 | BK126: 87981.4 | BL126: 150819.72 | BM126: 32252.3 | BN126: 1200 | BO126: 604800.25
A127: Visual Arts | B127: 18 | O127: 1305252.1 | P127: 378544.2 | Q127: 67448.71 | R127: 54047.28 | S127: 39295.85 | T127: 57470.01 | U127: 57694.98 | V127: 0 | W127: 0 | X127: 42070.12 | Y127: 696571.15 | Z127: 69896.1 | AA127: 300592.24 | AB127: 2062.4 | AC127: 65717.87 | AD127: 500 | AE127: 7801.48 | AF127: 848 | AG127: 39133.9 | AH127: 47682.08 | AI127: 146836.69 | AJ127: 111716.7 | AK127: 1274337.7 | AL127: 0 | AM127: 61286.59 | AN127: 1335624.3 | AO127: 200469 | AP127: 56010 | AQ127: 309761.29 | AR127: 7749.37 | AS127: 13109.5 | AT127: 23956 | AU127: 10203.5 | AV127: 245283.87 | AW127: 341.3 | AX127: 0 | AY127: 0 | AZ127: 182556.96 | BA127: 20321.96 | BB127: 57620.35 | BC127: 0 | BD127: 67303.24 | BE127: 189987.29 | BF127: 26953.05 | BG127: 148909.15 | BH127: 680445.23 | BI127: 12613.87 | BJ127: 2198.51 | BK127: 50887.23 | BL127: 65699.6 | BM127: 20183 | BN127: 45028.41 | BO127: 278792.66
A128: Combined | B128: 23 | O128: 5887738.8 | P128: 387713.98 | Q128: 482367.84 | R128: 700719.17 | S128: 115511.86 | T128: 127737.62 | U128: 292144.02 | V128: 0 | W128: 0 | X128: 221491.8 | Y128: 2327686.3 | Z128: 1241388.8 | AA128: 8904260.2 | AB128: 10933.18 | AC128: 906286.64 | AD128: 26363 | AE128: 292451.54 | AF128: 154389.28 | AG128: 116183.75 | AH128: 259895.87 | AI128: 308151.38 | AJ128: 1117470.6 | AK128: 3947030 | AL128: 0 | AM128: 393638 | AN128: 4340668 | AO128: 311184 | AP128: 1479527.4 | AQ128: 1510516.9 | AR128: 0 | AS128: 114260.8 | AT128: 197638 | AU128: 145308 | AV128: 623082.8 | AW128: 8568882.5 | AX128: 6001 | AY128: 0 | AZ128: 7257 | BA128: 26596 | BB128: 5679.5 | BC128: 1835194.9 | BD128: 548613.1 | BE128: 531071.23 | BF128: 47653.8 | BG128: 753201.59 | BH128: 12302555 | BI128: 556038 | BJ128: 150618.58 | BK128: 564452.5 | BL128: 1239702.9 | BM128: 16624 | BN128: 732065 | BO128: 3064686.8
A129: Music | B129: 14 | O129: 2650264.4 | P129: 200411.4 | Q129: 49525.97 | R129: 58421.52 | S129: 40812.49 | T129: 52209.62 | U129: 53389.51 | V129: 0 | W129: 0 | X129: 64673.59 | Y129: 519444.1 | Z129: 274251.51 | AA129: 3499231.6 | AB129: 16395.72 | AC129: 359278.36 | AD129: 1280 | AE129: 52000.59 | AF129: 272044.32 | AG129: 81488.13 | AH129: 339553.75 | AI129: 847852.84 | AJ129: 1157928.6 | AK129: 2900675 | AL129: 0 | AM129: 539105 | AN129: 3439780 | AO129: 108039.6 | AP129: 1146749.9 | AQ129: 429919.1 | AR129: 0 | AS129: 50260 | AT129: 161532.7 | AU129: 76205.7 | AV129: 319832.3 | AW129: 720890.4 | AX129: 49954.7 | AY129: 55833.62 | AZ129: 122423 | BA129: 4684.77 | BB129: 0 | BC129: 126584 | BD129: 75737 | BE129: 1219194.5 | BF129: 2369 | BG129: 676772.67 | BH129: 3082726.7 | BI129: 373480.38 | BJ129: 132908.09 | BK129: 562969.8 | BL129: 1069358.3 | BM129: 55120 | BN129: 675121 | BO129: 1922898.4
A130: Dance | B130: 5 | O130: 244537.7 | P130: 37954.43 | Q130: 7914.05 | R130: 2388.34 | S130: 5122.3 | T130: 3286.5 | U130: 11889.24 | V130: 0 | W130: 0 | X130: 7126.52 | Y130: 75681.38 | Z130: 26178.99 | AA130: 173329.11 | AB130: 1341 | AC130: 12974.53 | AD130: 840 | AE130: 637.07 | AF130: 26334.53 | AG130: 525.8 | AH130: 37465.94 | AI130: 8073.03 | AJ130: 58535.85 | AK130: 332617.2 | AL130: 0 | AM130: 24823 | AN130: 357440.2 | AO130: 2440.24 | AP130: 1015 | AQ130: 51555.78 | AR130: 0 | AS130: 0 | AT130: 19039 | AU130: 3960 | AV130: 21479.24 | AW130: 7217.62 | AX130: 6800 | AY130: 1560.6 | AZ130: 3522 | BA130: 0 | BB130: 0 | BC130: 0 | BD130: 11232.59 | BE130: 29344.7 | BF130: 481 | BG130: 13181.64 | BH130: 73340 | BI130: 0 | BJ130: 7881.18 | BK130: 83149 | BL130: 96283.2 | BM130: 0 | BN130: 0 | BO130: 125524.65
A131: Literature | B131: 4 | O131: 418376 | P131: 30518.73 | Q131: 15207.86 | R131: 13033.3 | S131: 9321.18 | T131: 26291.13 | U131: 8505.73 | V131: 0 | W131: 0 | X131: 6737.12 | Y131: 109615.05 | Z131: 53248.74 | AA131: 370111 | AB131: 24281.2 | AC131: 27728.1 | AD131: 0 | AE131: 10422.23 | AF131: 12621 | AG131: 5514 | AH131: 90860.36 | AI131: 32324.2 | AJ131: 36860.7 | AK131: 309495 | AL131: 0 | AM131: 400 | AN131: 309895 | AO131: 288584.8 | AP131: 5000 | AQ131: 30535 | AR131: 0 | AS131: 201218 | AT131: 172045.8 | AU131: 17623 | AV131: 661848.6 | AW131: 16954 | AX131: 0 | AY131: 0 | AZ131: 0 | BA131: 21668.39 | BB131: 826.69 | BC131: 4145.75 | BD131: 4800 | BE131: 63901.5 | BF131: 31650.8 | BG131: 33745.63 | BH131: 177693 | BI131: 14549 | BJ131: 14765 | BK131: 4000 | BL131: 33314 | BM131: 0 | BN131: 181000 | BO131: 221187.23
A132: Circus/Street Theatre/Carnival | B132: 4 | O132: 435563 | P132: 30135.67 | Q132: 14446.87 | R132: 36975.8 | S132: 6521.5 | T132: 6816.33 | U132: 13397.04 | V132: 0 | W132: 0 | X132: 19356.52 | Y132: 127649.73 | Z132: 43429.1 | AA132: 731504 | AB132: 188 | AC132: 19969.54 | AD132: 0 | AE132: 386 | AF132: 6337 | AG132: 18436.68 | AH132: 13069.79 | AI132: 11718.08 | AJ132: 79197.1 | AK132: 408134.3 | AL132: 0 | AM132: 12935.95 | AN132: 421070.25 | AO132: 0 | AP132: 101735 | AQ132: 156793.6 | AR132: 1044 | AS132: 0 | AT132: 0 | AU132: 0 | AV132: 1044 | AW132: 6863 | AX132: 38737.5 | AY132: 0 | AZ132: 7545 | BA132: 0 | BB132: 0 | BC132: 0 | BD132: 4612 | BE132: 221995.7 | BF132: 9486 | BG132: 169623 | BH132: 458862.5 | BI132: 20500 | BJ132: 170018 | BK132: 152869.7 | BL132: 343387.7 | BM132: 0 | BN132: 0 | BO132: 154706.67
A133: Small | B133: 42 | O133: 1550688.7 | P133: 373225.64 | Q133: 48047.48 | R133: 36938.55 | S133: 47733.61 | T133: 69464.63 | U133: 94506.64 | V133: 0 | W133: 0 | X133: 94631.51 | Y133: 764548.06 | Z133: 163421.82 | AA133: 1086726.1 | AB133: 37295.47 | AC133: 126776.4 | AD133: 18070 | AE133: 41383.63 | AF133: 145363.37 | AG133: 58102.88 | AH133: 212606.34 | AI133: 137592.33 | AJ133: 292226.18 | AK133: 2108807.8 | AL133: 0 | AM133: 221248.29 | AN133: 2330056.1 | AO133: 39399.8 | AP133: 154611.01 | AQ133: 344158.67 | AR133: 7749.37 | AS133: 28303.5 | AT133: 77698.8 | AU133: 82621.7 | AV133: 153151.47 | AW133: 187077.13 | AX133: 80397.5 | AY133: 3482.6 | AZ133: 227681.06 | BA133: 44265.55 | BB133: 55461.85 | BC133: 11193.38 | BD133: 74257.08 | BE133: 193876.94 | BF133: 20174 | BG133: 122878.21 | BH133: 970293.79 | BI133: 143301.98 | BJ133: 73341.95 | BK133: 304935.33 | BL133: 498425.8 | BM133: 107555.3 | BN133: 43120 | BO133: 823106.32
A134: Medium | B134: 40 | O134: 5764190.6 | P134: 733810.86 | Q134: 267429.59 | R134: 278790.04 | S134: 120932.41 | T134: 128604.24 | U134: 232774.76 | V134: 0 | W134: 0 | X134: 156984.48 | Y134: 1919326.4 | Z134: 500912.76 | AA134: 4404713.2 | AB134: 177684.54 | AC134: 445775.05 | AD134: 710 | AE134: 200502.12 | AF134: 114753.42 | AG134: 83728.75 | AH134: 669690.42 | AI134: 559395.11 | AJ134: 960519.13 | AK134: 4041364.2 | AL134: 0 | AM134: 331371.25 | AN134: 4372735.4 | AO134: 1324846.4 | AP134: 1916304.3 | AQ134: 1233453.5 | AR134: 1044 | AS134: 478729.19 | AT134: 510042.5 | AU134: 201236.4 | AV134: 2314662.1 | AW134: 878813.15 | AX134: 120929.9 | AY134: 204817.5 | AZ134: 153503.7 | BA134: 18549.8 | BB134: 4972.69 | BC134: 514234.47 | BD134: 429082.65 | BE134: 745216.16 | BF134: 103164.65 | BG134: 1100030.8 | BH134: 4241392.1 | BI134: 212720.87 | BJ134: 328221.62 | BK134: 1148724.3 | BL134: 1682166.9 | BM134: 2610 | BN134: 917673.41 | BO134: 2593747.7
A135: Large | B135: 11 | O135: 7026753 | P135: 180730.2 | Q135: 463352.16 | R135: 769112.04 | S135: 104877.4 | T135: 146715.12 | U135: 720400.46 | V135: 0 | W135: 0 | X135: 263747.21 | Y135: 2648934.6 | Z135: 1326057.2 | AA135: 10641931 | AB135: 4593.12 | AC135: 1115219.3 | AD135: 21364.4 | AE135: 344075.3 | AF135: 269577.15 | AG135: 145289.51 | AH135: 306375.45 | AI135: 1054585.9 | AJ135: 1903768.7 | AK135: 5481071 | AL135: 0 | AM135: 723762.8 | AN135: 6204833.8 | AO135: 142030.6 | AP135: 1389639.9 | AQ135: 1543333 | AR135: 87500 | AS135: 312163 | AT135: 185190.7 | AU135: 16754 | AV135: 726884.3 | AW135: 9584923.4 | AX135: 37442.7 | AY135: 8536.62 | AZ135: 4922 | BA135: 35117.14 | BB135: 3748 | BC135: 1903921.9 | BD135: 279489.5 | BE135: 1509239.9 | BF135: 505 | BG135: 1562429.9 | BH135: 14960745 | BI135: 716710.3 | BJ135: 133316.47 | BK135: 329071.2 | BL135: 1179098.1 | BM135: 14014 | BN135: 673621 | BO135: 4051523.7
A234: Name | B234: Finance Year | C234: ID | D234: Fund | E234: reference number | F234: Staff Person | G234: Type | H234: Status | I234: Organisation Size | J234: award | K234: Programming | L234: request | M234: cost | N234: artform | O234: Salaries | P234: CoreCosts| Rent and Rates |Total (£) | Q234: Light and Heat |Total (£) | R234: Maintenance and Security |Total (£) | S234: Telephone and Fax | T234: Printing, Postage and Stationery | U234: Financial Costs | V234: xTraining | W234: xResearch | X234: Insurance | Y234: Total Overheads | Z234: Other Core Costs | AA234: Artists' Costs | AB234: Volunteer Expenses | AC234: Publicity / Marketing / Promotion | AD234: Premium Costs | AE234: Catering, Merchandising | AF234: Venue Costs | AG234: Transportation | AH234: Travel, Accommodation, Subsistence | AI234: Equipment / Materials | AJ234: Other Programme | AK234: Annual Funding Programme (AFP) | AL234: xLottery Project Grants | AM234: Other non-Lottery Funding | AN234: Total ACNI Funding | AO234: An Chomhairle Ealaíon | AP234: NI Government departments or agencies | AQ234: NI Local authority funding | AR234: European funding programmes | AS234: Other UK public sources | AT234: Other RoI public sources | AU234: xOther Grant Sources | AV234: Total other | AW234: Box Office | AX234: Domestic Touring | AY234: International Touring | AZ234: Membership Fees | BA234: Publications (book and e-book sales) | BB234: Gallery Sales | BC234: Bar/Catering Sales | BD234: Rent from Tenants | BE234: Service Provision | BF234: Training | BG234: Other Earned Income | BH234: Total Earned Income | BI234: Sponsorship | BJ234: Donations | BK234: Trusts and Foundations | BL234: Total Trusts and Foundations | BM234: Capital| Arts Council of Northern Ireland | BN234: Capital Other

Sheet 2018F
A104: All Organisations | B104: 102 | J104: 8595223 | K104: 6238115.4 | L104: 4545446 | M104: 13140669 | O104: 15675662 | P104: 1387512.9 | Q104: 840837.52 | R104: 1217907 | S104: 270267.51 | T104: 365460.75 | U104: 1195044.8 | X104: 536535.49 | Y104: 5813566 | Z104: 2586514.5 | AA104: 18849199 | AB104: 88541.36 | AC104: 1598957.2 | AD104: 44782.65 | AE104: 690837.33 | AF104: 699813.16 | AG104: 286664.76 | AH104: 1346746.8 | AI104: 2035204 | AJ104: 3789372.9 | AK104: 12826379 | AM104: 751051.65 | AN104: 13577430 | AO104: 1445689.5 | AP104: 3507449.2 | AQ104: 3622558.7 | AR104: 1018358.4 | AS104: 1188169.5 | AT104: 320930.6 | AV104: 3973148 | AW104: 12297955 | AX104: 643957.21 | AY104: 227728.69 | AZ104: 467219.5 | BA104: 94989.33 | BB104: 75427.23 | BC104: 2854323.6 | BD104: 943393.51 | BE104: 3056167.2 | BF104: 239598.56 | BG104: 4033845.5 | BH104: 24934605 | BI104: 989530.99 | BJ104: 590505.95 | BK104: 1769043.8 | BL104: 3349080.8 | BM104: 497319.2 | BN104: 790962.86 | BO104: 8833460.4
A105: Drama | B105: 15 | J105: 1252408 | K105: 1207815 | L105: 811870 | M105: 2064278 | O105: 2058179.7 | P105: 127319.88 | Q105: 89728.29 | R105: 145699.46 | S105: 25764.12 | T105: 39702.58 | U105: 551329.04 | X105: 66731.22 | Y105: 1046274.6 | Z105: 119435.61 | AA105: 2016377.5 | AB105: 8245 | AC105: 166843.76 | AD105: 8887.38 | AE105: 120597.74 | AF105: 34596.46 | AG105: 30065.58 | AH105: 369210.85 | AI105: 496625.42 | AJ105: 86531.62 | AK105: 1972411.5 | AM105: 125243.85 | AN105: 2097655.4 | AO105: 37377 | AP105: 172631.64 | AQ105: 409987 | AR105: 127010.36 | AS105: 172566.05 | AT105: 34604.01 | AV105: 371557.42 | AW105: 1169270.6 | AX105: 218371.87 | AY105: 147307.65 | AZ105: 35716 | BA105: 10681.47 | BB105: 0 | BC105: 360255.2 | BD105: 79194.15 | BE105: 193776.53 | BF105: 21586.5 | BG105: 658262.09 | BH105: 2894422.1 | BI105: 84793.15 | BJ105: 157009.69 | BK105: 330613.8 | BL105: 572416.64 | BM105: 33199.01 | BN105: 20022 | BO105: 742973.78
A106: Traditional Arts | B106: 12 | J106: 340976 | K106: 301894 | L106: 215874 | M106: 556850 | O106: 1633414.8 | P106: 37622.68 | Q106: 65742.24 | R106: 99320.06 | S106: 22001.87 | T106: 34824.28 | U106: 128254.38 | X106: 62857.92 | Y106: 450623.43 | Z106: 231316.99 | AA106: 709023.33 | AB106: 29652.01 | AC106: 110969.76 | AD106: 3390 | AE106: 64856.05 | AF106: 160151 | AG106: 3251 | AH106: 75964.16 | AI106: 74167.76 | AJ106: 327768.64 | AK106: 550437.8 | AM106: 55535.76 | AN106: 605973.56 | AO106: 590659 | AP106: 400190.5 | AQ106: 337387.5 | AR106: 99523 | AS106: 82035.18 | AT106: 180521.46 | AV106: 952738.64 | AW106: 502369.59 | AX106: 34260 | AY106: 0 | AZ106: 52026.88 | BA106: 7907 | BB106: 0 | BC106: 23713.4 | BD106: 80582.53 | BE106: 78164.59 | BF106: 0 | BG106: 551348.54 | BH106: 1330372.5 | BI106: 20556 | BJ106: 81868 | BK106: 102881 | BL106: 205305 | BM106: 117904.2 | BN106: 115995.5 | BO106: 736198.85
A107: Visual Arts | B107: 19 | J107: 1048267 | K107: 487539.17 | L107: 410455 | M107: 1458722 | O107: 1372078.9 | P107: 394690.08 | Q107: 76624.249 | R107: 65748.865 | S107: 45408.944 | T107: 45803.701 | U107: 87313.72 | X107: 49649.402 | Y107: 765238.96 | Z107: 175939.14 | AA107: 772048.04 | AB107: 2364.68 | AC107: 69947.91 | AD107: 156 | AE107: 8624.61 | AF107: 8765.96 | AG107: 37797.99 | AH107: 46367.7 | AI107: 109268.84 | AJ107: 136054.79 | AK107: 1423339.6 | AM107: 125489.3 | AN107: 1548829 | AO107: 211997.78 | AP107: 553756.3 | AQ107: 374073.93 | AR107: 0 | AS107: 59603.847 | AT107: 6154.31 | AV107: 277755.94 | AW107: 19158 | AX107: 0 | AY107: 0 | AZ107: 186516.48 | BA107: 2265.18 | BB107: 55221.73 | BC107: 0 | BD107: 92179.35 | BE107: 169123.76 | BF107: 62740.06 | BG107: 148146.64 | BH107: 735351.2 | BI107: 26073 | BJ107: 11062.65 | BK107: 40020 | BL107: 77155.65 | BM107: 62885 | BN107: 16161.66 | BO107: 407304.91
A108: Combined | B108: 30 | J108: 2859993 | K108: 2147904.3 | L108: 1784451 | M108: 4644444 | O108: 6775939 | P108: 532309 | Q108: 516444.41 | R108: 727245.29 | S108: 117817.81 | T108: 137583.76 | U108: 337404.14 | X108: 247251.33 | Y108: 2616055.7 | Z108: 1531224.1 | AA108: 10242802 | AB108: 14915.67 | AC108: 914798.51 | AD108: 31080.27 | AE108: 443146.63 | AF108: 155580.76 | AG108: 130168.23 | AH108: 231085.04 | AI108: 597424.03 | AJ108: 2043503.3 | AK108: 4623790.8 | AM108: 187514.4 | AN108: 4811305.2 | AO108: 257139 | AP108: 1163238.8 | AQ108: 1788227 | AR108: 433949.17 | AS108: 571818.11 | AT108: 43262 | AV108: 1306168.3 | AW108: 9914567.6 | AX108: 276903 | AY108: 0 | AZ108: 59005 | BA108: 34315 | BB108: 2780 | BC108: 2352178.1 | BD108: 588854.96 | BE108: 857113.69 | BF108: 126799 | BG108: 1434540.8 | BH108: 15647057 | BI108: 340194.33 | BJ108: 108326.68 | BK108: 616792.2 | BL108: 1065313.2 | BM108: 158973.47 | BN108: 367509.9 | BO108: 4425123.2
A109: Music | B109: 13 | J109: 2475266 | K109: 1621661 | L109: 924767 | M109: 3400033 | O109: 2811938.9 | P109: 195593.74 | Q109: 53350.14 | R109: 108393.81 | S109: 37123.63 | T109: 77675.61 | U109: 58703.93 | X109: 68486.06 | Y109: 599326.92 | Z109: 364240.22 | AA109: 3578531.1 | AB109: 16013.09 | AC109: 273421.23 | AD109: 1269 | AE109: 34156.47 | AF109: 283730.66 | AG109: 77482.49 | AH109: 473587.39 | AI109: 574475.37 | AJ109: 1026118 | AK109: 3333729.1 | AM109: 110462 | AN109: 3444191.1 | AO109: 43880.7 | AP109: 1169247 | AQ109: 451849 | AR109: 61182.36 | AS109: 63231 | AT109: 13926.87 | AV109: 182220.93 | AW109: 657009.44 | AX109: 74617.34 | AY109: 70783 | AZ109: 126168.64 | BA109: 14787.44 | BB109: 0 | BC109: 115937 | BD109: 81258 | BE109: 1188620 | BF109: 1000 | BG109: 953832.21 | BH109: 3284013.1 | BI109: 442819.9 | BJ109: 187595.51 | BK109: 498611.09 | BL109: 1129026.5 | BM109: 84810 | BN109: 79474.8 | BO109: 1992866.6
A110: Dance | B110: 5 | J110: 197743 | K110: 132037 | L110: 122587 | M110: 320330 | O110: 240970.37 | P110: 40071.08 | Q110: 9371.99 | R110: 3637.61 | S110: 5212.09 | T110: 2651.35 | U110: 10855.4 | X110: 7241.74 | Y110: 79041.26 | Z110: 49092.94 | AA110: 169595.84 | AB110: 965 | AC110: 9256.81 | AD110: 0 | AE110: 248.82 | AF110: 23314.78 | AG110: 282.83 | AH110: 39046.75 | AI110: 9045.7 | AJ110: 29576.71 | AK110: 320329 | AM110: 17912.35 | AN110: 338241.35 | AO110: 0 | AP110: 3385 | AQ110: 59564.6 | AR110: 0 | AS110: 5705 | AT110: 22111.95 | AV110: 27816.95 | AW110: 10602.17 | AX110: 0 | AY110: 9638.04 | AZ110: 2360 | BA110: 0 | BB110: 0 | BC110: 0 | BD110: 12573 | BE110: 63149.16 | BF110: 0 | BG110: 22541.54 | BH110: 120863.91 | BI110: 570 | BJ110: 6211.78 | BK110: 83957 | BL110: 90738.78 | BM110: 6586 | BN110: 0 | BO110: 119213.05
A111: Literature | B111: 4 | J111: 160938 | K111: 176327 | L111: 117088 | M111: 278026 | O111: 452562.02 | P111: 31472.36 | Q111: 12133.45 | R111: 39728.16 | S111: 9929.45 | T111: 21245.05 | U111: 10502.86 | X111: 6878.9 | Y111: 131890.23 | Z111: 54021.76 | AA111: 621359.81 | AB111: 15765.91 | AC111: 36045.06 | AD111: 0 | AE111: 15644.01 | AF111: 16014.5 | AG111: 1155 | AH111: 89662.18 | AI111: 118058.36 | AJ111: 59893.11 | AK111: 277063 | AM111: 9873.67 | AN111: 286936.67 | AO111: 304636 | AP111: 5000 | AQ111: 36979.3 | AR111: 295763.86 | AS111: 224210.33 | AT111: 20350 | AV111: 844960.19 | AW111: 18900 | AX111: 0 | AY111: 0 | AZ111: 0 | BA111: 25033.24 | BB111: 17425.5 | BC111: 2239.9 | BD111: 1500 | BE111: 102138.85 | BF111: 11731 | BG111: 80321.51 | BH111: 259290 | BI111: 23330 | BJ111: 8610 | BK111: 2000 | BL111: 33940 | BM111: 0 | BN111: 191799 | BO111: 236141.97
A112: Circus/Street Theatre/Carnival | B112: 4 | J112: 259632 | K112: 162938 | L112: 158354 | M112: 417986 | O112: 330578.2 | P112: 28434.1 | Q112: 17442.75 | R112: 28133.75 | S112: 7009.59 | T112: 5974.42 | U112: 10681.32 | X112: 27438.92 | Y112: 125114.85 | Z112: 61243.79 | AA112: 739461.39 | AB112: 620 | AC112: 17674.15 | AD112: 0 | AE112: 3563 | AF112: 17659.04 | AG112: 6461.64 | AH112: 21822.77 | AI112: 56138.51 | AJ112: 79926.81 | AK112: 325278 | AM112: 119020.32 | AN112: 444298.32 | AO112: 0 | AP112: 40000 | AQ112: 164490.4 | AR112: 929.7 | AS112: 9000 | AT112: 0 | AV112: 9929.7 | AW112: 6077.5 | AX112: 39805 | AY112: 0 | AZ112: 5426.5 | BA112: 0 | BB112: 0 | BC112: 0 | BD112: 7251.52 | BE112: 404080.65 | BF112: 15742 | BG112: 184852.16 | BH112: 663235.33 | BI112: 51194.61 | BJ112: 29821.64 | BK112: 94168.75 | BL112: 175185 | BM112: 32961.52 | BN112: 0 | BO112: 173638.01
A113: Small | B113: 45 | J113: 1618002 | K113: 902067.8 | L113: 756285 | M113: 2374287 | O113: 1566982.8 | P113: 361771.47 | Q113: 49517.62 | R113: 44286.03 | S113: 45746.7 | T113: 60353.77 | U113: 93768.29 | X113: 99693.85 | Y113: 755137.73 | Z113: 339302.47 | AA113: 1375566.7 | AB113: 23859.84 | AC113: 116629.57 | AD113: 19175.75 | AE113: 27953.66 | AF113: 122271.35 | AG113: 32239.67 | AH113: 171037.93 | AI113: 241359.97 | AJ113: 180715.19 | AK113: 2228579.4 | AM113: 296098.46 | AN113: 2524677.8 | AO113: 59802.7 | AP113: 274530.28 | AQ113: 504681.23 | AR113: 94445.37 | AS113: 65514.09 | AT113: 78977.26 | AV113: 298739.42 | AW113: 179793.55 | AX113: 76162 | AY113: 1900.52 | AZ113: 149047.34 | BA113: 19728.67 | BB113: 52564.48 | BC113: 8853.4 | BD113: 96967.85 | BE113: 219205.36 | BF113: 24607.63 | BG113: 224856.13 | BH113: 1053686.9 | BI113: 48934.7 | BJ113: 17886.64 | BK113: 208598 | BL113: 275419.34 | BM113: 169925.76 | BN113: 108981 | BO113: 794284.51
A114: Medium | B114: 45 | J114: 2790517 | K114: 2095504.6 | L114: 1785260 | M114: 4575777 | O114: 6708237.6 | P114: 821280.11 | Q114: 289738.74 | R114: 399493.37 | S114: 122014.34 | T114: 128693.01 | U114: 356596.31 | X114: 175186.31 | Y114: 2293002.2 | Z114: 707037.58 | AA114: 4342145 | AB114: 46713.69 | AC114: 513718.36 | AD114: 869.8 | AE114: 265739.87 | AF114: 305895.73 | AG114: 98666.25 | AH114: 773967.33 | AI114: 580832.78 | AJ114: 1488018.6 | AK114: 4416405 | AM114: 413642.27 | AN114: 4830047.3 | AO114: 1385886.8 | AP114: 1864904.3 | AQ114: 1629479.2 | AR114: 248742.86 | AS114: 593159.8 | AT114: 204270.47 | AV114: 2432059.9 | AW114: 1225564.9 | AX114: 230984.87 | AY114: 220592.82 | AZ114: 316262.16 | BA114: 19721.75 | BB114: 4437.25 | BC114: 549170 | BD114: 433318.55 | BE114: 1061944.5 | BF114: 193306.93 | BG114: 1215947.2 | BH114: 5471251 | BI114: 427033.61 | BJ114: 373912.68 | BK114: 1072893.8 | BL114: 1873840 | BM114: 222890 | BN114: 577381.06 | BO114: 3381013.2
A115: Large | B115: 12 | J115: 4186704 | K115: 3240543 | L115: 2003901 | M115: 6190605 | O115: 7400441.6 | P115: 204461.34 | Q115: 501581.16 | R115: 774127.61 | S115: 102506.46 | T115: 176413.97 | U115: 744680.19 | X115: 261655.33 | Y115: 2765426.1 | Z115: 1540174.5 | AA115: 13131487 | AB115: 17967.83 | AC115: 968609.26 | AD115: 24737.1 | AE115: 397143.8 | AF115: 271646.08 | AG115: 155758.84 | AH115: 401741.58 | AI115: 1213011.2 | AJ115: 2120639.1 | AK115: 6181394.5 | AM115: 41310.92 | AN115: 6222705.4 | AO115: 0 | AP115: 1368014.6 | AQ115: 1488398.3 | AR115: 675170.22 | AS115: 529495.63 | AT115: 37682.87 | AV115: 1242348.7 | AW115: 10892596 | AX115: 336810.34 | AY115: 5235.35 | AZ115: 1910 | BA115: 55538.91 | BB115: 18425.5 | BC115: 2296300.2 | BD115: 413107.11 | BE115: 1775017.4 | BF115: 21684 | BG115: 2593042.1 | BH115: 18409667 | BI115: 513562.68 | BJ115: 198706.63 | BK115: 487552.09 | BL115: 1199821.4 | BM115: 104503.44 | BN115: 104600.8 | BO115: 4658162.7
