Workbook
Name _1516_AFS_Location_Excel: #REF!
Name _1516_AFS_Location_Excel: #REF!
Name _1516_AFS_Location_Excel: #REF!
Name _1516_AFS_Location_Excel: #REF!
Name _1516_AFS_Location_Excel: #REF!
Name activity2014: '2014A'!$A$2:$GJ$25
Name activity2015: '2015A'!$A$2:$GW$25
Name activity2015f: '[2]2015A Data'!$A$2:$FY$133
Name All_organisations: '2015A'!#REF!
Name all_organisationse: '2015E'!#REF!
Name alldata2014: '[3]2014 merged'!$A$2:$BN$126
Name alldata2014f: '2014F'!$A$2:$BN$25
Name alldata2015: '[3]2015 merged'!$A$2:$BN$121
Name alldata2015f: '2015F'!$A$2:$BN$25
Name employment2014: '2014A'!$B$2:$N$25
Name employment2014_2: '2014A'!#REF!
Name employment2014_2e: '2014E'!#REF!
Name employment2014_3: '2014A'!$A$2:$N$25
Name employment2014_3e: '2014E'!$A$2:$LD$25
Name employment2014e: '2014E'!$B$2:$LD$12
Name employment2015: '2015A'!$B$2:$KW$12
Name employment2015_2: '2015A'!$A$2:$KW$12
Name employment2015_2e: '2015E'!$A$2:$LD$25
Name employment2015e: '2015E'!$B$2:$LD$12
Name expenditure1516: '2015F'!$A$18:$AI$41
Name finace3: #REF!
Name finace3: #REF!
Name finace3: #REF!
Name finance2: #REF!
Name finance2: #REF!
Name finance2: #REF!
Name finance2: #REF!
Name finance2: #REF!
Name finance2e: #REF!
Name finance2e: #REF!
Name finance2e: #REF!
Name finance2e: #REF!
Name finance2e: #REF!
Name finance2f: #REF!
Name finance2f: #REF!
Name finance2f: #REF!
Name finance2f: #REF!
Name finance2f: #REF!
Name finance3: #REF!
Name finance3: #REF!
Name finance3: #REF!
Name finance3: #REF!
Name georange: OFFSET('[1]Raw data'!$A$2,0,MATCH('1. Finance'!#REF!,[1]!Table1[Organisation Name],0),110,8)
Name georange: OFFSET('[1]Raw data'!$A$2,0,MATCH('2. Employment'!#REF!,[1]!Table1[Organisation Name],0),110,8)
Name georange: OFFSET('[1]Raw data'!$A$2,0,MATCH('3. Activities'!#REF!,[1]!Table1[Organisation Name],0),110,8)
Name georange: OFFSET('[1]Raw data'!$A$2,0,MATCH(#REF!,[1]!Table1[Organisation Name],0),110,8)
Name georange: OFFSET('[1]Raw data'!$A$2,0,MATCH(#REF!,[1]!Table1[Organisation Name],0),110,8)
Name georange2: OFFSET('[1]Raw data'!$A$2,0,MATCH(#REF!,[1]!Table1[Organisation Name],0),110,8)
Name georange2: OFFSET('[1]Raw data'!$A$2,0,MATCH(#REF!,[1]!Table1[Organisation Name],0),110,8)
Name georange2: OFFSET('[1]Raw data'!$A$2,0,MATCH(#REF!,[1]!Table1[Organisation Name],0),110,8)
Name georange2: OFFSET('[1]Raw data'!$A$2,0,MATCH(#REF!,[1]!Table1[Organisation Name],0),110,8)
Name georange3: OFFSET('[1]Raw data'!$A$2,0,MATCH(#REF!,[1]!Table1[Organisation Name],0),110,8)
Name georange3: OFFSET('[1]Raw data'!$A$2,0,MATCH(#REF!,[1]!Table1[Organisation Name],0),110,8)
Name georange3: OFFSET('[1]Raw data'!$A$2,0,MATCH(#REF!,[1]!Table1[Organisation Name],0),110,8)
Name georange3: OFFSET('[1]Raw data'!$A$2,0,MATCH(#REF!,[1]!Table1[Organisation Name],0),110,8)

Sheet 2014E
A1: Name | B1: Finance Year | C1: ID | D1: Fund | E1: reference number | F1: Staff Person | G1: Type | H1: Status | I1: Organisation Size | J1: award | K1: Programming | L1: request | M1: cost | N1: artform | O1: Qu1-01_PermanentStaff| Full-time Artist | Male | P1: Qu1-01_PermanentStaff| Full-time Artist | Female | Q1: Qu1-01_PermanentStaff| Part-time Artist | Male | R1: Qu1-01_PermanentStaff| Part-time Artist | Female | S1: Qu1-01_PermanentStaff| Full-time Managers | Male | T1: Qu1-01_PermanentStaff| Full-time Managers | Female | U1: Qu1-01_PermanentStaff| Part-time Managers | Male | V1: Qu1-01_PermanentStaff| Part-time Managers | Female | W1: Qu1-01_PermanentStaff| Full-time Other Staff | Male | X1: Qu1-01_PermanentStaff| Full-time Other Staff | Female | Y1: Qu1-01_PermanentStaff| Part-time Other Staff | Male | Z1: Qu1-01_PermanentStaff| Part-time Other Staff | Female | AA1: Qu1-01_PermanentStaff| Total | Male | AB1: Qu1-01_PermanentStaff| Total Female | AC1: Qu1-01_PermanentStaff| Total | AD1: Qu1-02_ContractStaff| Artistic Staff | Male | AE1: Qu1-02_ContractStaff| Artistic Staff | Female | AF1: Qu1-02_ContractStaff| Managers | Male | AG1: Qu1-02_ContractStaff| Managers | Female | AH1: Qu1-02_ContractStaff| Other Staff | Male | AI1: Qu1-02_ContractStaff| Other Staff | Female | AJ1: Qu1-02_ContractStaff| Total | Male | AK1: Qu1-02_ContractStaff| Total | Female | AL1: Qu1-02_ContractStaff| Total | AM1: Qu1-03_VolNumbers|Number of volunteers| Male | AN1: Qu1-03_VolNumbers|Number of volunteers| Female | AO1: Total volunteers | AP1: Qu1-04_Volhrs|Number of hours worked| Hours worked | AQ1: Qu1-05_Ethnicity| White |Board Members|Male | AR1: Qu1-05_Ethnicity| White |Board Members|Female | AS1: Qu1-05_Ethnicity| Irish Traveller |Board Members|Male | AT1: Qu1-05_Ethnicity| Irish Traveller |Board Members|Female | AU1: Qu1-05_Ethnicity| Chinese |Board Members|Male | AV1: Qu1-05_Ethnicity| Chinese |Board Members|Female | AW1: Qu1-05_Ethnicity| Indian |Board Members|Male | AX1: Qu1-05_Ethnicity| Indian |Board Members|Female | AY1: Qu1-05_Ethnicity| Pakistani |Board Members|Male | AZ1: Qu1-05_Ethnicity| Pakistani |Board Members|Female | BA1: Qu1-05_Ethnicity| Bangladeshi |Board Members|Male | BB1: Qu1-05_Ethnicity| Bangladeshi |Board Members|Female | BC1: Qu1-05_Ethnicity| Other Asian |Board Members|Male | BD1: Qu1-05_Ethnicity| Other Asian |Board Members|Female | BE1: Qu1-05_Ethnicity| Black Caribbean |Board Members|Male | BF1: Qu1-05_Ethnicity| Black Caribbean |Board Members|Female | BG1: Qu1-05_Ethnicity| Black African |Board Members|Male | BH1: Qu1-05_Ethnicity| Black African |Board Members|Female | BI1: Qu1-05_Ethnicity| Black Other |Board Members|Male | BJ1: Qu1-05_Ethnicity| Black Other |Board Members|Female | BK1: Qu1-05_Ethnicity| Mixed ethnic group |Board Members|Male | BL1: Qu1-05_Ethnicity| Mixed ethnic group |Board Members|Female | BM1: Qu1-05_Ethnicity| Other ethnic group |Board Members|Male | BN1: Qu1-05_Ethnicity| Other ethnic group |Board Members|Female | BO1: Qu1-05_Ethnicity| Unspecified or not collected |Board Members|Male | BP1: Qu1-05_Ethnicity| Unspecified or not collected |Board Members|Female | BQ1: Qu1-05_Ethnicity| Total |Board Members|Male | BR1: Qu1-05_Ethnicity| Total |Board Members | BS1: Qu1-05_Ethnicity| Total |Board Members | BT1: Qu1-05_Ethnicity| White |Artistic Staff|Male | BU1: Qu1-05_Ethnicity| White |Artistic Staff|Female | BV1: Qu1-05_Ethnicity| Irish Traveller |Artistic Staff|Male | BW1: Qu1-05_Ethnicity| Irish Traveller |Artistic Staff|Female | BX1: Qu1-05_Ethnicity| Chinese |Artistic Staff|Male | BY1: Qu1-05_Ethnicity| Chinese |Artistic Staff|Female | BZ1: Qu1-05_Ethnicity| Indian |Artistic Staff|Male | CA1: Qu1-05_Ethnicity| Indian |Artistic Staff|Female | CB1: Qu1-05_Ethnicity| Pakistani |Artistic Staff|Male | CC1: Qu1-05_Ethnicity| Pakistani |Artistic Staff|Female | CD1: Qu1-05_Ethnicity| Bangladeshi |Artistic Staff|Male | CE1: Qu1-05_Ethnicity| Bangladeshi |Artistic Staff|Female | CF1: Qu1-05_Ethnicity| Other Asian |Artistic Staff|Male | CG1: Qu1-05_Ethnicity| Other Asian |Artistic Staff|Female | CH1: Qu1-05_Ethnicity| Black Caribbean |Artistic Staff|Male | CI1: Qu1-05_Ethnicity| Black Caribbean |Artistic Staff|Female | CJ1: Qu1-05_Ethnicity| Black African |Artistic Staff|Male | CK1: Qu1-05_Ethnicity| Black African |Artistic Staff|Female | CL1: Qu1-05_Ethnicity| Black Other |Artistic Staff|Male | CM1: Qu1-05_Ethnicity| Black Other |Artistic Staff|Female | CN1: Qu1-05_Ethnicity| Mixed ethnic group |Artistic Staff|Male | CO1: Qu1-05_Ethnicity| Mixed ethnic group |Artistic Staff|Female | CP1: Qu1-05_Ethnicity| Other ethnic group |Artistic Staff|Male | CQ1: Qu1-05_Ethnicity| Other ethnic group |Artistic Staff|Female | CR1: Qu1-05_Ethnicity| Unspecified or not collected |Artistic Staff|Male | CS1: Qu1-05_Ethnicity| Unspecified or not collected |Artistic Staff|Female | CT1: Ethnicity Artistic Staff Total Male | CU1: Ethnicity Artistic Staff Total Female | CV1: Ethnicity Artistic Staff Total | CW1: Qu1-05_Ethnicity| White |Managers|Male | CX1: Qu1-05_Ethnicity| White |Managers|Female | CY1: Qu1-05_Ethnicity| Irish Traveller |Managers|Male | CZ1: Qu1-05_Ethnicity| Irish Traveller |Managers|Female | DA1: Qu1-05_Ethnicity| Chinese |Managers|Male | DB1: Qu1-05_Ethnicity| Chinese |Managers|Female | DC1: Qu1-05_Ethnicity| Indian |Managers|Male | DD1: Qu1-05_Ethnicity| Indian |Managers|Female | DE1: Qu1-05_Ethnicity| Pakistani |Managers|Male | DF1: Qu1-05_Ethnicity| Pakistani |Managers|Female | DG1: Qu1-05_Ethnicity| Bangladeshi |Managers|Male | DH1: Qu1-05_Ethnicity| Bangladeshi |Managers|Female | DI1: Qu1-05_Ethnicity| Other Asian |Managers|Male | DJ1: Qu1-05_Ethnicity| Other Asian |Managers|Female | DK1: Qu1-05_Ethnicity| Black Caribbean |Managers|Male | DL1: Qu1-05_Ethnicity| Black Caribbean |Managers|Female | DM1: Qu1-05_Ethnicity| Black African |Managers|Male | DN1: Qu1-05_Ethnicity| Black African |Managers|Female | DO1: Qu1-05_Ethnicity| Black Other |Managers|Male | DP1: Qu1-05_Ethnicity| Black Other |Managers|Female | DQ1: Qu1-05_Ethnicity| Mixed ethnic group |Managers|Male | DR1: Qu1-05_Ethnicity| Mixed ethnic group |Managers|Female | DS1: Qu1-05_Ethnicity| Other ethnic group |Managers|Male | DT1: Qu1-05_Ethnicity| Other ethnic group |Managers|Female | DU1: Qu1-05_Ethnicity| Unspecified or not collected |Managers|Male | DV1: Qu1-05_Ethnicity| Unspecified or not collected |Managers|Female | DW1: Qu1-05_Ethnicity| Total |Managers|Male | DX1: Qu1-05_Ethnicity| Total |Managers|Female | DY1: Qu1-05_Ethnicity| Total |Managers | DZ1: Qu1-05_Ethnicity| White |Other Staff|Male | EA1: Qu1-05_Ethnicity| White |Other Staff|Female | EB1: Qu1-05_Ethnicity| Irish Traveller |Other Staff|Male | EC1: Qu1-05_Ethnicity| Irish Traveller |Other Staff|Female | ED1: Qu1-05_Ethnicity| Chinese |Other Staff|Male | EE1: Qu1-05_Ethnicity| Chinese |Other Staff|Female | EF1: Qu1-05_Ethnicity| Indian |Other Staff|Male | EG1: Qu1-05_Ethnicity| Indian |Other Staff|Female | EH1: Qu1-05_Ethnicity| Pakistani |Other Staff|Male | EI1: Qu1-05_Ethnicity| Pakistani |Other Staff|Female | EJ1: Qu1-05_Ethnicity| Bangladeshi |Other Staff|Male | EK1: Qu1-05_Ethnicity| Bangladeshi |Other Staff|Female | EL1: Qu1-05_Ethnicity| Other Asian |Other Staff|Male | EM1: Qu1-05_Ethnicity| Other Asian |Other Staff|Female | EN1: Qu1-05_Ethnicity| Black Caribbean |Other Staff|Male | EO1: Qu1-05_Ethnicity| Black Caribbean |Other Staff|Female | EP1: Qu1-05_Ethnicity| Black African |Other Staff|Male | EQ1: Qu1-05_Ethnicity| Black African |Other Staff|Female | ER1: Qu1-05_Ethnicity| Black Other |Other Staff|Male | ES1: Qu1-05_Ethnicity| Black Other |Other Staff|Female | ET1: Qu1-05_Ethnicity| Mixed ethnic group |Other Staff|Male | EU1: Qu1-05_Ethnicity| Mixed ethnic group |Other Staff|Female | EV1: Qu1-05_Ethnicity| Other ethnic group |Other Staff|Male | EW1: Qu1-05_Ethnicity| Other ethnic group |Other Staff|Female | EX1: Qu1-05_Ethnicity| Unspecified or not collected |Other Staff|Male | EY1: Qu1-05_Ethnicity| Unspecified or not collected |Other Staff|Female | EZ1: Qu1-05_Ethnicity| Total |Other Staff|Male | FA1: Qu1-05_Ethnicity| Total |Other Staff | FB1: Qu1-05_Ethnicity| Total |Other Staff|Female | FC1: Qu1-06_Disability| Board Members |Male | FD1: Qu1-06_Disability| Board Members |Female | FE1: Qu1-06_Disability| Artistic Staff |Male | FF1: Qu1-06_Disability| Artistic Staff |Female | FG1: Qu1-06_Disability| Managers |Male | FH1: Qu1-06_Disability| Managers |Female | FI1: Qu1-06_Disability| Other Staff |Male | FJ1: Qu1-06_Disability| Other Staff |Female | FK1: Qu1-06_Disability| Volunteers |Male | FL1: Qu1-06_Disability| Volunteers |Female | FM1: Qu1-06_Disability| Totals |Male | FN1: Qu1-06_Disability| Totals | FO1: Qu1-06_Disability| Totals |Female | FP1: Qu1-07_Age| Board Members |16 to 24 years|Male | FQ1: Qu1-07_Age| Board Members |16 to 24 years|Female | FR1: Qu1-07_Age| Board Members |25 to 34 years|Male | FS1: Qu1-07_Age| Board Members |25 to 34 years|Female | FT1: Qu1-07_Age| Board Members |35 to 44 years|Male | FU1: Qu1-07_Age| Board Members |35 to 44 years|Female | FV1: Qu1-07_Age| Board Members |45 to 54 years|Male | FW1: Qu1-07_Age| Board Members |45 to 54 years|Female | FX1: Qu1-07_Age| Board Members |55 to 64 years|Male | FY1: Qu1-07_Age| Board Members |55 to 64 years|Female | FZ1: Qu1-07_Age| Board Members |65+ years|Male | GA1: Qu1-07_Age| Board Members |65+ years|Female | GB1: Qu1-07_Age| Board Members |Female | GC1: Qu1-07_Age| Board Members |Male | GD1: Qu1-07_Age| Board Members | GE1: Qu1-07_Age| Artistic Staff |16 to 24 years|Male | GF1: Qu1-07_Age| Artistic Staff |16 to 24 years|Female | GG1: Qu1-07_Age| Artistic Staff |25 to 34 years|Male | GH1: Qu1-07_Age| Artistic Staff |25 to 34 years|Female | GI1: Qu1-07_Age| Artistic Staff |35 to 44 years|Male | GJ1: Qu1-07_Age| Artistic Staff |35 to 44 years|Female | GK1: Qu1-07_Age| Artistic Staff |45 to 54 years|Male | GL1: Qu1-07_Age| Artistic Staff |45 to 54 years|Female | GM1: Qu1-07_Age| Artistic Staff |55 to 64 years|Male | GN1: Qu1-07_Age| Artistic Staff |55 to 64 years|Female | GO1: Qu1-07_Age| Artistic Staff |65+ years|Male | GP1: Qu1-07_Age| Artistic Staff |65+ years|Female | GQ1: Qu1-07_Age| Artistic Staff |Female | GR1: Qu1-07_Age| Artistic Staff |Male | GS1: Qu1-07_Age| Artistic Staff | GT1: Qu1-07_Age| Managers |16 to 24 years|Male | GU1: Qu1-07_Age| Managers |16 to 24 years|Female | GV1: Qu1-07_Age| Managers |25 to 34 years|Male | GW1: Qu1-07_Age| Managers |25 to 34 years|Female | GX1: Qu1-07_Age| Managers |35 to 44 years|Male | GY1: Qu1-07_Age| Managers |35 to 44 years|Female | GZ1: Qu1-07_Age| Managers |45 to 54 years|Male | HA1: Qu1-07_Age| Managers |45 to 54 years|Female | HB1: Qu1-07_Age| Managers |55 to 64 years|Male | HC1: Qu1-07_Age| Managers |55 to 64 years|Female | HD1: Qu1-07_Age| Managers |65+ years|Male | HE1: Qu1-07_Age| Managers |65+ years|Female | HF1: Qu1-07_Age| Managers |Female | HG1: Qu1-07_Age| Managers |Male | HH1: Qu1-07_Age| Managers | HI1: Qu1-07_Age| Other Staff |16 to 24 years|Male | HJ1: Qu1-07_Age| Other Staff |16 to 24 years|Female | HK1: Qu1-07_Age| Other Staff |25 to 34 years|Male | HL1: Qu1-07_Age| Other Staff |25 to 34 years|Female | HM1: Qu1-07_Age| Other Staff |35 to 44 years|Male | HN1: Qu1-07_Age| Other Staff |35 to 44 years|Female | HO1: Qu1-07_Age| Other Staff |45 to 54 years|Male | HP1: Qu1-07_Age| Other Staff |45 to 54 years|Female | HQ1: Qu1-07_Age| Other Staff |55 to 64 years|Male | HR1: Qu1-07_Age| Other Staff |55 to 64 years|Female | HS1: Qu1-07_Age| Other Staff |65+ years|Male | HT1: Qu1-07_Age| Other Staff |65+ years|Female | HU1: Qu1-07_Age| Other Staff |Female | HV1: Qu1-07_Age| Other Staff |Male | HW1: Qu1-07_Age| Other Staff | HX1: Qu1-07_Age| Volunteers |16 to 24 years|Male | HY1: Qu1-07_Age| Volunteers |16 to 24 years|Female | HZ1: Qu1-07_Age| Volunteers |25 to 34 years|Male | IA1: Qu1-07_Age| Volunteers |25 to 34 years|Female | IB1: Qu1-07_Age| Volunteers |35 to 44 years|Male | IC1: Qu1-07_Age| Volunteers |35 to 44 years|Female | ID1: Qu1-07_Age| Volunteers |45 to 54 years|Male | IE1: Qu1-07_Age| Volunteers |45 to 54 years|Female | IF1: Qu1-07_Age| Volunteers |55 to 64 years|Male | IG1: Qu1-07_Age| Volunteers |55 to 64 years|Female | IH1: Qu1-07_Age| Volunteers |65+ years|Male | II1: Qu1-07_Age| Volunteers |65+ years|Female | IJ1: Qu1-07_Age| Volunteers |Female | IK1: Qu1-07_Age| Volunteers |Male | IL1: Qu1-07_Age| Volunteers | IM1: Qu1-08_Religion| Roman Catholic |Board Members|Male | IN1: Qu1-08_Religion| Roman Catholic |Board Members|Female | IO1: Qu1-08_Religion| Protestant |Board Members|Male | IP1: Qu1-08_Religion| Protestant |Board Members|Female | IQ1: Qu1-08_Religion| Other Religious Faith |Board Members|Male | IR1: Qu1-08_Religion| Other Religious Faith |Board Members|Female | IS1: Qu1-08_Religion| None |Board Members|Male | IT1: Qu1-08_Religion| None |Board Members|Female | IU1: Qu1-08_Religion| Unspecified or Not Collected |Board Members|Male | IV1: Qu1-08_Religion| Unspecified or Not Collected |Board Members|Female | IW1: Qu1-08_Religion| Totals |Board Members|Male | IX1: Qu1-08_Religion| Totals |Board Members|Female | IY1: Qu1-08_Religion| Totals |Board Members| | IZ1: Qu1-08_Religion| Roman Catholic |Artistic Staff|Male | JA1: Qu1-08_Religion| Roman Catholic |Artistic Staff|Female | JB1: Qu1-08_Religion| Protestant |Artistic Staff|Male | JC1: Qu1-08_Religion| Protestant |Artistic Staff|Female | JD1: Qu1-08_Religion| Other Religious Faith |Artistic Staff|Male | JE1: Qu1-08_Religion| Other Religious Faith |Artistic Staff|Female | JF1: Qu1-08_Religion| None |Artistic Staff|Male | JG1: Qu1-08_Religion| None |Artistic Staff|Female | JH1: Qu1-08_Religion| Unspecified or Not Collected |Artistic Staff|Male | JI1: Qu1-08_Religion| Unspecified or Not Collected |Artistic Staff|Female | JJ1: Qu1-08_Religion| Totals |Artistic Staff|Male | JK1: Qu1-08_Religion| Totals |Artistic Staff | JL1: Qu1-08_Religion| Totals |Artistic Staff | JM1: Qu1-08_Religion| Roman Catholic |Managers|Male | JN1: Qu1-08_Religion| Roman Catholic |Managers|Female | JO1: Qu1-08_Religion| Protestant |Managers|Male | JP1: Qu1-08_Religion| Protestant |Managers|Female | JQ1: Qu1-08_Religion| Other Religious Faith |Managers|Male | JR1: Qu1-08_Religion| Other Religious Faith |Managers|Female | JS1: Qu1-08_Religion| None |Managers|Male | JT1: Qu1-08_Religion| None |Managers|Female | JU1: Qu1-08_Religion| Unspecified or Not Collected |Managers|Male | JV1: Qu1-08_Religion| Unspecified or Not Collected |Managers|Female | JW1: Qu1-08_Religion| Totals |Managers|Male | JX1: Qu1-08_Religion| Totals |Managers|Female | JY1: Qu1-08_Religion| Totals |Managers | JZ1: Qu1-08_Religion| Roman Catholic |Other Staff|Male | KA1: Qu1-08_Religion| Roman Catholic |Other Staff|Female | KB1: Qu1-08_Religion| Protestant |Other Staff|Male | KC1: Qu1-08_Religion| Protestant |Other Staff|Female | KD1: Qu1-08_Religion| Other Religious Faith |Other Staff|Male | KE1: Qu1-08_Religion| Other Religious Faith |Other Staff|Female | KF1: Qu1-08_Religion| None |Other Staff|Male | KG1: Qu1-08_Religion| None |Other Staff|Female | KH1: Qu1-08_Religion| Unspecified or Not Collected |Other Staff|Male | KI1: Qu1-08_Religion| Unspecified or Not Collected |Other Staff|Female | KJ1: Qu1-08_Religion| Totals |Other Staff|Male | KK1: Qu1-08_Religion| Totals |Other Staff|Female | KL1: Qu1-08_Religion| Totals |Other Staff | KM1: xxxQu1-09_CDPExists| Yes | KN1: xxxQu1-09_CDPExists| No | KO1: Qu1-09_CDPOffered| Yes | KP1: Qu1-09_CDPOffered| No | KQ1: Qu1-10_CDPCourses| Leadership, management &amp; business skills |Number | KR1: Qu1-10_CDPCourses| Personal, effectiveness &amp; behavioural skills |Number | KS1: Qu1-10_CDPCourses| Performance &amp; reward skills |Number | KT1: Qu1-10_CDPCourses| Human resources |Number | KU1: Qu1-10_CDPCourses| Learning &amp; development |Number | KV1: Qu1-10_CDPCourses| Organisation, development &amp; design |Number | KW1: Qu1-10_CDPCourses| Artistic practice |Number | KX1: Qu1-10_CDPCourses| Other types of continuous professional development |Number | KY1: Courses total | KZ1: Qu1-11_Apprenticeships| Paid internships |Total Number | LA1: Qu1-11_Apprenticeships| Formal apprenticeships |Total Number | LB1: Qu1-11_Apprenticeships| Unaccredited apprenticeships |Total Number | LC1: Qu1-11_Apprenticeships| Work experience for students at school or in further/higher education |Total Number | LD1: Apprenticeship total | LE1: Homebase | LF1: Homebase 2
A2: All organisations | B2: 114 | C2: 0 | D2: 0 | E2: 0 | F2: 0 | G2: 0 | H2: 0 | I2: 0 | J2: 14149573 | K2: 0 | L2: 13146012 | M2: 37320681 | N2: 0 | O2: 63 | P2: 48 | Q2: 7 | R2: 15 | S2: 69 | T2: 100 | U2: 9 | V2: 36 | W2: 104 | X2: 106 | Y2: 136 | Z2: 225 | AA2: 388 | AB2: 530 | AC2: 918 | AD2: 2005 | AE2: 2116 | AF2: 32 | AG2: 79 | AH2: 269 | AI2: 259 | AJ2: 2306 | AK2: 2454 | AL2: 4760 | AM2: 1206 | AN2: 2011 | AO2: 3217 | AP2: 81831 | AQ2: 449 | AR2: 358 | AS2: 0 | AT2: 0 | AU2: 0 | AV2: 0 | AW2: 3 | AX2: 4 | AY2: 0 | AZ2: 0 | BA2: 0 | BB2: 1 | BC2: 0 | BD2: 0 | BE2: 0 | BF2: 0 | BG2: 1 | BH2: 1 | BI2: 0 | BJ2: 0 | BK2: 0 | BL2: 0 | BM2: 1 | BN2: 0 | BO2: 21 | BP2: 10 | BQ2: 475 | BR2: 374 | BS2: 849 | BT2: 1122.5 | BU2: 1114 | BV2: 0 | BW2: 1 | BX2: 1 | BY2: 1 | BZ2: 1 | CA2: 4 | CB2: 1 | CC2: 0 | CD2: 0 | CE2: 0 | CF2: 0 | CG2: 0 | CH2: 0 | CI2: 1 | CJ2: 4 | CK2: 3 | CL2: 2 | CM2: 1 | CN2: 4 | CO2: 11 | CP2: 15 | CQ2: 18 | CR2: 472 | CS2: 572 | CT2: 1622.5 | CU2: 1726 | CV2: 3348.5 | CW2: 94.5 | CX2: 186 | CY2: 0 | CZ2: 0 | DA2: 0 | DB2: 0 | DC2: 1 | DD2: 2 | DE2: 0 | DF2: 0 | DG2: 0 | DH2: 0 | DI2: 0 | DJ2: 0 | DK2: 0 | DL2: 0 | DM2: 0 | DN2: 0 | DO2: 0 | DP2: 0 | DQ2: 0 | DR2: 0 | DS2: 0 | DT2: 2 | DU2: 4 | DV2: 6 | DW2: 99.5 | DX2: 196 | DY2: 295.5 | DZ2: 347 | EA2: 467 | EB2: 0 | EC2: 0 | ED2: 0 | EE2: 0 | EF2: 0 | EG2: 2 | EH2: 0 | EI2: 0 | EJ2: 0 | EK2: 0 | EL2: 0 | EM2: 0 | EN2: 3 | EO2: 1 | EP2: 1 | EQ2: 1 | ER2: 0 | ES2: 0 | ET2: 2 | EU2: 2 | EV2: 1 | EW2: 2 | EX2: 72 | EY2: 101 | EZ2: 426 | FA2: 576 | FB2: 1002 | FC2: 63 | FD2: 38 | FE2: 27 | FF2: 18 | FG2: 5 | FH2: 6 | FI2: 14 | FJ2: 18 | FK2: 68 | FL2: 74 | FM2: 177 | FN2: 154 | FO2: 331 | FP2: 8 | FQ2: 5 | FR2: 28 | FS2: 40 | FT2: 81 | FU2: 119 | FV2: 148 | FW2: 112 | FX2: 117 | FY2: 60 | FZ2: 74 | GA2: 22 | GB2: 456 | GC2: 358 | GD2: 814 | GE2: 153 | GF2: 158 | GG2: 347 | GH2: 438 | GI2: 365 | GJ2: 385 | GK2: 221 | GL2: 217 | GM2: 92 | GN2: 88 | GO2: 32.5 | GP2: 30 | GQ2: 1210.5 | GR2: 1316 | GS2: 2526.5 | GT2: 0 | GU2: 7 | GV2: 21 | GW2: 64 | GX2: 31 | GY2: 68 | GZ2: 34 | HA2: 38 | HB2: 10 | HC2: 9 | HD2: 3.5 | HE2: 1 | HF2: 99.5 | HG2: 187 | HH2: 286.5 | HI2: 41 | HJ2: 70 | HK2: 136 | HL2: 173 | HM2: 86 | HN2: 143 | HO2: 60 | HP2: 84 | HQ2: 22 | HR2: 25 | HS2: 2 | HT2: 10 | HU2: 347 | HV2: 505 | HW2: 852 | HX2: 251 | HY2: 397 | HZ2: 192 | IA2: 294 | IB2: 149 | IC2: 269 | ID2: 105 | IE2: 251 | IF2: 79 | IG2: 90 | IH2: 35 | II2: 41 | IJ2: 811 | IK2: 1342 | IL2: 2153 | IM2: 77 | IN2: 65 | IO2: 54 | IP2: 45 | IQ2: 3 | IR2: 4 | IS2: 8 | IT2: 14 | IU2: 307 | IV2: 228 | IW2: 449 | IX2: 356 | IY2: 805 | IZ2: 115 | JA2: 128 | JB2: 49 | JC2: 66 | JD2: 6 | JE2: 8 | JF2: 13 | JG2: 13 | JH2: 1348 | JI2: 1410 | JJ2: 1531 | JK2: 1625 | JL2: 3156 | JM2: 26 | JN2: 43 | JO2: 15 | JP2: 18 | JQ2: 2 | JR2: 1 | JS2: 5 | JT2: 13 | JU2: 51 | JV2: 108 | JW2: 99 | JX2: 183 | JY2: 282 | JZ2: 101 | KA2: 146 | KB2: 41 | KC2: 78 | KD2: 1 | KE2: 5 | KF2: 3 | KG2: 6 | KH2: 325 | KI2: 530 | KJ2: 471 | KK2: 765 | KL2: 1236 | KM2: 65 | KN2: 40 | KO2: 62 | KP2: 1 | KQ2: 191 | KR2: 189 | KS2: 99 | KT2: 57 | KU2: 268 | KV2: 113 | KW2: 291 | KX2: 215 | KY2: 1423 | KZ2: 54 | LA2: 19 | LB2: 310 | LC2: 394 | LD2: 777
A3: Small | B3: 53 | C3: 0 | D3: 0 | E3: 0 | F3: 0 | G3: 0 | H3: 0 | I3: 0 | J3: 2956777 | K3: 0 | L3: 0 | M3: 0 | N3: 0 | O3: 8 | P3: 7 | Q3: 4 | R3: 4 | S3: 14 | T3: 21 | U3: 4 | V3: 11 | W3: 3 | X3: 11 | Y3: 11 | Z3: 22 | AA3: 44 | AB3: 76 | AC3: 120 | AD3: 757 | AE3: 759 | AF3: 9 | AG3: 16 | AH3: 94 | AI3: 86 | AJ3: 860 | AK3: 861 | AL3: 1721 | AM3: 281 | AN3: 432 | AO3: 713 | AP3: 20453 | AQ3: 211 | AR3: 177 | AS3: 0 | AT3: 0 | AU3: 0 | AV3: 0 | AW3: 0 | AX3: 3 | AY3: 0 | AZ3: 0 | BA3: 0 | BB3: 0 | BC3: 0 | BD3: 0 | BE3: 0 | BF3: 0 | BG3: 1 | BH3: 1 | BI3: 0 | BJ3: 0 | BK3: 0 | BL3: 0 | BM3: 1 | BN3: 0 | BO3: 5 | BP3: 2 | BQ3: 218 | BR3: 183 | BS3: 401 | BT3: 378 | BU3: 355 | BV3: 0 | BW3: 0 | BX3: 1 | BY3: 1 | BZ3: 1 | CA3: 3 | CB3: 0 | CC3: 0 | CD3: 0 | CE3: 0 | CF3: 0 | CG3: 0 | CH3: 0 | CI3: 0 | CJ3: 0 | CK3: 0 | CL3: 1 | CM3: 1 | CN3: 2 | CO3: 2 | CP3: 7 | CQ3: 10 | CR3: 296 | CS3: 285 | CT3: 686 | CU3: 657 | CV3: 1343 | CW3: 20 | CX3: 38 | CY3: 0 | CZ3: 0 | DA3: 0 | DB3: 0 | DC3: 0 | DD3: 0 | DE3: 0 | DF3: 0 | DG3: 0 | DH3: 0 | DI3: 0 | DJ3: 0 | DK3: 0 | DL3: 0 | DM3: 0 | DN3: 0 | DO3: 0 | DP3: 0 | DQ3: 0 | DR3: 0 | DS3: 0 | DT3: 0 | DU3: 0 | DV3: 1 | DW3: 20 | DX3: 39 | DY3: 59 | DZ3: 53 | EA3: 88 | EB3: 0 | EC3: 0 | ED3: 0 | EE3: 0 | EF3: 0 | EG3: 0 | EH3: 0 | EI3: 0 | EJ3: 0 | EK3: 0 | EL3: 0 | EM3: 0 | EN3: 3 | EO3: 0 | EP3: 0 | EQ3: 0 | ER3: 0 | ES3: 0 | ET3: 0 | EU3: 1 | EV3: 0 | EW3: 1 | EX3: 15 | EY3: 11 | EZ3: 71 | FA3: 101 | FB3: 172 | FC3: 49 | FD3: 30 | FE3: 21 | FF3: 15 | FG3: 4 | FH3: 3 | FI3: 5 | FJ3: 8 | FK3: 31 | FL3: 35 | FM3: 110 | FN3: 91 | FO3: 201 | FP3: 6 | FQ3: 5 | FR3: 16 | FS3: 14 | FT3: 41 | FU3: 61 | FV3: 54 | FW3: 54 | FX3: 56 | FY3: 29 | FZ3: 42 | GA3: 12 | GB3: 215 | GC3: 175 | GD3: 390 | GE3: 45 | GF3: 40 | GG3: 137 | GH3: 178 | GI3: 121 | GJ3: 102 | GK3: 71 | GL3: 61 | GM3: 27 | GN3: 12 | GO3: 9 | GP3: 5 | GQ3: 410 | GR3: 398 | GS3: 808 | GT3: 0 | GU3: 0 | GV3: 4 | GW3: 9 | GX3: 6 | GY3: 15 | GZ3: 9 | HA3: 11 | HB3: 3 | HC3: 1 | HD3: 1 | HE3: 0 | HF3: 23 | HG3: 36 | HH3: 59 | HI3: 7 | HJ3: 5 | HK3: 14 | HL3: 25 | HM3: 18 | HN3: 28 | HO3: 14 | HP3: 25 | HQ3: 0 | HR3: 6 | HS3: 0 | HT3: 1 | HU3: 53 | HV3: 90 | HW3: 143 | HX3: 45 | HY3: 82 | HZ3: 42 | IA3: 61 | IB3: 26 | IC3: 90 | ID3: 20 | IE3: 50 | IF3: 12 | IG3: 12 | IH3: 5 | II3: 7 | IJ3: 150 | IK3: 302 | IL3: 452 | IM3: 34 | IN3: 25 | IO3: 26 | IP3: 29 | IQ3: 0 | IR3: 1 | IS3: 2 | IT3: 7 | IU3: 146 | IV3: 117 | IW3: 208 | IX3: 179 | IY3: 387 | IZ3: 87 | JA3: 85 | JB3: 32 | JC3: 41 | JD3: 2 | JE3: 4 | JF3: 8 | JG3: 6 | JH3: 494 | JI3: 469 | JJ3: 623 | JK3: 605 | JL3: 1228 | JM3: 5 | JN3: 4 | JO3: 3 | JP3: 4 | JQ3: 0 | JR3: 0 | JS3: 1 | JT3: 3 | JU3: 12 | JV3: 24 | JW3: 21 | JX3: 35 | JY3: 56 | JZ3: 3 | KA3: 7 | KB3: 0 | KC3: 3 | KD3: 0 | KE3: 1 | KF3: 2 | KG3: 2 | KH3: 48 | KI3: 77 | KJ3: 53 | KK3: 90 | KL3: 143 | KM3: 28 | KN3: 23 | KO3: 27 | KP3: 1 | KQ3: 64 | KR3: 29 | KS3: 8 | KT3: 23 | KU3: 85 | KV3: 45 | KW3: 73 | KX3: 82 | KY3: 409 | KZ3: 9 | LA3: 2 | LB3: 10 | LC3: 77 | LD3: 98
A4: Medium | B4: 47 | C4: 0 | D4: 0 | E4: 0 | F4: 0 | G4: 0 | H4: 0 | I4: 0 | J4: 6134734 | K4: 0 | L4: 0 | M4: 0 | N4: 0 | O4: 21 | P4: 22 | Q4: 3 | R4: 11 | S4: 26 | T4: 52 | U4: 5 | V4: 22 | W4: 26 | X4: 39 | Y4: 37 | Z4: 63 | AA4: 118 | AB4: 209 | AC4: 327 | AD4: 970 | AE4: 1142 | AF4: 18 | AG4: 61 | AH4: 129 | AI4: 115 | AJ4: 1117 | AK4: 1318 | AL4: 2435 | AM4: 771 | AN4: 1333 | AO4: 2104 | AP4: 53095 | AQ4: 192 | AR4: 161 | AS4: 0 | AT4: 0 | AU4: 0 | AV4: 0 | AW4: 3 | AX4: 1 | AY4: 0 | AZ4: 0 | BA4: 0 | BB4: 1 | BC4: 0 | BD4: 0 | BE4: 0 | BF4: 0 | BG4: 0 | BH4: 0 | BI4: 0 | BJ4: 0 | BK4: 0 | BL4: 0 | BM4: 0 | BN4: 0 | BO4: 6 | BP4: 5 | BQ4: 201 | BR4: 168 | BS4: 369 | BT4: 648.5 | BU4: 672 | BV4: 0 | BW4: 1 | BX4: 0 | BY4: 0 | BZ4: 0 | CA4: 1 | CB4: 1 | CC4: 0 | CD4: 0 | CE4: 0 | CF4: 0 | CG4: 0 | CH4: 0 | CI4: 1 | CJ4: 4 | CK4: 3 | CL4: 1 | CM4: 0 | CN4: 2 | CO4: 9 | CP4: 7 | CQ4: 8 | CR4: 132 | CS4: 245 | CT4: 795.5 | CU4: 940 | CV4: 1735.5 | CW4: 42.5 | CX4: 120 | CY4: 0 | CZ4: 0 | DA4: 0 | DB4: 0 | DC4: 1 | DD4: 2 | DE4: 0 | DF4: 0 | DG4: 0 | DH4: 0 | DI4: 0 | DJ4: 0 | DK4: 0 | DL4: 0 | DM4: 0 | DN4: 0 | DO4: 0 | DP4: 0 | DQ4: 0 | DR4: 0 | DS4: 0 | DT4: 2 | DU4: 0 | DV4: 1 | DW4: 43.5 | DX4: 125 | DY4: 168.5 | DZ4: 116 | EA4: 179 | EB4: 0 | EC4: 0 | ED4: 0 | EE4: 0 | EF4: 0 | EG4: 1 | EH4: 0 | EI4: 0 | EJ4: 0 | EK4: 0 | EL4: 0 | EM4: 0 | EN4: 0 | EO4: 0 | EP4: 0 | EQ4: 0 | ER4: 0 | ES4: 0 | ET4: 0 | EU4: 1 | EV4: 0 | EW4: 0 | EX4: 42 | EY4: 66 | EZ4: 158 | FA4: 247 | FB4: 405 | FC4: 6 | FD4: 5 | FE4: 6 | FF4: 3 | FG4: 0 | FH4: 1 | FI4: 6 | FJ4: 6 | FK4: 15 | FL4: 21 | FM4: 33 | FN4: 36 | FO4: 69 | FP4: 1 | FQ4: 0 | FR4: 10 | FS4: 25 | FT4: 33 | FU4: 56 | FV4: 78 | FW4: 50 | FX4: 47 | FY4: 23 | FZ4: 25 | GA4: 9 | GB4: 194 | GC4: 163 | GD4: 357 | GE4: 92 | GF4: 94 | GG4: 196 | GH4: 240 | GI4: 229 | GJ4: 274 | GK4: 139 | GL4: 149 | GM4: 51 | GN4: 70 | GO4: 22.5 | GP4: 25 | GQ4: 729.5 | GR4: 852 | GS4: 1581.5 | GT4: 0 | GU4: 7 | GV4: 14 | GW4: 45 | GX4: 9 | GY4: 38 | GZ4: 13 | HA4: 22 | HB4: 4 | HC4: 7 | HD4: 1.5 | HE4: 0 | HF4: 41.5 | HG4: 119 | HH4: 160.5 | HI4: 7 | HJ4: 19 | HK4: 51 | HL4: 74 | HM4: 34 | HN4: 69 | HO4: 27 | HP4: 29 | HQ4: 9 | HR4: 8 | HS4: 0 | HT4: 2 | HU4: 128 | HV4: 201 | HW4: 329 | HX4: 160 | HY4: 248 | HZ4: 95 | IA4: 162 | IB4: 96 | IC4: 158 | ID4: 76 | IE4: 192 | IF4: 61 | IG4: 72 | IH4: 28 | II4: 32 | IJ4: 516 | IK4: 864 | IL4: 1380 | IM4: 22 | IN4: 29 | IO4: 24 | IP4: 14 | IQ4: 3 | IR4: 3 | IS4: 6 | IT4: 7 | IU4: 130 | IV4: 101 | IW4: 185 | IX4: 154 | IY4: 339 | IZ4: 23 | JA4: 39 | JB4: 9 | JC4: 20 | JD4: 4 | JE4: 4 | JF4: 5 | JG4: 7 | JH4: 722 | JI4: 817 | JJ4: 763 | JK4: 887 | JL4: 1650 | JM4: 5 | JN4: 20 | JO4: 6 | JP4: 8 | JQ4: 1 | JR4: 1 | JS4: 4 | JT4: 10 | JU4: 26 | JV4: 78 | JW4: 42 | JX4: 117 | JY4: 159 | JZ4: 24 | KA4: 46 | KB4: 13 | KC4: 20 | KD4: 0 | KE4: 0 | KF4: 1 | KG4: 4 | KH4: 185 | KI4: 363 | KJ4: 223 | KK4: 433 | KL4: 656 | KM4: 32 | KN4: 14 | KO4: 30 | KP4: 0 | KQ4: 90 | KR4: 108 | KS4: 19 | KT4: 13 | KU4: 143 | KV4: 53 | KW4: 192 | KX4: 120 | KY4: 738 | KZ4: 27 | LA4: 17 | LB4: 298 | LC4: 248 | LD4: 590
A5: Large | B5: 8 | C5: 0 | D5: 0 | E5: 0 | F5: 0 | G5: 0 | H5: 0 | I5: 0 | J5: 5058062 | K5: 0 | L5: 0 | M5: 0 | N5: 0 | O5: 34 | P5: 19 | Q5: 0 | R5: 0 | S5: 29 | T5: 27 | U5: 0 | V5: 3 | W5: 75 | X5: 56 | Y5: 88 | Z5: 140 | AA5: 226 | AB5: 245 | AC5: 471 | AD5: 278 | AE5: 215 | AF5: 5 | AG5: 2 | AH5: 46 | AI5: 58 | AJ5: 329 | AK5: 275 | AL5: 604 | AM5: 154 | AN5: 246 | AO5: 400 | AP5: 8283 | AQ5: 46 | AR5: 20 | AS5: 0 | AT5: 0 | AU5: 0 | AV5: 0 | AW5: 0 | AX5: 0 | AY5: 0 | AZ5: 0 | BA5: 0 | BB5: 0 | BC5: 0 | BD5: 0 | BE5: 0 | BF5: 0 | BG5: 0 | BH5: 0 | BI5: 0 | BJ5: 0 | BK5: 0 | BL5: 0 | BM5: 0 | BN5: 0 | BO5: 10 | BP5: 3 | BQ5: 56 | BR5: 23 | BS5: 79 | BT5: 96 | BU5: 87 | BV5: 0 | BW5: 0 | BX5: 0 | BY5: 0 | BZ5: 0 | CA5: 0 | CB5: 0 | CC5: 0 | CD5: 0 | CE5: 0 | CF5: 0 | CG5: 0 | CH5: 0 | CI5: 0 | CJ5: 0 | CK5: 0 | CL5: 0 | CM5: 0 | CN5: 0 | CO5: 0 | CP5: 1 | CQ5: 0 | CR5: 44 | CS5: 42 | CT5: 141 | CU5: 129 | CV5: 270 | CW5: 32 | CX5: 28 | CY5: 0 | CZ5: 0 | DA5: 0 | DB5: 0 | DC5: 0 | DD5: 0 | DE5: 0 | DF5: 0 | DG5: 0 | DH5: 0 | DI5: 0 | DJ5: 0 | DK5: 0 | DL5: 0 | DM5: 0 | DN5: 0 | DO5: 0 | DP5: 0 | DQ5: 0 | DR5: 0 | DS5: 0 | DT5: 0 | DU5: 4 | DV5: 4 | DW5: 36 | DX5: 32 | DY5: 68 | DZ5: 178 | EA5: 200 | EB5: 0 | EC5: 0 | ED5: 0 | EE5: 0 | EF5: 0 | EG5: 1 | EH5: 0 | EI5: 0 | EJ5: 0 | EK5: 0 | EL5: 0 | EM5: 0 | EN5: 0 | EO5: 1 | EP5: 1 | EQ5: 1 | ER5: 0 | ES5: 0 | ET5: 2 | EU5: 0 | EV5: 1 | EW5: 1 | EX5: 15 | EY5: 24 | EZ5: 197 | FA5: 228 | FB5: 425 | FC5: 8 | FD5: 3 | FE5: 0 | FF5: 0 | FG5: 1 | FH5: 2 | FI5: 3 | FJ5: 4 | FK5: 22 | FL5: 18 | FM5: 34 | FN5: 27 | FO5: 61 | FP5: 1 | FQ5: 0 | FR5: 2 | FS5: 1 | FT5: 7 | FU5: 2 | FV5: 16 | FW5: 8 | FX5: 14 | FY5: 8 | FZ5: 7 | GA5: 1 | GB5: 47 | GC5: 20 | GD5: 67 | GE5: 16 | GF5: 24 | GG5: 14 | GH5: 20 | GI5: 15 | GJ5: 9 | GK5: 11 | GL5: 7 | GM5: 14 | GN5: 6 | GO5: 1 | GP5: 0 | GQ5: 71 | GR5: 66 | GS5: 137 | GT5: 0 | GU5: 0 | GV5: 3 | GW5: 10 | GX5: 16 | GY5: 15 | GZ5: 12 | HA5: 5 | HB5: 3 | HC5: 1 | HD5: 1 | HE5: 1 | HF5: 35 | HG5: 32 | HH5: 67 | HI5: 27 | HJ5: 46 | HK5: 71 | HL5: 74 | HM5: 34 | HN5: 46 | HO5: 19 | HP5: 30 | HQ5: 13 | HR5: 11 | HS5: 2 | HT5: 7 | HU5: 166 | HV5: 214 | HW5: 380 | HX5: 46 | HY5: 67 | HZ5: 55 | IA5: 71 | IB5: 27 | IC5: 21 | ID5: 9 | IE5: 9 | IF5: 6 | IG5: 6 | IH5: 2 | II5: 2 | IJ5: 145 | IK5: 176 | IL5: 321 | IM5: 21 | IN5: 11 | IO5: 4 | IP5: 2 | IQ5: 0 | IR5: 0 | IS5: 0 | IT5: 0 | IU5: 31 | IV5: 10 | IW5: 56 | IX5: 23 | IY5: 79 | IZ5: 5 | JA5: 4 | JB5: 8 | JC5: 5 | JD5: 0 | JE5: 0 | JF5: 0 | JG5: 0 | JH5: 132 | JI5: 124 | JJ5: 145 | JK5: 133 | JL5: 278 | JM5: 16 | JN5: 19 | JO5: 6 | JP5: 6 | JQ5: 1 | JR5: 0 | JS5: 0 | JT5: 0 | JU5: 13 | JV5: 6 | JW5: 36 | JX5: 31 | JY5: 67 | JZ5: 74 | KA5: 93 | KB5: 28 | KC5: 55 | KD5: 1 | KE5: 4 | KF5: 0 | KG5: 0 | KH5: 92 | KI5: 90 | KJ5: 195 | KK5: 242 | KL5: 437 | KM5: 5 | KN5: 3 | KO5: 5 | KP5: 0 | KQ5: 37 | KR5: 52 | KS5: 72 | KT5: 21 | KU5: 40 | KV5: 15 | KW5: 26 | KX5: 13 | KY5: 276 | KZ5: 18 | LA5: 0 | LB5: 2 | LC5: 69 | LD5: 89
A6: Visual Arts | B6: 21 | C6: 0 | D6: 0 | E6: 0 | F6: 0 | G6: 0 | H6: 0 | I6: 0 | J6: 1456234 | K6: 0 | L6: 0 | M6: 0 | N6: 0 | O6: 4 | P6: 3 | Q6: 1 | R6: 3 | S6: 7 | T6: 11 | U6: 4 | V6: 9 | W6: 3 | X6: 10 | Y6: 15 | Z6: 17 | AA6: 34 | AB6: 53 | AC6: 87 | AD6: 103 | AE6: 153 | AF6: 4 | AG6: 6 | AH6: 66 | AI6: 52 | AJ6: 173 | AK6: 211 | AL6: 384 | AM6: 103 | AN6: 175 | AO6: 278 | AP6: 6918 | AQ6: 92 | AR6: 72 | AS6: 0 | AT6: 0 | AU6: 0 | AV6: 0 | AW6: 0 | AX6: 0 | AY6: 0 | AZ6: 0 | BA6: 0 | BB6: 0 | BC6: 0 | BD6: 0 | BE6: 0 | BF6: 0 | BG6: 0 | BH6: 0 | BI6: 0 | BJ6: 0 | BK6: 0 | BL6: 0 | BM6: 1 | BN6: 0 | BO6: 1 | BP6: 0 | BQ6: 94 | BR6: 72 | BS6: 166 | BT6: 62 | BU6: 81 | BV6: 0 | BW6: 0 | BX6: 0 | BY6: 0 | BZ6: 0 | CA6: 1 | CB6: 0 | CC6: 0 | CD6: 0 | CE6: 0 | CF6: 0 | CG6: 0 | CH6: 0 | CI6: 0 | CJ6: 0 | CK6: 0 | CL6: 1 | CM6: 0 | CN6: 0 | CO6: 0 | CP6: 0 | CQ6: 1 | CR6: 0 | CS6: 0 | CT6: 63 | CU6: 83 | CV6: 146 | CW6: 10 | CX6: 21 | CY6: 0 | CZ6: 0 | DA6: 0 | DB6: 0 | DC6: 0 | DD6: 0 | DE6: 0 | DF6: 0 | DG6: 0 | DH6: 0 | DI6: 0 | DJ6: 0 | DK6: 0 | DL6: 0 | DM6: 0 | DN6: 0 | DO6: 0 | DP6: 0 | DQ6: 0 | DR6: 0 | DS6: 0 | DT6: 0 | DU6: 0 | DV6: 0 | DW6: 10 | DX6: 21 | DY6: 31 | DZ6: 31 | EA6: 53 | EB6: 0 | EC6: 0 | ED6: 0 | EE6: 0 | EF6: 0 | EG6: 1 | EH6: 0 | EI6: 0 | EJ6: 0 | EK6: 0 | EL6: 0 | EM6: 0 | EN6: 0 | EO6: 0 | EP6: 0 | EQ6: 0 | ER6: 0 | ES6: 0 | ET6: 0 | EU6: 1 | EV6: 0 | EW6: 0 | EX6: 0 | EY6: 0 | EZ6: 31 | FA6: 55 | FB6: 86 | FC6: 15 | FD6: 12 | FE6: 2 | FF6: 5 | FG6: 0 | FH6: 2 | FI6: 3 | FJ6: 4 | FK6: 8 | FL6: 14 | FM6: 28 | FN6: 37 | FO6: 65 | FP6: 0 | FQ6: 2 | FR6: 10 | FS6: 9 | FT6: 16 | FU6: 25 | FV6: 37 | FW6: 24 | FX6: 19 | FY6: 4 | FZ6: 11 | GA6: 4 | GB6: 93 | GC6: 68 | GD6: 161 | GE6: 8 | GF6: 12 | GG6: 22 | GH6: 47 | GI6: 24 | GJ6: 18 | GK6: 7 | GL6: 3 | GM6: 4 | GN6: 3 | GO6: 2 | GP6: 2 | GQ6: 67 | GR6: 85 | GS6: 152 | GT6: 0 | GU6: 0 | GV6: 2 | GW6: 2 | GX6: 4 | GY6: 13 | GZ6: 2 | HA6: 5 | HB6: 1 | HC6: 1 | HD6: 1 | HE6: 0 | HF6: 10 | HG6: 21 | HH6: 31 | HI6: 1 | HJ6: 3 | HK6: 10 | HL6: 19 | HM6: 5 | HN6: 22 | HO6: 6 | HP6: 6 | HQ6: 0 | HR6: 2 | HS6: 0 | HT6: 0 | HU6: 22 | HV6: 52 | HW6: 74 | HX6: 7 | HY6: 31 | HZ6: 40 | IA6: 69 | IB6: 12 | IC6: 23 | ID6: 3 | IE6: 10 | IF6: 0 | IG6: 3 | IH6: 2 | II6: 2 | IJ6: 64 | IK6: 138 | IL6: 202 | IM6: 12 | IN6: 8 | IO6: 9 | IP6: 3 | IQ6: 0 | IR6: 0 | IS6: 2 | IT6: 4 | IU6: 78 | IV6: 50 | IW6: 101 | IX6: 65 | IY6: 166 | IZ6: 6 | JA6: 7 | JB6: 1 | JC6: 2 | JD6: 0 | JE6: 0 | JF6: 0 | JG6: 1 | JH6: 45 | JI6: 64 | JJ6: 52 | JK6: 74 | JL6: 126 | JM6: 0 | JN6: 4 | JO6: 0 | JP6: 1 | JQ6: 0 | JR6: 0 | JS6: 1 | JT6: 2 | JU6: 10 | JV6: 13 | JW6: 11 | JX6: 20 | JY6: 31 | JZ6: 6 | KA6: 5 | KB6: 1 | KC6: 5 | KD6: 0 | KE6: 0 | KF6: 1 | KG6: 1 | KH6: 18 | KI6: 41 | KJ6: 26 | KK6: 52 | KL6: 78 | KM6: 16 | KN6: 5 | KO6: 15 | KP6: 1 | KQ6: 41 | KR6: 28 | KS6: 13 | KT6: 16 | KU6: 30 | KV6: 25 | KW6: 10 | KX6: 29 | KY6: 192 | KZ6: 8 | LA6: 1 | LB6: 1 | LC6: 59 | LD6: 69
A7: Combined | B7: 33 | C7: 0 | D7: 0 | E7: 0 | F7: 0 | G7: 0 | H7: 0 | I7: 0 | J7: 5636208 | K7: 0 | L7: 0 | M7: 0 | N7: 0 | O7: 10 | P7: 5 | Q7: 1 | R7: 6 | S7: 31 | T7: 46 | U7: 2 | V7: 13 | W7: 53 | X7: 55 | Y7: 92 | Z7: 141 | AA7: 189 | AB7: 266 | AC7: 455 | AD7: 806 | AE7: 1029 | AF7: 15 | AG7: 55 | AH7: 86 | AI7: 98 | AJ7: 907 | AK7: 1182 | AL7: 2089 | AM7: 613 | AN7: 956 | AO7: 1569 | AP7: 25888 | AQ7: 129 | AR7: 115 | AS7: 0 | AT7: 0 | AU7: 0 | AV7: 0 | AW7: 2 | AX7: 1 | AY7: 0 | AZ7: 0 | BA7: 0 | BB7: 1 | BC7: 0 | BD7: 0 | BE7: 0 | BF7: 0 | BG7: 1 | BH7: 1 | BI7: 0 | BJ7: 0 | BK7: 0 | BL7: 0 | BM7: 0 | BN7: 0 | BO7: 10 | BP7: 3 | BQ7: 142 | BR7: 121 | BS7: 263 | BT7: 627 | BU7: 671 | BV7: 0 | BW7: 1 | BX7: 0 | BY7: 0 | BZ7: 0 | CA7: 3 | CB7: 1 | CC7: 0 | CD7: 0 | CE7: 0 | CF7: 0 | CG7: 0 | CH7: 0 | CI7: 1 | CJ7: 4 | CK7: 3 | CL7: 1 | CM7: 0 | CN7: 2 | CO7: 9 | CP7: 9 | CQ7: 12 | CR7: 132 | CS7: 245 | CT7: 776 | CU7: 945 | CV7: 1721 | CW7: 44 | CX7: 103 | CY7: 0 | CZ7: 0 | DA7: 0 | DB7: 0 | DC7: 1 | DD7: 2 | DE7: 0 | DF7: 0 | DG7: 0 | DH7: 0 | DI7: 0 | DJ7: 0 | DK7: 0 | DL7: 0 | DM7: 0 | DN7: 0 | DO7: 0 | DP7: 0 | DQ7: 0 | DR7: 0 | DS7: 0 | DT7: 2 | DU7: 4 | DV7: 4 | DW7: 49 | DX7: 111 | DY7: 160 | DZ7: 180 | EA7: 271 | EB7: 0 | EC7: 0 | ED7: 0 | EE7: 0 | EF7: 0 | EG7: 0 | EH7: 0 | EI7: 0 | EJ7: 0 | EK7: 0 | EL7: 0 | EM7: 0 | EN7: 0 | EO7: 0 | EP7: 1 | EQ7: 1 | ER7: 0 | ES7: 0 | ET7: 2 | EU7: 0 | EV7: 1 | EW7: 1 | EX7: 9 | EY7: 22 | EZ7: 193 | FA7: 295 | FB7: 488 | FC7: 15 | FD7: 14 | FE7: 7 | FF7: 3 | FG7: 1 | FH7: 3 | FI7: 7 | FJ7: 10 | FK7: 38 | FL7: 41 | FM7: 68 | FN7: 71 | FO7: 139 | FP7: 4 | FQ7: 1 | FR7: 10 | FS7: 13 | FT7: 28 | FU7: 30 | FV7: 40 | FW7: 42 | FX7: 28 | FY7: 22 | FZ7: 14 | GA7: 5 | GB7: 124 | GC7: 113 | GD7: 237 | GE7: 96 | GF7: 113 | GG7: 191 | GH7: 235 | GI7: 206 | GJ7: 273 | GK7: 127 | GL7: 155 | GM7: 53 | GN7: 71 | GO7: 21 | GP7: 27 | GQ7: 694 | GR7: 874 | GS7: 1568 | GT7: 0 | GU7: 6 | GV7: 16 | GW7: 41 | GX7: 8 | GY7: 36 | GZ7: 20 | HA7: 18 | HB7: 5 | HC7: 4 | HD7: 1 | HE7: 0 | HF7: 50 | HG7: 105 | HH7: 155 | HI7: 25 | HJ7: 45 | HK7: 75 | HL7: 98 | HM7: 51 | HN7: 77 | HO7: 26 | HP7: 40 | HQ7: 13 | HR7: 10 | HS7: 2 | HT7: 8 | HU7: 192 | HV7: 278 | HW7: 470 | HX7: 106 | HY7: 146 | HZ7: 109 | IA7: 152 | IB7: 93 | IC7: 113 | ID7: 53 | IE7: 74 | IF7: 53 | IG7: 51 | IH7: 25 | II7: 25 | IJ7: 439 | IK7: 561 | IL7: 1000 | IM7: 33 | IN7: 37 | IO7: 18 | IP7: 18 | IQ7: 3 | IR7: 3 | IS7: 5 | IT7: 7 | IU7: 80 | IV7: 59 | IW7: 139 | IX7: 124 | IY7: 263 | IZ7: 32 | JA7: 53 | JB7: 18 | JC7: 38 | JD7: 5 | JE7: 8 | JF7: 7 | JG7: 8 | JH7: 683 | JI7: 795 | JJ7: 745 | JK7: 902 | JL7: 1647 | JM7: 18 | JN7: 24 | JO7: 7 | JP7: 9 | JQ7: 1 | JR7: 1 | JS7: 2 | JT7: 8 | JU7: 20 | JV7: 64 | JW7: 48 | JX7: 106 | JY7: 154 | JZ7: 60 | KA7: 101 | KB7: 24 | KC7: 49 | KD7: 1 | KE7: 0 | KF7: 2 | KG7: 4 | KH7: 176 | KI7: 337 | KJ7: 263 | KK7: 491 | KL7: 754 | KM7: 23 | KN7: 9 | KO7: 22 | KP7: 0 | KQ7: 75 | KR7: 123 | KS7: 86 | KT7: 31 | KU7: 72 | KV7: 61 | KW7: 193 | KX7: 58 | KY7: 699 | KZ7: 23 | LA7: 5 | LB7: 298 | LC7: 195 | LD7: 521
A8: Literature | B8: 5 | C8: 0 | D8: 0 | E8: 0 | F8: 0 | G8: 0 | H8: 0 | I8: 0 | J8: 471749 | K8: 0 | L8: 0 | M8: 0 | N8: 0 | O8: 3 | P8: 1 | Q8: 3 | R8: 1 | S8: 1 | T8: 3 | U8: 1 | V8: 1 | W8: 1 | X8: 3 | Y8: 1 | Z8: 4 | AA8: 10 | AB8: 13 | AC8: 23 | AD8: 5 | AE8: 7 | AF8: 0 | AG8: 1 | AH8: 2 | AI8: 6 | AJ8: 7 | AK8: 14 | AL8: 21 | AM8: 16 | AN8: 29 | AO8: 45 | AP8: 1996 | AQ8: 19 | AR8: 7 | AS8: 0 | AT8: 0 | AU8: 0 | AV8: 0 | AW8: 0 | AX8: 0 | AY8: 0 | AZ8: 0 | BA8: 0 | BB8: 0 | BC8: 0 | BD8: 0 | BE8: 0 | BF8: 0 | BG8: 0 | BH8: 0 | BI8: 0 | BJ8: 0 | BK8: 0 | BL8: 0 | BM8: 0 | BN8: 0 | BO8: 6 | BP8: 5 | BQ8: 25 | BR8: 12 | BS8: 37 | BT8: 6 | BU8: 7 | BV8: 0 | BW8: 0 | BX8: 0 | BY8: 0 | BZ8: 0 | CA8: 0 | CB8: 0 | CC8: 0 | CD8: 0 | CE8: 0 | CF8: 0 | CG8: 0 | CH8: 0 | CI8: 0 | CJ8: 0 | CK8: 0 | CL8: 0 | CM8: 0 | CN8: 0 | CO8: 0 | CP8: 0 | CQ8: 0 | CR8: 0 | CS8: 0 | CT8: 6 | CU8: 7 | CV8: 13 | CW8: 1 | CX8: 3 | CY8: 0 | CZ8: 0 | DA8: 0 | DB8: 0 | DC8: 0 | DD8: 0 | DE8: 0 | DF8: 0 | DG8: 0 | DH8: 0 | DI8: 0 | DJ8: 0 | DK8: 0 | DL8: 0 | DM8: 0 | DN8: 0 | DO8: 0 | DP8: 0 | DQ8: 0 | DR8: 0 | DS8: 0 | DT8: 0 | DU8: 0 | DV8: 1 | DW8: 1 | DX8: 4 | DY8: 5 | DZ8: 4 | EA8: 5 | EB8: 0 | EC8: 0 | ED8: 0 | EE8: 0 | EF8: 0 | EG8: 0 | EH8: 0 | EI8: 0 | EJ8: 0 | EK8: 0 | EL8: 0 | EM8: 0 | EN8: 0 | EO8: 0 | EP8: 0 | EQ8: 0 | ER8: 0 | ES8: 0 | ET8: 0 | EU8: 0 | EV8: 0 | EW8: 0 | EX8: 1 | EY8: 5 | EZ8: 5 | FA8: 10 | FB8: 15 | FC8: 5 | FD8: 1 | FE8: 5 | FF8: 0 | FG8: 0 | FH8: 0 | FI8: 1 | FJ8: 1 | FK8: 3 | FL8: 5 | FM8: 14 | FN8: 7 | FO8: 21 | FP8: 0 | FQ8: 0 | FR8: 0 | FS8: 1 | FT8: 0 | FU8: 0 | FV8: 9 | FW8: 8 | FX8: 9 | FY8: 1 | FZ8: 7 | GA8: 2 | GB8: 25 | GC8: 12 | GD8: 37 | GE8: 0 | GF8: 0 | GG8: 0 | GH8: 0 | GI8: 4 | GJ8: 3 | GK8: 0 | GL8: 4 | GM8: 1 | GN8: 0 | GO8: 1 | GP8: 0 | GQ8: 6 | GR8: 7 | GS8: 13 | GT8: 0 | GU8: 0 | GV8: 0 | GW8: 2 | GX8: 1 | GY8: 1 | GZ8: 0 | HA8: 1 | HB8: 0 | HC8: 0 | HD8: 0 | HE8: 0 | HF8: 1 | HG8: 4 | HH8: 5 | HI8: 0 | HJ8: 0 | HK8: 1 | HL8: 2 | HM8: 3 | HN8: 5 | HO8: 0 | HP8: 1 | HQ8: 1 | HR8: 1 | HS8: 0 | HT8: 0 | HU8: 5 | HV8: 9 | HW8: 14 | HX8: 1 | HY8: 2 | HZ8: 2 | IA8: 3 | IB8: 1 | IC8: 2 | ID8: 0 | IE8: 13 | IF8: 1 | IG8: 0 | IH8: 1 | II8: 4 | IJ8: 6 | IK8: 24 | IL8: 30 | IM8: 4 | IN8: 2 | IO8: 2 | IP8: 0 | IQ8: 0 | IR8: 0 | IS8: 0 | IT8: 0 | IU8: 13 | IV8: 5 | IW8: 19 | IX8: 7 | IY8: 26 | IZ8: 1 | JA8: 4 | JB8: 0 | JC8: 3 | JD8: 0 | JE8: 0 | JF8: 0 | JG8: 0 | JH8: 5 | JI8: 0 | JJ8: 6 | JK8: 7 | JL8: 13 | JM8: 1 | JN8: 2 | JO8: 0 | JP8: 0 | JQ8: 0 | JR8: 0 | JS8: 0 | JT8: 0 | JU8: 1 | JV8: 1 | JW8: 2 | JX8: 3 | JY8: 5 | JZ8: 3 | KA8: 3 | KB8: 0 | KC8: 0 | KD8: 0 | KE8: 0 | KF8: 0 | KG8: 0 | KH8: 1 | KI8: 2 | KJ8: 4 | KK8: 5 | KL8: 9 | KM8: 3 | KN8: 1 | KO8: 3 | KP8: 0 | KQ8: 0 | KR8: 0 | KS8: 0 | KT8: 2 | KU8: 5 | KV8: 1 | KW8: 0 | KX8: 14 | KY8: 22 | KZ8: 0 | LA8: 1 | LB8: 1 | LC8: 11 | LD8: 13
A9: Music | B9: 15 | C9: 0 | D9: 0 | E9: 0 | F9: 0 | G9: 0 | H9: 0 | I9: 0 | J9: 3278022 | K9: 0 | L9: 0 | M9: 0 | N9: 0 | O9: 36 | P9: 21 | Q9: 1 | R9: 1 | S9: 16 | T9: 14 | U9: 0 | V9: 5 | W9: 24 | X9: 10 | Y9: 8 | Z9: 7 | AA9: 85 | AB9: 58 | AC9: 143 | AD9: 382 | AE9: 264 | AF9: 4 | AG9: 5 | AH9: 49 | AI9: 52 | AJ9: 435 | AK9: 321 | AL9: 756 | AM9: 115 | AN9: 139 | AO9: 254 | AP9: 9018 | AQ9: 62 | AR9: 37 | AS9: 0 | AT9: 0 | AU9: 0 | AV9: 0 | AW9: 1 | AX9: 0 | AY9: 0 | AZ9: 0 | BA9: 0 | BB9: 0 | BC9: 0 | BD9: 0 | BE9: 0 | BF9: 0 | BG9: 0 | BH9: 0 | BI9: 0 | BJ9: 0 | BK9: 0 | BL9: 0 | BM9: 0 | BN9: 0 | BO9: 0 | BP9: 0 | BQ9: 63 | BR9: 37 | BS9: 100 | BT9: 113 | BU9: 76 | BV9: 0 | BW9: 0 | BX9: 1 | BY9: 1 | BZ9: 0 | CA9: 0 | CB9: 0 | CC9: 0 | CD9: 0 | CE9: 0 | CF9: 0 | CG9: 0 | CH9: 0 | CI9: 0 | CJ9: 0 | CK9: 0 | CL9: 0 | CM9: 0 | CN9: 1 | CO9: 1 | CP9: 4 | CQ9: 1 | CR9: 60 | CS9: 48 | CT9: 179 | CU9: 127 | CV9: 306 | CW9: 20 | CX9: 21 | CY9: 0 | CZ9: 0 | DA9: 0 | DB9: 0 | DC9: 0 | DD9: 0 | DE9: 0 | DF9: 0 | DG9: 0 | DH9: 0 | DI9: 0 | DJ9: 0 | DK9: 0 | DL9: 0 | DM9: 0 | DN9: 0 | DO9: 0 | DP9: 0 | DQ9: 0 | DR9: 0 | DS9: 0 | DT9: 0 | DU9: 0 | DV9: 0 | DW9: 20 | DX9: 21 | DY9: 41 | DZ9: 34 | EA9: 24 | EB9: 0 | EC9: 0 | ED9: 0 | EE9: 0 | EF9: 0 | EG9: 0 | EH9: 0 | EI9: 0 | EJ9: 0 | EK9: 0 | EL9: 0 | EM9: 0 | EN9: 0 | EO9: 0 | EP9: 0 | EQ9: 0 | ER9: 0 | ES9: 0 | ET9: 0 | EU9: 0 | EV9: 0 | EW9: 0 | EX9: 6 | EY9: 8 | EZ9: 40 | FA9: 32 | FB9: 72 | FC9: 4 | FD9: 6 | FE9: 13 | FF9: 6 | FG9: 3 | FH9: 0 | FI9: 2 | FJ9: 2 | FK9: 7 | FL9: 9 | FM9: 29 | FN9: 23 | FO9: 52 | FP9: 1 | FQ9: 1 | FR9: 3 | FS9: 7 | FT9: 8 | FU9: 8 | FV9: 14 | FW9: 4 | FX9: 27 | FY9: 14 | FZ9: 10 | GA9: 3 | GB9: 63 | GC9: 37 | GD9: 100 | GE9: 8 | GF9: 6 | GG9: 37 | GH9: 29 | GI9: 45 | GJ9: 28 | GK9: 21 | GL9: 12 | GM9: 20 | GN9: 6 | GO9: 3 | GP9: 0 | GQ9: 134 | GR9: 81 | GS9: 215 | GT9: 0 | GU9: 0 | GV9: 1 | GW9: 6 | GX9: 9 | GY9: 9 | GZ9: 8 | HA9: 4 | HB9: 2 | HC9: 2 | HD9: 1 | HE9: 0 | HF9: 21 | HG9: 21 | HH9: 42 | HI9: 0 | HJ9: 0 | HK9: 4 | HL9: 3 | HM9: 0 | HN9: 3 | HO9: 3 | HP9: 3 | HQ9: 4 | HR9: 2 | HS9: 0 | HT9: 1 | HU9: 11 | HV9: 12 | HW9: 23 | HX9: 20 | HY9: 26 | HZ9: 16 | IA9: 17 | IB9: 7 | IC9: 8 | ID9: 8 | IE9: 7 | IF9: 8 | IG9: 9 | IH9: 2 | II9: 2 | IJ9: 61 | IK9: 69 | IL9: 130 | IM9: 9 | IN9: 4 | IO9: 4 | IP9: 9 | IQ9: 0 | IR9: 0 | IS9: 0 | IT9: 0 | IU9: 43 | IV9: 22 | IW9: 56 | IX9: 35 | IY9: 91 | IZ9: 33 | JA9: 15 | JB9: 22 | JC9: 11 | JD9: 1 | JE9: 0 | JF9: 0 | JG9: 0 | JH9: 124 | JI9: 94 | JJ9: 180 | JK9: 120 | JL9: 300 | JM9: 2 | JN9: 7 | JO9: 3 | JP9: 3 | JQ9: 0 | JR9: 0 | JS9: 0 | JT9: 0 | JU9: 14 | JV9: 10 | JW9: 19 | JX9: 20 | JY9: 39 | JZ9: 5 | KA9: 2 | KB9: 2 | KC9: 1 | KD9: 0 | KE9: 0 | KF9: 0 | KG9: 0 | KH9: 32 | KI9: 27 | KJ9: 39 | KK9: 30 | KL9: 69 | KM9: 5 | KN9: 10 | KO9: 4 | KP9: 0 | KQ9: 19 | KR9: 11 | KS9: 0 | KT9: 0 | KU9: 39 | KV9: 4 | KW9: 24 | KX9: 8 | KY9: 105 | KZ9: 3 | LA9: 0 | LB9: 0 | LC9: 49 | LD9: 52
A10: Traditional Arts | B10: 13 | C10: 0 | D10: 0 | E10: 0 | F10: 0 | G10: 0 | H10: 0 | I10: 0 | J10: 594125 | K10: 0 | L10: 0 | M10: 0 | N10: 0 | O10: 4 | P10: 7 | Q10: 0 | R10: 0 | S10: 7 | T10: 4 | U10: 1 | V10: 1 | W10: 11 | X10: 13 | Y10: 5 | Z10: 25 | AA10: 28 | AB10: 50 | AC10: 78 | AD10: 385 | AE10: 324 | AF10: 4 | AG10: 0 | AH10: 34 | AI10: 11 | AJ10: 423 | AK10: 335 | AL10: 758 | AM10: 120 | AN10: 131 | AO10: 251 | AP10: 10452 | AQ10: 91 | AR10: 49 | AS10: 0 | AT10: 0 | AU10: 0 | AV10: 0 | AW10: 0 | AX10: 1 | AY10: 0 | AZ10: 0 | BA10: 0 | BB10: 0 | BC10: 0 | BD10: 0 | BE10: 0 | BF10: 0 | BG10: 0 | BH10: 0 | BI10: 0 | BJ10: 0 | BK10: 0 | BL10: 0 | BM10: 0 | BN10: 0 | BO10: 0 | BP10: 0 | BQ10: 91 | BR10: 50 | BS10: 141 | BT10: 160.5 | BU10: 105 | BV10: 0 | BW10: 0 | BX10: 0 | BY10: 0 | BZ10: 0 | CA10: 0 | CB10: 0 | CC10: 0 | CD10: 0 | CE10: 0 | CF10: 0 | CG10: 0 | CH10: 0 | CI10: 0 | CJ10: 0 | CK10: 0 | CL10: 0 | CM10: 0 | CN10: 0 | CO10: 0 | CP10: 0 | CQ10: 0 | CR10: 224 | CS10: 224 | CT10: 384.5 | CU10: 329 | CV10: 713.5 | CW10: 8.5 | CX10: 5 | CY10: 0 | CZ10: 0 | DA10: 0 | DB10: 0 | DC10: 0 | DD10: 0 | DE10: 0 | DF10: 0 | DG10: 0 | DH10: 0 | DI10: 0 | DJ10: 0 | DK10: 0 | DL10: 0 | DM10: 0 | DN10: 0 | DO10: 0 | DP10: 0 | DQ10: 0 | DR10: 0 | DS10: 0 | DT10: 0 | DU10: 0 | DV10: 0 | DW10: 8.5 | DX10: 5 | DY10: 13.5 | DZ10: 25 | EA10: 40 | EB10: 0 | EC10: 0 | ED10: 0 | EE10: 0 | EF10: 0 | EG10: 0 | EH10: 0 | EI10: 0 | EJ10: 0 | EK10: 0 | EL10: 0 | EM10: 0 | EN10: 0 | EO10: 1 | EP10: 0 | EQ10: 0 | ER10: 0 | ES10: 0 | ET10: 0 | EU10: 0 | EV10: 0 | EW10: 0 | EX10: 0 | EY10: 0 | EZ10: 25 | FA10: 41 | FB10: 66 | FC10: 22 | FD10: 3 | FE10: 0 | FF10: 0 | FG10: 1 | FH10: 0 | FI10: 0 | FJ10: 0 | FK10: 6 | FL10: 0 | FM10: 29 | FN10: 3 | FO10: 32 | FP10: 2 | FQ10: 1 | FR10: 4 | FS10: 3 | FT10: 13 | FU10: 18 | FV10: 23 | FW10: 12 | FX10: 23 | FY10: 9 | FZ10: 26 | GA10: 7 | GB10: 91 | GC10: 50 | GD10: 141 | GE10: 32 | GF10: 11 | GG10: 50 | GH10: 37 | GI10: 39 | GJ10: 23 | GK10: 37 | GL10: 23 | GM10: 9 | GN10: 1 | GO10: 3.5 | GP10: 0 | GQ10: 170.5 | GR10: 95 | GS10: 265.5 | GT10: 0 | GU10: 0 | GV10: 0 | GW10: 2 | GX10: 4 | GY10: 0 | GZ10: 2 | HA10: 2 | HB10: 2 | HC10: 1 | HD10: 0.5 | HE10: 0 | HF10: 8.5 | HG10: 5 | HH10: 13.5 | HI10: 4 | HJ10: 10 | HK10: 9 | HL10: 17 | HM10: 2 | HN10: 7 | HO10: 3 | HP10: 7 | HQ10: 3 | HR10: 1 | HS10: 0 | HT10: 0 | HU10: 21 | HV10: 42 | HW10: 63 | HX10: 5 | HY10: 8 | HZ10: 3 | IA10: 6 | IB10: 12 | IC10: 12 | ID10: 7 | IE10: 19 | IF10: 6 | IG10: 7 | IH10: 1 | II10: 1 | IJ10: 34 | IK10: 53 | IL10: 87 | IM10: 14 | IN10: 9 | IO10: 18 | IP10: 10 | IQ10: 0 | IR10: 1 | IS10: 1 | IT10: 3 | IU10: 41 | IV10: 20 | IW10: 74 | IX10: 43 | IY10: 117 | IZ10: 31 | JA10: 29 | JB10: 3 | JC10: 2 | JD10: 0 | JE10: 0 | JF10: 6 | JG10: 0 | JH10: 338 | JI10: 293 | JJ10: 378 | JK10: 324 | JL10: 702 | JM10: 1 | JN10: 1 | JO10: 2 | JP10: 0 | JQ10: 0 | JR10: 0 | JS10: 2 | JT10: 1 | JU10: 3 | JV10: 2 | JW10: 8 | JX10: 4 | JY10: 12 | JZ10: 8 | KA10: 12 | KB10: 5 | KC10: 1 | KD10: 0 | KE10: 1 | KF10: 0 | KG10: 1 | KH10: 9 | KI10: 26 | KJ10: 22 | KK10: 41 | KL10: 63 | KM10: 6 | KN10: 6 | KO10: 6 | KP10: 0 | KQ10: 15 | KR10: 5 | KS10: 0 | KT10: 3 | KU10: 40 | KV10: 13 | KW10: 17 | KX10: 44 | KY10: 137 | KZ10: 7 | LA10: 0 | LB10: 1 | LC10: 12 | LD10: 20
A11: Dance | B11: 5 | C11: 0 | D11: 0 | E11: 0 | F11: 0 | G11: 0 | H11: 0 | I11: 0 | J11: 341053 | K11: 0 | L11: 0 | M11: 0 | N11: 0 | O11: 2 | P11: 0 | Q11: 0 | R11: 2 | S11: 1 | T11: 3 | U11: 0 | V11: 2 | W11: 1 | X11: 1 | Y11: 0 | Z11: 2 | AA11: 4 | AB11: 10 | AC11: 14 | AD11: 54 | AE11: 79 | AF11: 2 | AG11: 2 | AH11: 10 | AI11: 9 | AJ11: 66 | AK11: 90 | AL11: 156 | AM11: 14 | AN11: 81 | AO11: 95 | AP11: 5350 | AQ11: 7 | AR11: 17 | AS11: 0 | AT11: 0 | AU11: 0 | AV11: 0 | AW11: 0 | AX11: 0 | AY11: 0 | AZ11: 0 | BA11: 0 | BB11: 0 | BC11: 0 | BD11: 0 | BE11: 0 | BF11: 0 | BG11: 0 | BH11: 0 | BI11: 0 | BJ11: 0 | BK11: 0 | BL11: 0 | BM11: 0 | BN11: 0 | BO11: 4 | BP11: 2 | BQ11: 11 | BR11: 19 | BS11: 30 | BT11: 29 | BU11: 35 | BV11: 0 | BW11: 0 | BX11: 0 | BY11: 0 | BZ11: 0 | CA11: 0 | CB11: 0 | CC11: 0 | CD11: 0 | CE11: 0 | CF11: 0 | CG11: 0 | CH11: 0 | CI11: 0 | CJ11: 0 | CK11: 0 | CL11: 0 | CM11: 1 | CN11: 1 | CO11: 0 | CP11: 0 | CQ11: 1 | CR11: 10 | CS11: 13 | CT11: 40 | CU11: 50 | CV11: 90 | CW11: 2 | CX11: 6 | CY11: 0 | CZ11: 0 | DA11: 0 | DB11: 0 | DC11: 0 | DD11: 0 | DE11: 0 | DF11: 0 | DG11: 0 | DH11: 0 | DI11: 0 | DJ11: 0 | DK11: 0 | DL11: 0 | DM11: 0 | DN11: 0 | DO11: 0 | DP11: 0 | DQ11: 0 | DR11: 0 | DS11: 0 | DT11: 0 | DU11: 0 | DV11: 1 | DW11: 2 | DX11: 7 | DY11: 9 | DZ11: 9 | EA11: 8 | EB11: 0 | EC11: 0 | ED11: 0 | EE11: 0 | EF11: 0 | EG11: 0 | EH11: 0 | EI11: 0 | EJ11: 0 | EK11: 0 | EL11: 0 | EM11: 0 | EN11: 0 | EO11: 0 | EP11: 0 | EQ11: 0 | ER11: 0 | ES11: 0 | ET11: 0 | EU11: 0 | EV11: 0 | EW11: 0 | EX11: 20 | EY11: 32 | EZ11: 29 | FA11: 40 | FB11: 69 | FC11: 0 | FD11: 0 | FE11: 0 | FF11: 2 | FG11: 0 | FH11: 0 | FI11: 1 | FJ11: 0 | FK11: 0 | FL11: 0 | FM11: 1 | FN11: 2 | FO11: 3 | FP11: 0 | FQ11: 0 | FR11: 0 | FS11: 1 | FT11: 4 | FU11: 9 | FV11: 5 | FW11: 5 | FX11: 2 | FY11: 3 | FZ11: 0 | GA11: 1 | GB11: 11 | GC11: 19 | GD11: 30 | GE11: 3 | GF11: 6 | GG11: 19 | GH11: 26 | GI11: 12 | GJ11: 11 | GK11: 5 | GL11: 5 | GM11: 0 | GN11: 1 | GO11: 0 | GP11: 1 | GQ11: 39 | GR11: 50 | GS11: 89 | GT11: 0 | GU11: 0 | GV11: 1 | GW11: 0 | GX11: 0 | GY11: 3 | GZ11: 0 | HA11: 2 | HB11: 0 | HC11: 0 | HD11: 0 | HE11: 0 | HF11: 1 | HG11: 5 | HH11: 6 | HI11: 1 | HJ11: 0 | HK11: 3 | HL11: 2 | HM11: 4 | HN11: 3 | HO11: 2 | HP11: 2 | HQ11: 0 | HR11: 2 | HS11: 0 | HT11: 0 | HU11: 10 | HV11: 9 | HW11: 19 | HX11: 3 | HY11: 4 | HZ11: 4 | IA11: 12 | IB11: 0 | IC11: 24 | ID11: 0 | IE11: 1 | IF11: 0 | IG11: 0 | IH11: 0 | II11: 0 | IJ11: 7 | IK11: 41 | IL11: 48 | IM11: 0 | IN11: 0 | IO11: 0 | IP11: 0 | IQ11: 0 | IR11: 0 | IS11: 0 | IT11: 0 | IU11: 11 | IV11: 19 | IW11: 11 | IX11: 19 | IY11: 30 | IZ11: 0 | JA11: 0 | JB11: 0 | JC11: 0 | JD11: 0 | JE11: 0 | JF11: 0 | JG11: 0 | JH11: 40 | JI11: 50 | JJ11: 40 | JK11: 50 | JL11: 90 | JM11: 0 | JN11: 0 | JO11: 0 | JP11: 0 | JQ11: 0 | JR11: 0 | JS11: 0 | JT11: 0 | JU11: 2 | JV11: 5 | JW11: 2 | JX11: 5 | JY11: 7 | JZ11: 0 | KA11: 0 | KB11: 0 | KC11: 0 | KD11: 0 | KE11: 0 | KF11: 0 | KG11: 0 | KH11: 27 | KI11: 38 | KJ11: 27 | KK11: 38 | KL11: 65 | KM11: 4 | KN11: 1 | KO11: 4 | KP11: 0 | KQ11: 7 | KR11: 3 | KS11: 0 | KT11: 2 | KU11: 0 | KV11: 7 | KW11: 8 | KX11: 2 | KY11: 29 | KZ11: 1 | LA11: 2 | LB11: 1 | LC11: 8 | LD11: 12
A12: Drama | B12: 16 | C12: 0 | D12: 0 | E12: 0 | F12: 0 | G12: 0 | H12: 0 | I12: 0 | J12: 2372182 | K12: 0 | L12: 0 | M12: 0 | N12: 0 | O12: 4 | P12: 11 | Q12: 1 | R12: 2 | S12: 6 | T12: 19 | U12: 1 | V12: 5 | W12: 11 | X12: 14 | Y12: 15 | Z12: 29 | AA12: 38 | AB12: 80 | AC12: 118 | AD12: 270 | AE12: 260 | AF12: 3 | AG12: 10 | AH12: 22 | AI12: 31 | AJ12: 295 | AK12: 301 | AL12: 596 | AM12: 225 | AN12: 500 | AO12: 725 | AP12: 22209 | AQ12: 49 | AR12: 61 | AS12: 0 | AT12: 0 | AU12: 0 | AV12: 0 | AW12: 0 | AX12: 2 | AY12: 0 | AZ12: 0 | BA12: 0 | BB12: 0 | BC12: 0 | BD12: 0 | BE12: 0 | BF12: 0 | BG12: 0 | BH12: 0 | BI12: 0 | BJ12: 0 | BK12: 0 | BL12: 0 | BM12: 0 | BN12: 0 | BO12: 0 | BP12: 0 | BQ12: 49 | BR12: 63 | BS12: 112 | BT12: 125 | BU12: 139 | BV12: 0 | BW12: 0 | BX12: 0 | BY12: 0 | BZ12: 1 | CA12: 0 | CB12: 0 | CC12: 0 | CD12: 0 | CE12: 0 | CF12: 0 | CG12: 0 | CH12: 0 | CI12: 0 | CJ12: 0 | CK12: 0 | CL12: 0 | CM12: 0 | CN12: 0 | CO12: 1 | CP12: 2 | CQ12: 3 | CR12: 46 | CS12: 42 | CT12: 174 | CU12: 185 | CV12: 359 | CW12: 9 | CX12: 27 | CY12: 0 | CZ12: 0 | DA12: 0 | DB12: 0 | DC12: 0 | DD12: 0 | DE12: 0 | DF12: 0 | DG12: 0 | DH12: 0 | DI12: 0 | DJ12: 0 | DK12: 0 | DL12: 0 | DM12: 0 | DN12: 0 | DO12: 0 | DP12: 0 | DQ12: 0 | DR12: 0 | DS12: 0 | DT12: 0 | DU12: 0 | DV12: 0 | DW12: 9 | DX12: 27 | DY12: 36 | DZ12: 64 | EA12: 66 | EB12: 0 | EC12: 0 | ED12: 0 | EE12: 0 | EF12: 0 | EG12: 1 | EH12: 0 | EI12: 0 | EJ12: 0 | EK12: 0 | EL12: 0 | EM12: 0 | EN12: 3 | EO12: 0 | EP12: 0 | EQ12: 0 | ER12: 0 | ES12: 0 | ET12: 0 | EU12: 1 | EV12: 0 | EW12: 1 | EX12: 36 | EY12: 34 | EZ12: 103 | FA12: 103 | FB12: 206 | FC12: 2 | FD12: 2 | FE12: 0 | FF12: 2 | FG12: 0 | FH12: 1 | FI12: 0 | FJ12: 1 | FK12: 6 | FL12: 5 | FM12: 8 | FN12: 11 | FO12: 19 | FP12: 1 | FQ12: 0 | FR12: 1 | FS12: 6 | FT12: 12 | FU12: 29 | FV12: 20 | FW12: 17 | FX12: 9 | FY12: 7 | FZ12: 6 | GA12: 0 | GB12: 49 | GC12: 59 | GD12: 108 | GE12: 6 | GF12: 10 | GG12: 28 | GH12: 64 | GI12: 35 | GJ12: 29 | GK12: 24 | GL12: 15 | GM12: 5 | GN12: 6 | GO12: 2 | GP12: 0 | GQ12: 100 | GR12: 124 | GS12: 224 | GT12: 0 | GU12: 1 | GV12: 1 | GW12: 11 | GX12: 5 | GY12: 6 | GZ12: 2 | HA12: 6 | HB12: 0 | HC12: 1 | HD12: 0 | HE12: 1 | HF12: 8 | HG12: 26 | HH12: 34 | HI12: 10 | HJ12: 12 | HK12: 34 | HL12: 32 | HM12: 21 | HN12: 26 | HO12: 20 | HP12: 25 | HQ12: 1 | HR12: 7 | HS12: 0 | HT12: 1 | HU12: 86 | HV12: 103 | HW12: 189 | HX12: 109 | HY12: 180 | HZ12: 18 | IA12: 35 | IB12: 24 | IC12: 87 | ID12: 34 | IE12: 127 | IF12: 11 | IG12: 20 | IH12: 4 | II12: 7 | IJ12: 200 | IK12: 456 | IL12: 656 | IM12: 5 | IN12: 5 | IO12: 3 | IP12: 5 | IQ12: 0 | IR12: 0 | IS12: 0 | IT12: 0 | IU12: 41 | IV12: 53 | IW12: 49 | IX12: 63 | IY12: 112 | IZ12: 12 | JA12: 20 | JB12: 5 | JC12: 10 | JD12: 0 | JE12: 0 | JF12: 0 | JG12: 4 | JH12: 113 | JI12: 114 | JJ12: 130 | JK12: 148 | JL12: 278 | JM12: 4 | JN12: 5 | JO12: 3 | JP12: 5 | JQ12: 1 | JR12: 0 | JS12: 0 | JT12: 2 | JU12: 1 | JV12: 13 | JW12: 9 | JX12: 25 | JY12: 34 | JZ12: 19 | KA12: 23 | KB12: 9 | KC12: 22 | KD12: 0 | KE12: 4 | KF12: 0 | KG12: 0 | KH12: 62 | KI12: 59 | KJ12: 90 | KK12: 108 | KL12: 198 | KM12: 8 | KN12: 8 | KO12: 8 | KP12: 0 | KQ12: 34 | KR12: 19 | KS12: 0 | KT12: 3 | KU12: 82 | KV12: 2 | KW12: 39 | KX12: 60 | KY12: 239 | KZ12: 12 | LA12: 10 | LB12: 8 | LC12: 60 | LD12: 90
A13: Belfast | B13: 68 | C13: 0 | D13: 0 | E13: 0 | F13: 0 | G13: 0 | H13: 0 | I13: 0 | J13: 10981467 | K13: 0 | L13: 0 | M13: 0 | N13: 0 | O13: 53 | P13: 33 | Q13: 4 | R13: 7 | S13: 35 | T13: 67 | U13: 8 | V13: 31 | W13: 57 | X13: 66 | Y13: 95 | Z13: 166 | AA13: 252 | AB13: 370 | AC13: 622 | AD13: 1358 | AE13: 1408 | AF13: 23 | AG13: 73 | AH13: 186 | AI13: 194 | AJ13: 1567 | AK13: 1675 | AL13: 3242 | AM13: 890 | AN13: 1570 | AO13: 2460 | AP13: 59418 | AQ13: 265 | AR13: 232 | AS13: 0 | AT13: 0 | AU13: 0 | AV13: 0 | AW13: 3 | AX13: 4 | AY13: 0 | AZ13: 0 | BA13: 0 | BB13: 1 | BC13: 0 | BD13: 0 | BE13: 0 | BF13: 0 | BG13: 1 | BH13: 0 | BI13: 0 | BJ13: 0 | BK13: 0 | BL13: 0 | BM13: 1 | BN13: 0 | BO13: 15 | BP13: 5 | BQ13: 285 | BR13: 242 | BS13: 527 | BT13: 826 | BU13: 787 | BV13: 0 | BW13: 0 | BX13: 0 | BY13: 0 | BZ13: 1 | CA13: 4 | CB13: 1 | CC13: 0 | CD13: 0 | CE13: 0 | CF13: 0 | CG13: 0 | CH13: 0 | CI13: 1 | CJ13: 4 | CK13: 3 | CL13: 2 | CM13: 1 | CN13: 1 | CO13: 8 | CP13: 12 | CQ13: 17 | CR13: 204 | CS13: 306 | CT13: 1051 | CU13: 1127 | CV13: 2178 | CW13: 56 | CX13: 142 | CY13: 0 | CZ13: 0 | DA13: 0 | DB13: 0 | DC13: 1 | DD13: 2 | DE13: 0 | DF13: 0 | DG13: 0 | DH13: 0 | DI13: 0 | DJ13: 0 | DK13: 0 | DL13: 0 | DM13: 0 | DN13: 0 | DO13: 0 | DP13: 0 | DQ13: 0 | DR13: 0 | DS13: 0 | DT13: 2 | DU13: 4 | DV13: 5 | DW13: 61 | DX13: 151 | DY13: 212 | DZ13: 244 | EA13: 331 | EB13: 0 | EC13: 0 | ED13: 0 | EE13: 0 | EF13: 0 | EG13: 2 | EH13: 0 | EI13: 0 | EJ13: 0 | EK13: 0 | EL13: 0 | EM13: 0 | EN13: 3 | EO13: 0 | EP13: 0 | EQ13: 1 | ER13: 0 | ES13: 0 | ET13: 2 | EU13: 2 | EV13: 1 | EW13: 2 | EX13: 24 | EY13: 33 | EZ13: 274 | FA13: 371 | FB13: 645 | FC13: 36 | FD13: 29 | FE13: 12 | FF13: 10 | FG13: 1 | FH13: 5 | FI13: 9 | FJ13: 14 | FK13: 54 | FL13: 59 | FM13: 112 | FN13: 117 | FO13: 229 | FP13: 5 | FQ13: 4 | FR13: 19 | FS13: 31 | FT13: 56 | FU13: 85 | FV13: 91 | FW13: 61 | FX13: 59 | FY13: 33 | FZ13: 38 | GA13: 10 | GB13: 268 | GC13: 224 | GD13: 492 | GE13: 106 | GF13: 114 | GG13: 253 | GH13: 307 | GI13: 272 | GJ13: 285 | GK13: 173 | GL13: 173 | GM13: 75 | GN13: 78 | GO13: 27 | GP13: 29 | GQ13: 906 | GR13: 986 | GS13: 1892 | GT13: 0 | GU13: 7 | GV13: 20 | GW13: 59 | GX13: 16 | GY13: 45 | GZ13: 17 | HA13: 26 | HB13: 6 | HC13: 6 | HD13: 3 | HE13: 1 | HF13: 62 | HG13: 144 | HH13: 206 | HI13: 30 | HJ13: 54 | HK13: 100 | HL13: 133 | HM13: 53 | HN13: 93 | HO13: 44 | HP13: 48 | HQ13: 14 | HR13: 15 | HS13: 0 | HT13: 6 | HU13: 241 | HV13: 349 | HW13: 590 | HX13: 196 | HY13: 350 | HZ13: 135 | IA13: 205 | IB13: 115 | IC13: 209 | ID13: 92 | IE13: 208 | IF13: 69 | IG13: 77 | IH13: 32 | II13: 36 | IJ13: 639 | IK13: 1085 | IL13: 1724 | IM13: 43 | IN13: 36 | IO13: 31 | IP13: 31 | IQ13: 0 | IR13: 4 | IS13: 6 | IT13: 14 | IU13: 190 | IV13: 160 | IW13: 270 | IX13: 245 | IY13: 515 | IZ13: 71 | JA13: 86 | JB13: 33 | JC13: 50 | JD13: 1 | JE13: 5 | JF13: 10 | JG13: 6 | JH13: 851 | JI13: 890 | JJ13: 966 | JK13: 1037 | JL13: 2003 | JM13: 16 | JN13: 27 | JO13: 11 | JP13: 15 | JQ13: 2 | JR13: 1 | JS13: 4 | JT13: 10 | JU13: 28 | JV13: 90 | JW13: 61 | JX13: 143 | JY13: 204 | JZ13: 81 | KA13: 118 | KB13: 38 | KC13: 72 | KD13: 1 | KE13: 4 | KF13: 2 | KG13: 6 | KH13: 200 | KI13: 365 | KJ13: 322 | KK13: 565 | KL13: 887 | KM13: 47 | KN13: 23 | KO13: 45 | KP13: 1 | KQ13: 137 | KR13: 129 | KS13: 86 | KT13: 35 | KU13: 182 | KV13: 70 | KW13: 222 | KX13: 175 | KY13: 1036 | KZ13: 39 | LA13: 8 | LB13: 288 | LC13: 206 | LD13: 541
